ncdfFlow 2.16.0 Mike Jiang
Snapshot Date: 2015-10-26 19:24:07 -0400 (Mon, 26 Oct 2015) | URL: https://hedgehog.fhcrc.org/bioconductor/branches/RELEASE_3_2/madman/Rpacks/ncdfFlow | Last Changed Rev: 109589 / Revision: 109947 | Last Changed Date: 2015-10-13 15:36:05 -0400 (Tue, 13 Oct 2015) |
| linux1.bioconductor.org | Linux (Ubuntu 14.04.2 LTS) / x86_64 | OK | OK | OK | | |
windows1.bioconductor.org | Windows Server 2012 R2 Enterprise SP1 (64-bit) / x64 | [ OK ] | OK | OK | OK | |
perceval | Mac OS X Snow Leopard (10.6.8) / x86_64 | OK | OK | OK | OK | |
oaxaca | Mac OS X Mavericks (10.9.5) / x86_64 | OK | OK | OK | OK | |
##############################################################################
##############################################################################
###
### Running command:
###
### C:\cygwin64\bin\curl.exe -O http://linux1.bioconductor.org/BBS/3.2/bioc/src/contrib/ncdfFlow_2.16.0.tar.gz && C:\biocbld\bbs-3.2-bioc\R\bin\R.exe CMD INSTALL --merge-multiarch ncdfFlow_2.16.0.tar.gz && rm ncdfFlow_2.16.0.tar.gz
###
##############################################################################
##############################################################################
% Total % Received % Xferd Average Speed Time Time Time Current
Dload Upload Total Spent Left Speed
0 0 0 0 0 0 0 0 --:--:-- --:--:-- --:--:-- 0
100 3000k 100 3000k 0 0 101M 0 --:--:-- --:--:-- --:--:-- 122M
install for i386
* installing to library 'C:/biocbld/bbs-3.2-bioc/R/library'
* installing *source* package 'ncdfFlow' ...
**********************************************
WARNING: this package has a configure script
It probably needs manual configuration
**********************************************
** libs
cp includeWin/i386/* includeWin/
cp libwin/i386/*.dll .
g++ -m32 -I"C:/biocbld/BBS-3˜1.2-B/R/include" -DNDEBUG -I"C:/biocbld/bbs-3.2-bioc/R/library/Rcpp/include" -I"C:/biocbld/bbs-3.2-bioc/R/library/RcppArmadillo/include" -I"C:/biocbld/bbs-3.2-bioc/R/library/BH/include" -I"d:/RCompile/r-compiling/local/local320/include" -IincludeWin -DWINDOWS -O2 -Wall -mtune=core2 -c RcppExports.cpp -o RcppExports.o
g++ -m32 -I"C:/biocbld/BBS-3˜1.2-B/R/include" -DNDEBUG -I"C:/biocbld/bbs-3.2-bioc/R/library/Rcpp/include" -I"C:/biocbld/bbs-3.2-bioc/R/library/RcppArmadillo/include" -I"C:/biocbld/bbs-3.2-bioc/R/library/BH/include" -I"d:/RCompile/r-compiling/local/local320/include" -IincludeWin -DWINDOWS -O2 -Wall -mtune=core2 -c bitOps.cpp -o bitOps.o
bitOps.cpp: In function 'Rcpp::LogicalVector toLogical(Rcpp::RawVector)':
bitOps.cpp:23:11: warning: unused variable 'nByte' [-Wunused-variable]
gcc -m32 -I"C:/biocbld/BBS-3˜1.2-B/R/include" -DNDEBUG -I"C:/biocbld/bbs-3.2-bioc/R/library/Rcpp/include" -I"C:/biocbld/bbs-3.2-bioc/R/library/RcppArmadillo/include" -I"C:/biocbld/bbs-3.2-bioc/R/library/BH/include" -I"d:/RCompile/r-compiling/local/local320/include" -IincludeWin -DWINDOWS -O3 -Wall -std=gnu99 -mtune=core2 -c hdfFlow.c -o hdfFlow.o
gcc -m32 -I"C:/biocbld/BBS-3˜1.2-B/R/include" -DNDEBUG -I"C:/biocbld/bbs-3.2-bioc/R/library/Rcpp/include" -I"C:/biocbld/bbs-3.2-bioc/R/library/RcppArmadillo/include" -I"C:/biocbld/bbs-3.2-bioc/R/library/BH/include" -I"d:/RCompile/r-compiling/local/local320/include" -IincludeWin -DWINDOWS -O3 -Wall -std=gnu99 -mtune=core2 -c init.c -o init.o
g++ -m32 -I"C:/biocbld/BBS-3˜1.2-B/R/include" -DNDEBUG -I"C:/biocbld/bbs-3.2-bioc/R/library/Rcpp/include" -I"C:/biocbld/bbs-3.2-bioc/R/library/RcppArmadillo/include" -I"C:/biocbld/bbs-3.2-bioc/R/library/BH/include" -I"d:/RCompile/r-compiling/local/local320/include" -IincludeWin -DWINDOWS -O2 -Wall -mtune=core2 -c readFrame.cpp -o readFrame.o
readFrame.cpp: In function 'Rcpp::NumericVector readSlice_cpp(std::string, std::vector<unsigned int, std::allocator<unsigned int> >, unsigned int, unsigned int&)':
readFrame.cpp:140:18: warning: comparison between signed and unsigned integer expressions [-Wsign-compare]
readFrame.cpp:237:19: warning: comparison between signed and unsigned integer expressions [-Wsign-compare]
readFrame.cpp: In function 'Rcpp::S4 readFrame(Rcpp::S4, Rcpp::RObject, Rcpp::RObject, bool)':
readFrame.cpp:379:39: warning: comparison between signed and unsigned integer expressions [-Wsign-compare]
g++ -m32 -shared -s -static-libgcc -o ncdfFlow.dll tmp.def RcppExports.o bitOps.o hdfFlow.o init.o readFrame.o -L. -llibhdf5ForBioC-7 -Ld:/RCompile/r-compiling/local/local320/lib/i386 -Ld:/RCompile/r-compiling/local/local320/lib -LC:/biocbld/BBS-3˜1.2-B/R/bin/i386 -lR
installing to C:/biocbld/bbs-3.2-bioc/R/library/ncdfFlow/libs/i386
** R
** inst
** preparing package for lazy loading
Creating a generic function for 'lapply' from package 'base' in package 'ncdfFlow'
** help
*** installing help indices
** building package indices
** installing vignettes
** testing if installed package can be loaded
install for x64
* installing to library 'C:/biocbld/bbs-3.2-bioc/R/library'
* installing *source* package 'ncdfFlow' ...
**********************************************
WARNING: this package has a configure script
It probably needs manual configuration
**********************************************
** libs
cp includeWin/x64/* includeWin/
cp libwin/x64/*.dll .
g++ -m64 -I"C:/biocbld/BBS-3˜1.2-B/R/include" -DNDEBUG -I"C:/biocbld/bbs-3.2-bioc/R/library/Rcpp/include" -I"C:/biocbld/bbs-3.2-bioc/R/library/RcppArmadillo/include" -I"C:/biocbld/bbs-3.2-bioc/R/library/BH/include" -I"d:/RCompile/r-compiling/local/local320/include" -IincludeWin -DWINDOWS -O2 -Wall -mtune=core2 -c RcppExports.cpp -o RcppExports.o
g++ -m64 -I"C:/biocbld/BBS-3˜1.2-B/R/include" -DNDEBUG -I"C:/biocbld/bbs-3.2-bioc/R/library/Rcpp/include" -I"C:/biocbld/bbs-3.2-bioc/R/library/RcppArmadillo/include" -I"C:/biocbld/bbs-3.2-bioc/R/library/BH/include" -I"d:/RCompile/r-compiling/local/local320/include" -IincludeWin -DWINDOWS -O2 -Wall -mtune=core2 -c bitOps.cpp -o bitOps.o
bitOps.cpp: In function 'Rcpp::LogicalVector toLogical(Rcpp::RawVector)':
bitOps.cpp:23:11: warning: unused variable 'nByte' [-Wunused-variable]
gcc -m64 -I"C:/biocbld/BBS-3˜1.2-B/R/include" -DNDEBUG -I"C:/biocbld/bbs-3.2-bioc/R/library/Rcpp/include" -I"C:/biocbld/bbs-3.2-bioc/R/library/RcppArmadillo/include" -I"C:/biocbld/bbs-3.2-bioc/R/library/BH/include" -I"d:/RCompile/r-compiling/local/local320/include" -IincludeWin -DWINDOWS -O2 -Wall -std=gnu99 -mtune=core2 -c hdfFlow.c -o hdfFlow.o
gcc -m64 -I"C:/biocbld/BBS-3˜1.2-B/R/include" -DNDEBUG -I"C:/biocbld/bbs-3.2-bioc/R/library/Rcpp/include" -I"C:/biocbld/bbs-3.2-bioc/R/library/RcppArmadillo/include" -I"C:/biocbld/bbs-3.2-bioc/R/library/BH/include" -I"d:/RCompile/r-compiling/local/local320/include" -IincludeWin -DWINDOWS -O2 -Wall -std=gnu99 -mtune=core2 -c init.c -o init.o
g++ -m64 -I"C:/biocbld/BBS-3˜1.2-B/R/include" -DNDEBUG -I"C:/biocbld/bbs-3.2-bioc/R/library/Rcpp/include" -I"C:/biocbld/bbs-3.2-bioc/R/library/RcppArmadillo/include" -I"C:/biocbld/bbs-3.2-bioc/R/library/BH/include" -I"d:/RCompile/r-compiling/local/local320/include" -IincludeWin -DWINDOWS -O2 -Wall -mtune=core2 -c readFrame.cpp -o readFrame.o
readFrame.cpp: In function 'Rcpp::NumericVector readSlice_cpp(std::string, std::vector<unsigned int, std::allocator<unsigned int> >, unsigned int, unsigned int&)':
readFrame.cpp:140:18: warning: comparison between signed and unsigned integer expressions [-Wsign-compare]
readFrame.cpp:237:19: warning: comparison between signed and unsigned integer expressions [-Wsign-compare]
g++ -m64 -shared -s -static-libgcc -o ncdfFlow.dll tmp.def RcppExports.o bitOps.o hdfFlow.o init.o readFrame.o -L. -llibhdf5ForBioC-7 -Ld:/RCompile/r-compiling/local/local320/lib/x64 -Ld:/RCompile/r-compiling/local/local320/lib -LC:/biocbld/BBS-3˜1.2-B/R/bin/x64 -lR
installing to C:/biocbld/bbs-3.2-bioc/R/library/ncdfFlow/libs/x64
** testing if installed package can be loaded
* DONE (ncdfFlow)