##############################################################################
##############################################################################
###
### Running command:
###
### /home/biocbuild/bbs-3.2-bioc/R/bin/R CMD build --keep-empty-dirs --no-resave-data facsDorit
###
##############################################################################
##############################################################################
* checking for file ‘facsDorit/DESCRIPTION’ ... OK
* preparing ‘facsDorit’:
* checking DESCRIPTION meta-information ... OK
* checking for LF line-endings in source and make files
* checking for empty or unneeded directories
WARNING: directory ‘facsDorit/vignettes’ is empty
* building ‘facsDorit_1.12.0.tar.gz’