##############################################################################
##############################################################################
###
### Running command:
###
### /home/biocbuild/bbs-3.2-bioc/R/bin/R CMD build --keep-empty-dirs --no-resave-data yeastNagalakshmi
###
##############################################################################
##############################################################################
* checking for file ‘yeastNagalakshmi/DESCRIPTION’ ... OK
* preparing ‘yeastNagalakshmi’:
* checking DESCRIPTION meta-information ... OK
* checking for LF line-endings in source and make files
* checking for empty or unneeded directories
* building ‘yeastNagalakshmi_1.6.0.tar.gz’