Welcome to mirrors.dotsrc.org

All our mirrors of open source software are available via http, https, ftp and an onion service. More information about our mirrors including statistics and contact information is available on our mirror info pages.

For information about dotsrc.org and our other services please go to our website.

Index of /bioconductor/checkResults/3.20/bioc-LATEST/

File Name  ↓ File Size  ↓ Date  ↓ 
Parent directory/--
ZygosityPredictor/-2025-02-03 17:12:36
zitools/-2025-02-03 17:12:36
zlibbioc/-2025-02-03 17:12:36
zellkonverter/-2025-02-03 17:12:36
zenith/-2025-02-03 17:12:36
zFPKM/-2025-02-03 17:12:36
zinbwave/-2025-02-03 17:12:36
yamss/-2025-02-03 17:12:36
YAPSA/-2025-02-03 17:12:36
yarn/-2025-02-03 17:12:36
vissE/-2025-02-03 17:12:35
wavClusteR/-2025-02-03 17:12:35
xcore/-2025-02-03 17:12:35
XNAString/-2025-02-03 17:12:35
vtpnet/-2025-02-03 17:12:35
vsn/-2025-02-03 17:12:35
webbioc/-2025-02-03 17:12:35
widgetTools/-2025-02-03 17:12:35
wppi/-2025-02-03 17:12:35
XVector/-2025-02-03 17:12:35
Wrench/-2025-02-03 17:12:35
wateRmelon/-2025-02-03 17:12:35
Voyager/-2025-02-03 17:12:35
xcms/-2025-02-03 17:12:35
waddR/-2025-02-03 17:12:35
XDE/-2025-02-03 17:12:35
weitrix/-2025-02-03 17:12:35
weaver/-2025-02-03 17:12:35
xmapbridge/-2025-02-03 17:12:35
Xeva/-2025-02-03 17:12:35
vulcan/-2025-02-03 17:12:35
wpm/-2025-02-03 17:12:35
XINA/-2025-02-03 17:12:35
VplotR/-2025-02-03 17:12:35
wiggleplotr/-2025-02-03 17:12:35
vsclust/-2025-02-03 17:12:35
xenLite/-2025-02-03 17:12:35
velociraptor/-2025-02-03 17:12:34
UNDO/-2025-02-03 17:12:34
VennDetail/-2025-02-03 17:12:34
VDJdive/-2025-02-03 17:12:34
VariantTools/-2025-02-03 17:12:34
UniProt.ws/-2025-02-03 17:12:34
VegaMC/-2025-02-03 17:12:34
VisiumIO/-2025-02-03 17:12:34
vbmp/-2025-02-03 17:12:34
VCFArray/-2025-02-03 17:12:34
uSORT/-2025-02-03 17:12:34
VAExprs/-2025-02-03 17:12:34
ViSEAGO/-2025-02-03 17:12:34
UPDhmm/-2025-02-03 17:12:34
VanillaICE/-2025-02-03 17:12:34
VaSP/-2025-02-03 17:12:34
VariantFiltering/-2025-02-03 17:12:34
VarCon/-2025-02-03 17:12:34
VERSO/-2025-02-03 17:12:34
updateObject/-2025-02-03 17:12:34
veloviz/-2025-02-03 17:12:34
viper/-2025-02-03 17:12:34
unifiedWMWqPCR/-2025-02-03 17:12:34
Uniquorn/-2025-02-03 17:12:34
VariantExperiment/-2025-02-03 17:12:34
VariantAnnotation/-2025-02-03 17:12:34
vidger/-2025-02-03 17:12:34
universalmotif/-2025-02-03 17:12:34
variancePartition/-2025-02-03 17:12:34
TypeInfo/-2025-02-03 17:12:33
tRNA/-2025-02-03 17:12:33
tweeDEseq/-2025-02-03 17:12:33
txcutr/-2025-02-03 17:12:33
UMI4Cats/-2025-02-03 17:12:33
txdbmaker/-2025-02-03 17:12:33
ttgsea/-2025-02-03 17:12:33
uncoverappLib/-2025-02-03 17:12:33
tximeta/-2025-02-03 17:12:33
UCSC.utils/-2025-02-03 17:12:33
trigger/-2025-02-03 17:12:33
UCell/-2025-02-03 17:12:33
tximport/-2025-02-03 17:12:33
tRNAscanImport/-2025-02-03 17:12:33
tripr/-2025-02-03 17:12:33
TVTB/-2025-02-03 17:12:33
TSAR/-2025-02-03 17:12:33
triplex/-2025-02-03 17:12:33
tRNAdbImport/-2025-02-03 17:12:33
TurboNorm/-2025-02-03 17:12:33
trio/-2025-02-03 17:12:33
twilight/-2025-02-03 17:12:33
Ularcirc/-2025-02-03 17:12:33
twoddpcr/-2025-02-03 17:12:33
TRONCO/-2025-02-03 17:12:33
TSCAN/-2025-02-03 17:12:33
TTMap/-2025-02-03 17:12:33
tpSVG/-2025-02-03 17:12:32
TreeSummarizedExperiment/-2025-02-03 17:12:32
TrajectoryGeometry/-2025-02-03 17:12:32
transomics2cytoscape/-2025-02-03 17:12:32
Trendy/-2025-02-03 17:12:32
TreeAndLeaf/-2025-02-03 17:12:32
TrajectoryUtils/-2025-02-03 17:12:32
treeclimbR/-2025-02-03 17:12:32
TPP2D/-2025-02-03 17:12:32
TPP/-2025-02-03 17:12:32
traseR/-2025-02-03 17:12:32
transite/-2025-02-03 17:12:32
traviz/-2025-02-03 17:12:32
transcriptogramer/-2025-02-03 17:12:32
tRanslatome/-2025-02-03 17:12:32
tricycle/-2025-02-03 17:12:32
TRESS/-2025-02-03 17:12:32
treeio/-2025-02-03 17:12:32
treekoR/-2025-02-03 17:12:32
trackViewer/-2025-02-03 17:12:32
ToxicoGx/-2025-02-03 17:12:32
TREG/-2025-02-03 17:12:32
transmogR/-2025-02-03 17:12:32
tradeSeq/-2025-02-03 17:12:32
TransView/-2025-02-03 17:12:32
tracktables/-2025-02-03 17:12:32
transformGamPoi/-2025-02-03 17:12:32
transcriptR/-2025-02-03 17:12:32
tomoseqr/-2025-02-03 17:12:31
tidySpatialExperiment/-2025-02-03 17:12:31
topGO/-2025-02-03 17:12:31
TissueEnrich/-2025-02-03 17:12:31
tigre/-2025-02-03 17:12:31
tidySummarizedExperiment/-2025-02-03 17:12:31
TMSig/-2025-02-03 17:12:31
tLOH/-2025-02-03 17:12:31
TIN/-2025-02-03 17:12:31
TnT/-2025-02-03 17:12:31
tidysbml/-2025-02-03 17:12:31
tidySingleCellExperiment/-2025-02-03 17:12:31
TileDBArray/-2025-02-03 17:12:31
timescape/-2025-02-03 17:12:31
TOP/-2025-02-03 17:12:31
tidytof/-2025-02-03 17:12:31
timeOmics/-2025-02-03 17:12:31
tidyomics/-2025-02-03 17:12:31
tomoda/-2025-02-03 17:12:31
tilingArray/-2025-02-03 17:12:31
TMixClust/-2025-02-03 17:12:31
timecourse/-2025-02-03 17:12:31
TOAST/-2025-02-03 17:12:31
topconfects/-2025-02-03 17:12:31
tkWidgets/-2025-02-03 17:12:31
topdownr/-2025-02-03 17:12:31
TitanCNA/-2025-02-03 17:12:31
TCGAbiolinks/-2025-02-03 17:12:30
tadar/-2025-02-03 17:12:30
TEQC/-2025-02-03 17:12:30
TargetDecoy/-2025-02-03 17:12:30
ternarynet/-2025-02-03 17:12:30
TDbasedUFEadv/-2025-02-03 17:12:30
TargetScore/-2025-02-03 17:12:30
TFARM/-2025-02-03 17:12:30
tidyFlowCore/-2025-02-03 17:12:30
tenXplore/-2025-02-03 17:12:30
tidyCoverage/-2025-02-03 17:12:30
tanggle/-2025-02-03 17:12:30
tidybulk/-2025-02-03 17:12:30
TEKRABber/-2025-02-03 17:12:30
TDbasedUFE/-2025-02-03 17:12:30
TENxIO/-2025-02-03 17:12:30
TCseq/-2025-02-03 17:12:30
TargetSearch/-2025-02-03 17:12:30
TBSignatureProfiler/-2025-02-03 17:12:30
TFutils/-2025-02-03 17:12:30
TCC/-2025-02-03 17:12:30
TFEA.ChIP/-2025-02-03 17:12:30
TAPseq/-2025-02-03 17:12:30
terraTCGAdata/-2025-02-03 17:12:30
TCGAutils/-2025-02-03 17:12:30
TADCompare/-2025-02-03 17:12:30
TFBSTools/-2025-02-03 17:12:30
TFHAZ/-2025-02-03 17:12:30
target/-2025-02-03 17:12:30
SummarizedExperiment/-2025-02-03 17:12:29
Summix/-2025-02-03 17:12:29
syntenet/-2025-02-03 17:12:29
SynExtend/-2025-02-03 17:12:29
SwathXtend/-2025-02-03 17:12:29
synlet/-2025-02-03 17:12:29
switchBox/-2025-02-03 17:12:29
survClust/-2025-02-03 17:12:29
SVMDO/-2025-02-03 17:12:29
systemPipeR/-2025-02-03 17:12:29
synapter/-2025-02-03 17:12:29
svaRetro/-2025-02-03 17:12:29
SurfR/-2025-02-03 17:12:29
survtype/-2025-02-03 17:12:29
systemPipeTools/-2025-02-03 17:12:29
SWATH2stats/-2025-02-03 17:12:29
surfaltr/-2025-02-03 17:12:29
supraHex/-2025-02-03 17:12:29
switchde/-2025-02-03 17:12:29
supersigs/-2025-02-03 17:12:29
synapsis/-2025-02-03 17:12:29
sva/-2025-02-03 17:12:29
SynMut/-2025-02-03 17:12:29
survcomp/-2025-02-03 17:12:29
svaNUMT/-2025-02-03 17:12:29
systemPipeShiny/-2025-02-03 17:12:29
synergyfinder/-2025-02-03 17:12:29
swfdr/-2025-02-03 17:12:29
SummarizedBenchmark/-2025-02-03 17:12:28
STATegRa/-2025-02-03 17:12:28
stepNorm/-2025-02-03 17:12:28
Statial/-2025-02-03 17:12:28
staRank/-2025-02-03 17:12:28
StabMap/-2025-02-03 17:12:28
ssviz/-2025-02-03 17:12:28
statTarget/-2025-02-03 17:12:28
structToolbox/-2025-02-03 17:12:28
srnadiff/-2025-02-03 17:12:28
sSNAPPY/-2025-02-03 17:12:28
stJoincount/-2025-02-03 17:12:28
ssize/-2025-02-03 17:12:28
stageR/-2025-02-03 17:12:28
standR/-2025-02-03 17:12:28
StructuralVariantAnnotation/-2025-02-03 17:12:28
sSeq/-2025-02-03 17:12:28
SUITOR/-2025-02-03 17:12:28
SubCellBarCode/-2025-02-03 17:12:28
sscu/-2025-02-03 17:12:28
STRINGdb/-2025-02-03 17:12:28
ssPATHS/-2025-02-03 17:12:28
STdeconvolve/-2025-02-03 17:12:28
struct/-2025-02-03 17:12:28
Structstrings/-2025-02-03 17:12:28
subSeq/-2025-02-03 17:12:28
Streamer/-2025-02-03 17:12:28
ssrch/-2025-02-03 17:12:28
strandCheckR/-2025-02-03 17:12:28
specL/-2025-02-03 17:12:27
spillR/-2025-02-03 17:12:27
SpeCond/-2025-02-03 17:12:27
SPONGE/-2025-02-03 17:12:27
SRAdb/-2025-02-03 17:12:27
sRACIPE/-2025-02-03 17:12:27
SpotSweeper/-2025-02-03 17:12:27
spicyR/-2025-02-03 17:12:27
splineTimeR/-2025-02-03 17:12:27
SpliceWiz/-2025-02-03 17:12:27
SQLDataFrame/-2025-02-03 17:12:27
spikeLI/-2025-02-03 17:12:27
Spectra/-2025-02-03 17:12:27
SplicingFactory/-2025-02-03 17:12:27
spqn/-2025-02-03 17:12:27
splatter/-2025-02-03 17:12:27
splots/-2025-02-03 17:12:27
SpotClean/-2025-02-03 17:12:27
spkTools/-2025-02-03 17:12:27
SPIA/-2025-02-03 17:12:27
SPLINTER/-2025-02-03 17:12:27
SPIAT/-2025-02-03 17:12:27
SpectraQL/-2025-02-03 17:12:27
SplicingGraphs/-2025-02-03 17:12:27
SPEM/-2025-02-03 17:12:27
spiky/-2025-02-03 17:12:27
spoon/-2025-02-03 17:12:27
squallms/-2025-02-03 17:12:27
SpectralTAD/-2025-02-03 17:12:27
SPsimSeq/-2025-02-03 17:12:27
SPOTlight/-2025-02-03 17:12:27
spaSim/-2025-02-03 17:12:26
SparseSignatures/-2025-02-03 17:12:26
soGGi/-2025-02-03 17:12:26
SOMNiBUS/-2025-02-03 17:12:26
SpatialFeatureExperiment/-2025-02-03 17:12:26
SNPRelate/-2025-02-03 17:12:26
Spaniel/-2025-02-03 17:12:26
SomaticSignatures/-2025-02-03 17:12:26
spatzie/-2025-02-03 17:12:26
snm/-2025-02-03 17:12:26
SpacePAC/-2025-02-03 17:12:26
SpatialCPie/-2025-02-03 17:12:26
snifter/-2025-02-03 17:12:26
sparsenetgls/-2025-02-03 17:12:26
sparrow/-2025-02-03 17:12:26
SpaceMarkers/-2025-02-03 17:12:26
spatialHeatmap/-2025-02-03 17:12:26
spatialDE/-2025-02-03 17:12:26
sparseMatrixStats/-2025-02-03 17:12:26
snpStats/-2025-02-03 17:12:26
SpatialDecon/-2025-02-03 17:12:26
SpatialOmicsOverlay/-2025-02-03 17:12:26
speckle/-2025-02-03 17:12:26
SNPediaR/-2025-02-03 17:12:26
SpaNorm/-2025-02-03 17:12:26
SparseArray/-2025-02-03 17:12:26
SNPhood/-2025-02-03 17:12:26
spatialSimGP/-2025-02-03 17:12:26
SpatialExperiment/-2025-02-03 17:12:26
SMITE/-2025-02-03 17:12:25
singscore/-2025-02-03 17:12:25
SingleCellExperiment/-2025-02-03 17:12:25
sitePath/-2025-02-03 17:12:25
SingleCellSignalR/-2025-02-03 17:12:25
SMAD/-2025-02-03 17:12:25
sketchR/-2025-02-03 17:12:25
single/-2025-02-03 17:12:25
sizepower/-2025-02-03 17:12:25
simplifyEnrichment/-2025-02-03 17:12:25
SingleMoleculeFootprinting/-2025-02-03 17:12:25
slalom/-2025-02-03 17:12:25
SiPSiC/-2025-02-03 17:12:25
smartid/-2025-02-03 17:12:25
simPIC/-2025-02-03 17:12:25
simpleSeg/-2025-02-03 17:12:25
skewr/-2025-02-03 17:12:25
SNAGEE/-2025-02-03 17:12:25
singleCellTK/-2025-02-03 17:12:25
simona/-2025-02-03 17:12:25
SingleR/-2025-02-03 17:12:25
sincell/-2025-02-03 17:12:25
slingshot/-2025-02-03 17:12:25
sitadela/-2025-02-03 17:12:25
SLqPCR/-2025-02-03 17:12:25
smoothclust/-2025-02-03 17:12:25
snapcount/-2025-02-03 17:12:25
SIMLR/-2025-02-03 17:12:25
SingleCellAlleleExperiment/-2025-02-03 17:12:25
signeR/-2025-02-03 17:12:24
SigCheck/-2025-02-03 17:12:24
SIMD/-2025-02-03 17:12:24
SimFFPE/-2025-02-03 17:12:24
shinyMethyl/-2025-02-03 17:12:24
signifinder/-2025-02-03 17:12:24
sigsquared/-2025-02-03 17:12:24
SIAMCAT/-2025-02-03 17:12:24
sevenbridges/-2025-02-03 17:12:24
signatureSearch/-2025-02-03 17:12:24
ShortRead/-2025-02-03 17:12:24
SICtools/-2025-02-03 17:12:24
SGCP/-2025-02-03 17:12:24
shinyepico/-2025-02-03 17:12:24
SEtools/-2025-02-03 17:12:24
sights/-2025-02-03 17:12:24
SharedObject/-2025-02-03 17:12:24
SigsPack/-2025-02-03 17:12:24
siggenes/-2025-02-03 17:12:24
SIM/-2025-02-03 17:12:24
SigFuge/-2025-02-03 17:12:24
SGSeq/-2025-02-03 17:12:24
similaRpeak/-2025-02-03 17:12:24
SimBu/-2025-02-03 17:12:24
shiny.gosling/-2025-02-03 17:12:24
sigFeature/-2025-02-03 17:12:24
SIMAT/-2025-02-03 17:12:24
sevenC/-2025-02-03 17:12:24
SDAMS/-2025-02-03 17:12:23
seqPattern/-2025-02-03 17:12:23
SELEX/-2025-02-03 17:12:23
scTreeViz/-2025-02-03 17:12:23
seqTools/-2025-02-03 17:12:23
SeqSQC/-2025-02-03 17:12:23
sechm/-2025-02-03 17:12:23
semisup/-2025-02-03 17:12:23
seqsetvis/-2025-02-03 17:12:23
seqCAT/-2025-02-03 17:12:23
SemDist/-2025-02-03 17:12:23
segmenter/-2025-02-03 17:12:23
seqArchRplus/-2025-02-03 17:12:23
segmentSeq/-2025-02-03 17:12:23
seq2pathway/-2025-02-03 17:12:23
scviR/-2025-02-03 17:12:23
seqcombo/-2025-02-03 17:12:23
seq.hotSPOT/-2025-02-03 17:12:23
SeqVarTools/-2025-02-03 17:12:23
scuttle/-2025-02-03 17:12:23
seqLogo/-2025-02-03 17:12:23
selectKSigs/-2025-02-03 17:12:23
SeqGSEA/-2025-02-03 17:12:23
seqArchR/-2025-02-03 17:12:23
sesame/-2025-02-03 17:12:23
SeqGate/-2025-02-03 17:12:23
scTHI/-2025-02-03 17:12:23
SeqArray/-2025-02-03 17:12:23
seahtrue/-2025-02-03 17:12:23
SCnorm/-2025-02-03 17:12:22
scoup/-2025-02-03 17:12:22
scRepertoire/-2025-02-03 17:12:22
scPCA/-2025-02-03 17:12:22
scMultiSim/-2025-02-03 17:12:22
scReClassify/-2025-02-03 17:12:22
scruff/-2025-02-03 17:12:22
scTensor/-2025-02-03 17:12:22
scry/-2025-02-03 17:12:22
scone/-2025-02-03 17:12:22
scShapes/-2025-02-03 17:12:22
screenCounter/-2025-02-03 17:12:22
scran/-2025-02-03 17:12:22
scRNAseqApp/-2025-02-03 17:12:22
scRecover/-2025-02-03 17:12:22
scMitoMut/-2025-02-03 17:12:22
ScreenR/-2025-02-03 17:12:22
scrapper/-2025-02-03 17:12:22
scMET/-2025-02-03 17:12:22
scp/-2025-02-03 17:12:22
scoreInvHap/-2025-02-03 17:12:22
scPipe/-2025-02-03 17:12:22
SCOPE/-2025-02-03 17:12:22
Sconify/-2025-02-03 17:12:22
scmeth/-2025-02-03 17:12:22
scTGIF/-2025-02-03 17:12:22
scds/-2025-02-03 17:12:21
scBubbletree/-2025-02-03 17:12:21
SCBN/-2025-02-03 17:12:21
scBFA/-2025-02-03 17:12:21
scGPS/-2025-02-03 17:12:21
scDotPlot/-2025-02-03 17:12:21
scDDboost/-2025-02-03 17:12:21
SCFA/-2025-02-03 17:12:21
scCB2/-2025-02-03 17:12:21
scatterHatch/-2025-02-03 17:12:21
scFeatureFilter/-2025-02-03 17:12:21
schex/-2025-02-03 17:12:21
SCArray.sat/-2025-02-03 17:12:21
scater/-2025-02-03 17:12:21
scmap/-2025-02-03 17:12:21
SCArray/-2025-02-03 17:12:21
scDblFinder/-2025-02-03 17:12:21
sccomp/-2025-02-03 17:12:21
scMerge/-2025-02-03 17:12:21
scider/-2025-02-03 17:12:21
scFeatures/-2025-02-03 17:12:21
SCANVIS/-2025-02-03 17:12:21
scClassify/-2025-02-03 17:12:21
scDesign3/-2025-02-03 17:12:21
scDataviz/-2025-02-03 17:12:21
scHOT/-2025-02-03 17:12:21
scifer/-2025-02-03 17:12:21
scDiagnostics/-2025-02-03 17:12:21
scde/-2025-02-03 17:12:21
scDD/-2025-02-03 17:12:21
Rvisdiff/-2025-02-03 17:12:20
sangeranalyseR/-2025-02-03 17:12:20
sampleClassifier/-2025-02-03 17:12:20
safe/-2025-02-03 17:12:20
SBMLR/-2025-02-03 17:12:20
RUVSeq/-2025-02-03 17:12:20
SARC/-2025-02-03 17:12:20
saseR/-2025-02-03 17:12:20
sarks/-2025-02-03 17:12:20
S4Arrays/-2025-02-03 17:12:20
SAIGEgds/-2025-02-03 17:12:20
SANTA/-2025-02-03 17:12:20
scanMiRApp/-2025-02-03 17:12:20
SCAN.UPC/-2025-02-03 17:12:20
satuRn/-2025-02-03 17:12:20
S4Vectors/-2025-02-03 17:12:20
runibic/-2025-02-03 17:12:20
sangerseqR/-2025-02-03 17:12:20
ScaledMatrix/-2025-02-03 17:12:20
sagenhaft/-2025-02-03 17:12:20
Scale4C/-2025-02-03 17:12:20
SamSPECTRAL/-2025-02-03 17:12:20
RUVnormalize/-2025-02-03 17:12:20
RUVcorr/-2025-02-03 17:12:20
scAnnotatR/-2025-02-03 17:12:20
SC3/-2025-02-03 17:12:20
scanMiR/-2025-02-03 17:12:20
rWikiPathways/-2025-02-03 17:12:20
RVS/-2025-02-03 17:12:20
SBGNview/-2025-02-03 17:12:20
Rqc/-2025-02-03 17:12:19
RPA/-2025-02-03 17:12:19
rtracklayer/-2025-02-03 17:12:19
Rtpca/-2025-02-03 17:12:19
RTN/-2025-02-03 17:12:19
RTCGAToolbox/-2025-02-03 17:12:19
rRDP/-2025-02-03 17:12:19
rTRMui/-2025-02-03 17:12:19
RProtoBufLib/-2025-02-03 17:12:19
rprimer/-2025-02-03 17:12:19
RSVSim/-2025-02-03 17:12:19
RTCGA/-2025-02-03 17:12:19
rsbml/-2025-02-03 17:12:19
Rsubread/-2025-02-03 17:12:19
RTNduals/-2025-02-03 17:12:19
rqt/-2025-02-03 17:12:19
RTNsurvival/-2025-02-03 17:12:19
rqubic/-2025-02-03 17:12:19
rScudo/-2025-02-03 17:12:19
rrvgo/-2025-02-03 17:12:19
Rtreemix/-2025-02-03 17:12:19
RTopper/-2025-02-03 17:12:19
rTRM/-2025-02-03 17:12:19
rpx/-2025-02-03 17:12:19
rsemmed/-2025-02-03 17:12:19
RTCA/-2025-02-03 17:12:19
RRHO/-2025-02-03 17:12:19
Rsamtools/-2025-02-03 17:12:19
RSeqAn/-2025-02-03 17:12:19
rSWeeP/-2025-02-03 17:12:19
rmspc/-2025-02-03 17:12:18
RNAdecay/-2025-02-03 17:12:18
rnaseqcomp/-2025-02-03 17:12:18
RolDE/-2025-02-03 17:12:18
ROntoTools/-2025-02-03 17:12:18
RMassBank/-2025-02-03 17:12:18
RNAinteract/-2025-02-03 17:12:18
rnaEditr/-2025-02-03 17:12:18
RNAmodR.AlkAnilineSeq/-2025-02-03 17:12:18
RNAmodR.RiboMethSeq/-2025-02-03 17:12:18
RNAsense/-2025-02-03 17:12:18
ROSeq/-2025-02-03 17:12:18
Rmmquant/-2025-02-03 17:12:18
rols/-2025-02-03 17:12:18
Rnits/-2025-02-03 17:12:18
Rmagpie/-2025-02-03 17:12:18
rmelting/-2025-02-03 17:12:18
ROTS/-2025-02-03 17:12:18
RNAmodR/-2025-02-03 17:12:18
RNAmodR.ML/-2025-02-03 17:12:18
roar/-2025-02-03 17:12:18
RNAAgeCalc/-2025-02-03 17:12:18
RNAseqCovarImpute/-2025-02-03 17:12:18
RnBeads/-2025-02-03 17:12:18
RNASeqPower/-2025-02-03 17:12:18
ROCpAI/-2025-02-03 17:12:18
RnaSeqSampleSize/-2025-02-03 17:12:18
ROC/-2025-02-03 17:12:18
roastgsa/-2025-02-03 17:12:18
ropls/-2025-02-03 17:12:18
Risa/-2025-02-03 17:12:17
rhinotypeR/-2025-02-03 17:12:17
rGREAT/-2025-02-03 17:12:17
rgoslin/-2025-02-03 17:12:17
Rgraphviz/-2025-02-03 17:12:17
RIVER/-2025-02-03 17:12:17
RiboDiPA/-2025-02-03 17:12:17
RGSEA/-2025-02-03 17:12:17
RITAN/-2025-02-03 17:12:17
riboSeqR/-2025-02-03 17:12:17
RiboCrypt/-2025-02-03 17:12:17
ribor/-2025-02-03 17:12:17
RiboProfiling/-2025-02-03 17:12:17
RLMM/-2025-02-03 17:12:17
RJMCMCNucleosomes/-2025-02-03 17:12:17
rifiComparative/-2025-02-03 17:12:17
rhdf5client/-2025-02-03 17:12:17
RImmPort/-2025-02-03 17:12:17
rhdf5filters/-2025-02-03 17:12:17
Rhtslib/-2025-02-03 17:12:17
ribosomeProfilingQC/-2025-02-03 17:12:17
rifi/-2025-02-03 17:12:17
rgsepd/-2025-02-03 17:12:17
RgnTX/-2025-02-03 17:12:17
RLassoCox/-2025-02-03 17:12:17
rhdf5/-2025-02-03 17:12:17
RGraph2js/-2025-02-03 17:12:17
Rhisat2/-2025-02-03 17:12:17
Rhdf5lib/-2025-02-03 17:12:17
RedisParam/-2025-02-03 17:12:16
RepViz/-2025-02-03 17:12:16
ReportingTools/-2025-02-03 17:12:16
regionReport/-2025-02-03 17:12:16
rexposome/-2025-02-03 17:12:16
reconsi/-2025-02-03 17:12:16
recount3/-2025-02-03 17:12:16
regionalpcs/-2025-02-03 17:12:16
recount/-2025-02-03 17:12:16
RESOLVE/-2025-02-03 17:12:16
ResidualMatrix/-2025-02-03 17:12:16
REMP/-2025-02-03 17:12:16
recoup/-2025-02-03 17:12:16
RGMQL/-2025-02-03 17:12:16
regioneReloaded/-2025-02-03 17:12:16
RegEnrich/-2025-02-03 17:12:16
Repitools/-2025-02-03 17:12:16
regutools/-2025-02-03 17:12:16
rGADEM/-2025-02-03 17:12:16
Rfastp/-2025-02-03 17:12:16
RedeR/-2025-02-03 17:12:16
REDseq/-2025-02-03 17:12:16
rGenomeTracks/-2025-02-03 17:12:16
recountmethylation/-2025-02-03 17:12:16
retrofit/-2025-02-03 17:12:16
RegionalST/-2025-02-03 17:12:16
rfPred/-2025-02-03 17:12:16
rfaRm/-2025-02-03 17:12:16
ReUseData/-2025-02-03 17:12:16
regsplice/-2025-02-03 17:12:16
regioneR/-2025-02-03 17:12:16
RCyjs/-2025-02-03 17:12:15
Rcpi/-2025-02-03 17:12:15
RBM/-2025-02-03 17:12:15
RcisTarget/-2025-02-03 17:12:15
REBET/-2025-02-03 17:12:15
RCM/-2025-02-03 17:12:15
ReactomePA/-2025-02-03 17:12:15
Rdisop/-2025-02-03 17:12:15
receptLoss/-2025-02-03 17:12:15
Rcollectl/-2025-02-03 17:12:15
RCy3/-2025-02-03 17:12:15
RCASPAR/-2025-02-03 17:12:15
RCAS/-2025-02-03 17:12:15
RDRToolbox/-2025-02-03 17:12:15
rbsurv/-2025-02-03 17:12:15
rDGIdb/-2025-02-03 17:12:15
rcellminer/-2025-02-03 17:12:15
Rbowtie/-2025-02-03 17:12:15
RCSL/-2025-02-03 17:12:15
rCGH/-2025-02-03 17:12:15
ReactomeGSA/-2025-02-03 17:12:15
ReactomeContentService4R/-2025-02-03 17:12:15
ReadqPCR/-2025-02-03 17:12:15
RcwlPipelines/-2025-02-03 17:12:15
rebook/-2025-02-03 17:12:15
ReactomeGraph4R/-2025-02-03 17:12:15
RCX/-2025-02-03 17:12:15
Rbowtie2/-2025-02-03 17:12:15
Rcwl/-2025-02-03 17:12:15
Rbwa/-2025-02-03 17:12:15
rawrr/-2025-02-03 17:12:14
Rarr/-2025-02-03 17:12:14
rawDiag/-2025-02-03 17:12:14
RbcBook1/-2025-02-03 17:12:14
rBLAST/-2025-02-03 17:12:14
RBioFormats/-2025-02-03 17:12:14
RBGL/-2025-02-03 17:12:14
rBiopaxParser/-2025-02-03 17:12:14
Rbec/-2025-02-03 17:12:14
RAREsim/-2025-02-03 17:12:14
RareVariantVis/-2025-02-03 17:12:14
RankProd/-2025-02-03 17:12:14
RBioinf/-2025-02-03 17:12:14
QTLExperiment/-2025-02-03 17:12:13
RAIDS/-2025-02-03 17:12:13
RandomWalkRestartMH/-2025-02-03 17:12:13
r3Cseq/-2025-02-03 17:12:13
QUBIC/-2025-02-03 17:12:13
qPLEXanalyzer/-2025-02-03 17:12:13
qsea/-2025-02-03 17:12:13
Qtlizer/-2025-02-03 17:12:13
qusage/-2025-02-03 17:12:13
QSutils/-2025-02-03 17:12:13
qsmooth/-2025-02-03 17:12:13
quantiseqr/-2025-02-03 17:12:13
QuartPAC/-2025-02-03 17:12:13
R453Plus1Toolbox/-2025-02-03 17:12:13
quantsmooth/-2025-02-03 17:12:13
ramr/-2025-02-03 17:12:13
qvalue/-2025-02-03 17:12:13
qsvaR/-2025-02-03 17:12:13
raer/-2025-02-03 17:12:13
rain/-2025-02-03 17:12:13
R3CPET/-2025-02-03 17:12:13
randPack/-2025-02-03 17:12:13
R4RNA/-2025-02-03 17:12:13
RadioGx/-2025-02-03 17:12:13
RaggedExperiment/-2025-02-03 17:12:13
quantro/-2025-02-03 17:12:13
QuasR/-2025-02-03 17:12:13
randRotation/-2025-02-03 17:12:13
ramwas/-2025-02-03 17:12:13
QuaternaryProd/-2025-02-03 17:12:13
ProteoMM/-2025-02-03 17:12:12
PRONE/-2025-02-03 17:12:12
psichomics/-2025-02-03 17:12:12
ProteoDisco/-2025-02-03 17:12:12
ptairMS/-2025-02-03 17:12:12
proteinProfiles/-2025-02-03 17:12:12
pwalign/-2025-02-03 17:12:12
ProtGenerics/-2025-02-03 17:12:12
PWMEnrich/-2025-02-03 17:12:12
qckitfastq/-2025-02-03 17:12:12
Pviz/-2025-02-03 17:12:12
qcmetrics/-2025-02-03 17:12:12
Prostar/-2025-02-03 17:12:12
pvca/-2025-02-03 17:12:12
QFeatures/-2025-02-03 17:12:12
qpgraph/-2025-02-03 17:12:12
PSMatch/-2025-02-03 17:12:12
PROPS/-2025-02-03 17:12:12
protGear/-2025-02-03 17:12:12
puma/-2025-02-03 17:12:12
PROMISE/-2025-02-03 17:12:12
QDNAseq/-2025-02-03 17:12:12
qmtools/-2025-02-03 17:12:12
pvac/-2025-02-03 17:12:12
qpcrNorm/-2025-02-03 17:12:12
PureCN/-2025-02-03 17:12:12
PROPER/-2025-02-03 17:12:12
psygenet2r/-2025-02-03 17:12:12
proActiv/-2025-02-03 17:12:11
polyester/-2025-02-03 17:12:11
preciseTAD/-2025-02-03 17:12:11
pRolocGUI/-2025-02-03 17:12:11
pram/-2025-02-03 17:12:11
profileScoreDist/-2025-02-03 17:12:11
POWSC/-2025-02-03 17:12:11
proBAMr/-2025-02-03 17:12:11
PrInCE/-2025-02-03 17:12:11
profileplyr/-2025-02-03 17:12:11
projectR/-2025-02-03 17:12:11
progeny/-2025-02-03 17:12:11
POMA/-2025-02-03 17:12:11
PROcess/-2025-02-03 17:12:11
pRoloc/-2025-02-03 17:12:11
procoil/-2025-02-03 17:12:11
ppcseq/-2025-02-03 17:12:11
proDA/-2025-02-03 17:12:11
primirTSS/-2025-02-03 17:12:11
PoDCall/-2025-02-03 17:12:11
podkat/-2025-02-03 17:12:11
PPInfer/-2025-02-03 17:12:11
preprocessCore/-2025-02-03 17:12:11
pogos/-2025-02-03 17:12:11
PREDA/-2025-02-03 17:12:11
powerTCR/-2025-02-03 17:12:11
prebs/-2025-02-03 17:12:11
PolySTest/-2025-02-03 17:12:11
pqsfinder/-2025-02-03 17:12:11
PICS/-2025-02-03 17:12:10
Pigengene/-2025-02-03 17:12:10
PhyloProfile/-2025-02-03 17:12:10
Pirat/-2025-02-03 17:12:10
plier/-2025-02-03 17:12:10
phyloseq/-2025-02-03 17:12:10
planet/-2025-02-03 17:12:10
plgem/-2025-02-03 17:12:10
planttfhunter/-2025-02-03 17:12:10
plasmut/-2025-02-03 17:12:10
plyranges/-2025-02-03 17:12:10
PING/-2025-02-03 17:12:10
pmp/-2025-02-03 17:12:10
phosphonormalizer/-2025-02-03 17:12:10
PhosR/-2025-02-03 17:12:10
plyxp/-2025-02-03 17:12:10
plotGrouper/-2025-02-03 17:12:10
pipeComp/-2025-02-03 17:12:10
PLSDAbatch/-2025-02-03 17:12:10
piano/-2025-02-03 17:12:10
pmm/-2025-02-03 17:12:10
plyinteractions/-2025-02-03 17:12:10
PIPETS/-2025-02-03 17:12:10
PIUMA/-2025-02-03 17:12:10
pipeFrame/-2025-02-03 17:12:10
pickgene/-2025-02-03 17:12:10
PLPE/-2025-02-03 17:12:10
plotgardener/-2025-02-03 17:12:10
Pi/-2025-02-03 17:12:10
PDATK/-2025-02-03 17:12:09
PepsNMR/-2025-02-03 17:12:09
phenopath/-2025-02-03 17:12:09
PECA/-2025-02-03 17:12:09
pepStat/-2025-02-03 17:12:09
peakPantheR/-2025-02-03 17:12:09
philr/-2025-02-03 17:12:09
PhIPData/-2025-02-03 17:12:09
phantasusLite/-2025-02-03 17:12:09
PharmacoGx/-2025-02-03 17:12:09
PepSetTest/-2025-02-03 17:12:09
pgca/-2025-02-03 17:12:09
peco/-2025-02-03 17:12:09
PCAtools/-2025-02-03 17:12:09
PeacoQC/-2025-02-03 17:12:09
PhenoGeneRanker/-2025-02-03 17:12:09
periodicDNA/-2025-02-03 17:12:09
pengls/-2025-02-03 17:12:09
pepXMLTab/-2025-02-03 17:12:09
pgxRpi/-2025-02-03 17:12:09
PhenStat/-2025-02-03 17:12:09
phenoTest/-2025-02-03 17:12:09
Pedixplorer/-2025-02-03 17:12:09
phantasus/-2025-02-03 17:12:09
phenomis/-2025-02-03 17:12:09
pdInfoBuilder/-2025-02-03 17:12:09
PCAN/-2025-02-03 17:12:09
pfamAnalyzeR/-2025-02-03 17:12:09
pathifier/-2025-02-03 17:12:08
padma/-2025-02-03 17:12:08
pairkat/-2025-02-03 17:12:08
pathRender/-2025-02-03 17:12:08
pathlinkR/-2025-02-03 17:12:08
paxtoolsr/-2025-02-03 17:12:08
pageRank/-2025-02-03 17:12:08
PathNet/-2025-02-03 17:12:08
PANR/-2025-02-03 17:12:08
Path2PPI/-2025-02-03 17:12:08
PAIRADISE/-2025-02-03 17:12:08
pairedGSEA/-2025-02-03 17:12:08
parglms/-2025-02-03 17:12:08
PAST/-2025-02-03 17:12:08
pcaExplorer/-2025-02-03 17:12:08
partCNV/-2025-02-03 17:12:08
PanomiR/-2025-02-03 17:12:08
panp/-2025-02-03 17:12:08
pandaR/-2025-02-03 17:12:08
paircompviz/-2025-02-03 17:12:08
PathoStat/-2025-02-03 17:12:08
pathview/-2025-02-03 17:12:08
pareg/-2025-02-03 17:12:08
panelcn.mops/-2025-02-03 17:12:08
pcaMethods/-2025-02-03 17:12:08
parody/-2025-02-03 17:12:08
PanViz/-2025-02-03 17:12:08
PADOG/-2025-02-03 17:12:08
pathwayPCA/-2025-02-03 17:12:08
OTUbase/-2025-02-03 17:12:07
openCyto/-2025-02-03 17:12:07
oppti/-2025-02-03 17:12:07
ompBAM/-2025-02-03 17:12:07
oncoscanR/-2025-02-03 17:12:07
PAA/-2025-02-03 17:12:07
OncoSimulR/-2025-02-03 17:12:07
ORFhunteR/-2025-02-03 17:12:07
openPrimeR/-2025-02-03 17:12:07
oncomix/-2025-02-03 17:12:07
ORFik/-2025-02-03 17:12:07
optimalFlow/-2025-02-03 17:12:07
OrganismDbi/-2025-02-03 17:12:07
OncoScore/-2025-02-03 17:12:07
oppar/-2025-02-03 17:12:07
orthos/-2025-02-03 17:12:07
OutSplice/-2025-02-03 17:12:07
orthogene/-2025-02-03 17:12:07
OUTRIDER/-2025-02-03 17:12:07
Organism.dplyr/-2025-02-03 17:12:07
packFinder/-2025-02-03 17:12:07
OSAT/-2025-02-03 17:12:07
OrderedList/-2025-02-03 17:12:07
omXplore/-2025-02-03 17:12:07
OPWeight/-2025-02-03 17:12:07
ontoProc/-2025-02-03 17:12:07
onlineFDR/-2025-02-03 17:12:07
Oscope/-2025-02-03 17:12:07
oposSOM/-2025-02-03 17:12:07
OpenStats/-2025-02-03 17:12:07
OVESEG/-2025-02-03 17:12:07
NPARC/-2025-02-03 17:12:06
OLINgui/-2025-02-03 17:12:06
oligo/-2025-02-03 17:12:06
occugene/-2025-02-03 17:12:06
OMICsPCA/-2025-02-03 17:12:06
nucleR/-2025-02-03 17:12:06
octad/-2025-02-03 17:12:06
OmicsMLRepoR/-2025-02-03 17:12:06
npGSEA/-2025-02-03 17:12:06
nuCpos/-2025-02-03 17:12:06
nullranges/-2025-02-03 17:12:06
omicplotR/-2025-02-03 17:12:06
Omixer/-2025-02-03 17:12:06
omicsPrint/-2025-02-03 17:12:06
omicsViewer/-2025-02-03 17:12:06
NTW/-2025-02-03 17:12:06
omicade4/-2025-02-03 17:12:06
normr/-2025-02-03 17:12:06
OmicCircos/-2025-02-03 17:12:06
odseq/-2025-02-03 17:12:06
omicRexposome/-2025-02-03 17:12:06
nucleoSim/-2025-02-03 17:12:06
OGRE/-2025-02-03 17:12:06
OmnipathR/-2025-02-03 17:12:06
NuPoP/-2025-02-03 17:12:06
OLIN/-2025-02-03 17:12:06
OmaDB/-2025-02-03 17:12:06
oligoClasses/-2025-02-03 17:12:06
OCplus/-2025-02-03 17:12:06
omada/-2025-02-03 17:12:06
NoRCE/-2025-02-03 17:12:05
NetSAM/-2025-02-03 17:12:05
netZooR/-2025-02-03 17:12:05
netprioR/-2025-02-03 17:12:05
nnNorm/-2025-02-03 17:12:05
netresponse/-2025-02-03 17:12:05
NormalyzerDE/-2025-02-03 17:12:05
netDx/-2025-02-03 17:12:05
NeuCA/-2025-02-03 17:12:05
NetActivity/-2025-02-03 17:12:05
nethet/-2025-02-03 17:12:05
normalize450K/-2025-02-03 17:12:05
netOmics/-2025-02-03 17:12:05
NetPathMiner/-2025-02-03 17:12:05
nipalsMCIA/-2025-02-03 17:12:05
nearBynding/-2025-02-03 17:12:05
NCIgraph/-2025-02-03 17:12:05
ndexr/-2025-02-03 17:12:05
netSmooth/-2025-02-03 17:12:05
ngsReports/-2025-02-03 17:12:05
NormqPCR/-2025-02-03 17:12:05
nnSVG/-2025-02-03 17:12:05
Nebulosa/-2025-02-03 17:12:05
netboost/-2025-02-03 17:12:05
nempi/-2025-02-03 17:12:05
ncGTW/-2025-02-03 17:12:05
NOISeq/-2025-02-03 17:12:05
ncRNAtools/-2025-02-03 17:12:05
NewWave/-2025-02-03 17:12:05
nondetects/-2025-02-03 17:12:05
nanotatoR/-2025-02-03 17:12:04
mzID/-2025-02-03 17:12:04
NBAMSeq/-2025-02-03 17:12:04
ncdfFlow/-2025-02-03 17:12:04
multiWGCNA/-2025-02-03 17:12:04
musicatk/-2025-02-03 17:12:04
mygene/-2025-02-03 17:12:04
multistateQTL/-2025-02-03 17:12:04
muscat/-2025-02-03 17:12:04
MVCClass/-2025-02-03 17:12:04
MungeSumstats/-2025-02-03 17:12:04
MultiRNAflow/-2025-02-03 17:12:04
NADfinder/-2025-02-03 17:12:04
MWASTools/-2025-02-03 17:12:04
NanoStringDiff/-2025-02-03 17:12:04
NanoTube/-2025-02-03 17:12:04
multtest/-2025-02-03 17:12:04
NanoMethViz/-2025-02-03 17:12:04
NanoStringNCTools/-2025-02-03 17:12:04
mumosa/-2025-02-03 17:12:04
muscle/-2025-02-03 17:12:04
multiMiR/-2025-02-03 17:12:04
MultiMed/-2025-02-03 17:12:04
MutationalPatterns/-2025-02-03 17:12:04
mzR/-2025-02-03 17:12:04
MultimodalExperiment/-2025-02-03 17:12:04
myvariant/-2025-02-03 17:12:04
multiscan/-2025-02-03 17:12:04
multiGSEA/-2025-02-03 17:12:03
MultiBaC/-2025-02-03 17:12:03
MSstatsConvert/-2025-02-03 17:12:03
MSstatsTMT/-2025-02-03 17:12:03
msgbsR/-2025-02-03 17:12:03
MSnbase/-2025-02-03 17:12:03
msqrob2/-2025-02-03 17:12:03
MSstatsBig/-2025-02-03 17:12:03
msPurity/-2025-02-03 17:12:03
MSstatsShiny/-2025-02-03 17:12:03
msImpute/-2025-02-03 17:12:03
MSPrep/-2025-02-03 17:12:03
multicrispr/-2025-02-03 17:12:03
MSstatsLiP/-2025-02-03 17:12:03
mslp/-2025-02-03 17:12:03
MSstatsPTM/-2025-02-03 17:12:03
msmsEDA/-2025-02-03 17:12:03
multiClust/-2025-02-03 17:12:03
Mulcom/-2025-02-03 17:12:03
msmsTests/-2025-02-03 17:12:03
MSstats/-2025-02-03 17:12:03
MultiDataSet/-2025-02-03 17:12:03
MsQuality/-2025-02-03 17:12:03
MSstatsQC/-2025-02-03 17:12:03
MSnID/-2025-02-03 17:12:03
MuData/-2025-02-03 17:12:03
MSstatsQCgui/-2025-02-03 17:12:03
MSstatsLOBD/-2025-02-03 17:12:03
multiHiCcompare/-2025-02-03 17:12:03
MultiAssayExperiment/-2025-02-03 17:12:03
Motif2Site/-2025-02-03 17:12:02
MsFeatures/-2025-02-03 17:12:02
motifbreakR/-2025-02-03 17:12:02
MPFE/-2025-02-03 17:12:02
mosdef/-2025-02-03 17:12:02
MsBackendSql/-2025-02-03 17:12:02
motifcounter/-2025-02-03 17:12:02
MsBackendMgf/-2025-02-03 17:12:02
MsBackendRawFileReader/-2025-02-03 17:12:02
mosbi/-2025-02-03 17:12:02
MsBackendMsp/-2025-02-03 17:12:02
MSA2dist/-2025-02-03 17:12:02
msa/-2025-02-03 17:12:02
MsBackendMetaboLights/-2025-02-03 17:12:02
MPRAnalyze/-2025-02-03 17:12:02
mosaics/-2025-02-03 17:12:02
MPAC/-2025-02-03 17:12:02
MsExperiment/-2025-02-03 17:12:02
MouseFM/-2025-02-03 17:12:02
mpra/-2025-02-03 17:12:02
MOSim/-2025-02-03 17:12:02
MotifDb/-2025-02-03 17:12:02
MsDataHub/-2025-02-03 17:12:02
motifTestR/-2025-02-03 17:12:02
MOSClip/-2025-02-03 17:12:02
MQmetrics/-2025-02-03 17:12:02
MsCoreUtils/-2025-02-03 17:12:02
MsBackendMassbank/-2025-02-03 17:12:02
motifmatchr/-2025-02-03 17:12:02
motifStack/-2025-02-03 17:12:02
MoonlightR/-2025-02-03 17:12:02
mnem/-2025-02-03 17:12:01
MoleculeExperiment/-2025-02-03 17:12:01
miRNAtap/-2025-02-03 17:12:01
miRNApath/-2025-02-03 17:12:01
missMethyl/-2025-02-03 17:12:01
MOFA2/-2025-02-03 17:12:01
MLP/-2025-02-03 17:12:01
monaLisa/-2025-02-03 17:12:01
miRspongeR/-2025-02-03 17:12:01
MLInterfaces/-2025-02-03 17:12:01
ModCon/-2025-02-03 17:12:01
MMDiff2/-2025-02-03 17:12:01
mitch/-2025-02-03 17:12:01
mitoClone2/-2025-02-03 17:12:01
moanin/-2025-02-03 17:12:01
mixOmics/-2025-02-03 17:12:01
mobileRNA/-2025-02-03 17:12:01
miRSM/-2025-02-03 17:12:01
MLSeq/-2025-02-03 17:12:01
mistyR/-2025-02-03 17:12:01
monocle/-2025-02-03 17:12:01
MOMA/-2025-02-03 17:12:01
mirTarRnaSeq/-2025-02-03 17:12:01
Moonlight2R/-2025-02-03 17:12:01
missRows/-2025-02-03 17:12:01
Modstrings/-2025-02-03 17:12:01
mogsa/-2025-02-03 17:12:01
MMUPHin/-2025-02-03 17:12:01
MOGAMUN/-2025-02-03 17:12:01
MODA/-2025-02-03 17:12:01
minet/-2025-02-03 17:12:00
microbiome/-2025-02-03 17:12:00
microbiomeExplorer/-2025-02-03 17:12:00
MIRA/-2025-02-03 17:12:00
miRcomp/-2025-02-03 17:12:00
MICSQTL/-2025-02-03 17:12:00
MiPP/-2025-02-03 17:12:00
microbiomeMarker/-2025-02-03 17:12:00
microRNA/-2025-02-03 17:12:00
miQC/-2025-02-03 17:12:00
miRNAmeConverter/-2025-02-03 17:12:00
MicrobiotaProcess/-2025-02-03 17:12:00
microbiomeDASim/-2025-02-03 17:12:00
MiChip/-2025-02-03 17:12:00
miaViz/-2025-02-03 17:12:00
microSTASIS/-2025-02-03 17:12:00
MicrobiomeProfiler/-2025-02-03 17:12:00
miloR/-2025-02-03 17:12:00
MinimumDistance/-2025-02-03 17:12:00
miRLAB/-2025-02-03 17:12:00
minfi/-2025-02-03 17:12:00
mimager/-2025-02-03 17:12:00
midasHLA/-2025-02-03 17:12:00
mirIntegrator/-2025-02-03 17:12:00
MineICA/-2025-02-03 17:12:00
MiRaGE/-2025-02-03 17:12:00
miRBaseConverter/-2025-02-03 17:12:00
mina/-2025-02-03 17:12:00
MIRit/-2025-02-03 17:12:00
methodical/-2025-02-03 17:11:59
MGFR/-2025-02-03 17:11:59
MGnifyR/-2025-02-03 17:11:59
miaSim/-2025-02-03 17:11:59
MethylAid/-2025-02-03 17:11:59
MetMashR/-2025-02-03 17:11:59
methylMnM/-2025-02-03 17:11:59
methylGSA/-2025-02-03 17:11:59
methylclock/-2025-02-03 17:11:59
methylKit/-2025-02-03 17:11:59
methylCC/-2025-02-03 17:11:59
methylscaper/-2025-02-03 17:11:59
MethylMix/-2025-02-03 17:11:59
methrix/-2025-02-03 17:11:59
methyLImp2/-2025-02-03 17:11:59
MethReg/-2025-02-03 17:11:59
MetID/-2025-02-03 17:11:59
MetNet/-2025-02-03 17:11:59
mgsa/-2025-02-03 17:11:59
MethTargetedNGS/-2025-02-03 17:11:59
MGFM/-2025-02-03 17:11:59
MethylSeekR/-2025-02-03 17:11:59
MethPed/-2025-02-03 17:11:59
methylumi/-2025-02-03 17:11:59
methylSig/-2025-02-03 17:11:59
methylPipe/-2025-02-03 17:11:59
mfa/-2025-02-03 17:11:59
methylInheritance/-2025-02-03 17:11:59
mia/-2025-02-03 17:11:59
Mfuzz/-2025-02-03 17:11:59
MetaboAnnotation/-2025-02-03 17:11:58
messina/-2025-02-03 17:11:58
MetaPhOR/-2025-02-03 17:11:58
metabinR/-2025-02-03 17:11:58
metaSeq/-2025-02-03 17:11:58
MetaboSignal/-2025-02-03 17:11:58
methInheritSim/-2025-02-03 17:11:58
metapone/-2025-02-03 17:11:58
metaMS/-2025-02-03 17:11:58
metabolomicsWorkbenchR/-2025-02-03 17:11:58
metagenomeSeq/-2025-02-03 17:11:58
metaCCA/-2025-02-03 17:11:58
metapod/-2025-02-03 17:11:58
metabomxtr/-2025-02-03 17:11:58
MetCirc/-2025-02-03 17:11:58
Mergeomics/-2025-02-03 17:11:58
metaseqR2/-2025-02-03 17:11:58
metabCombiner/-2025-02-03 17:11:58
metahdep/-2025-02-03 17:11:58
metagene2/-2025-02-03 17:11:58
Melissa/-2025-02-03 17:11:58
MetaCyto/-2025-02-03 17:11:58
MetaNeighbor/-2025-02-03 17:11:58
MeSHDbi/-2025-02-03 17:11:58
methimpute/-2025-02-03 17:11:58
MEIGOR/-2025-02-03 17:11:58
MesKit/-2025-02-03 17:11:58
memes/-2025-02-03 17:11:58
meshr/-2025-02-03 17:11:58
meshes/-2025-02-03 17:11:58
MetaboCoreUtils/-2025-02-03 17:11:58
mCSEA/-2025-02-03 17:11:57
mBPCR/-2025-02-03 17:11:57
MCbiclust/-2025-02-03 17:11:57
MEDIPS/-2025-02-03 17:11:57
MBQN/-2025-02-03 17:11:57
MBCB/-2025-02-03 17:11:57
MBASED/-2025-02-03 17:11:57
MEAL/-2025-02-03 17:11:57
matchBox/-2025-02-03 17:11:57
MBttest/-2025-02-03 17:11:57
MBECS/-2025-02-03 17:11:57
MassSpecWavelet/-2025-02-03 17:11:57
MDTS/-2025-02-03 17:11:57
massiR/-2025-02-03 17:11:57
MEDME/-2025-02-03 17:11:57
mdqc/-2025-02-03 17:11:57
mastR/-2025-02-03 17:11:57
MBAmethyl/-2025-02-03 17:11:57
mbQTL/-2025-02-03 17:11:57
MatrixQCvis/-2025-02-03 17:11:57
matter/-2025-02-03 17:11:57
mdp/-2025-02-03 17:11:57
MAST/-2025-02-03 17:11:57
MEAT/-2025-02-03 17:11:57
megadepth/-2025-02-03 17:11:57
MatrixGenerics/-2025-02-03 17:11:57
MatrixRider/-2025-02-03 17:11:57
MEB/-2025-02-03 17:11:57
MeasurementError.cor/-2025-02-03 17:11:57
mbkmeans/-2025-02-03 17:11:57
marray/-2025-02-03 17:11:56
MANOR/-2025-02-03 17:11:56
MAGeCKFlute/-2025-02-03 17:11:56
mapscape/-2025-02-03 17:11:56
M3Drop/-2025-02-03 17:11:56
maser/-2025-02-03 17:11:56
MAGAR/-2025-02-03 17:11:56
MAIT/-2025-02-03 17:11:56
Macarron/-2025-02-03 17:11:56
Maaslin2/-2025-02-03 17:11:56
maSigPro/-2025-02-03 17:11:56
MassArray/-2025-02-03 17:11:56
MAPFX/-2025-02-03 17:11:56
MADSEQ/-2025-02-03 17:11:56
marr/-2025-02-03 17:11:56
m6Aboost/-2025-02-03 17:11:56
MAI/-2025-02-03 17:11:56
maPredictDSC/-2025-02-03 17:11:56
MantelCorr/-2025-02-03 17:11:56
made4/-2025-02-03 17:11:56
MACSr/-2025-02-03 17:11:56
magrene/-2025-02-03 17:11:56
magpie/-2025-02-03 17:11:56
mariner/-2025-02-03 17:11:56
maCorrPlot/-2025-02-03 17:11:56
M3C/-2025-02-03 17:11:56
maftools/-2025-02-03 17:11:56
martini/-2025-02-03 17:11:56
MACSQuantifyR/-2025-02-03 17:11:56
makecdfenv/-2025-02-03 17:11:56
maskBAD/-2025-02-03 17:11:56
lemur/-2025-02-03 17:11:55
lineagespot/-2025-02-03 17:11:55
logicFS/-2025-02-03 17:11:55
LRBaseDbi/-2025-02-03 17:11:55
lisaClust/-2025-02-03 17:11:55
LRcell/-2025-02-03 17:11:55
LPE/-2025-02-03 17:11:55
LiquidAssociation/-2025-02-03 17:11:55
lute/-2025-02-03 17:11:55
lionessR/-2025-02-03 17:11:55
LymphoSeq/-2025-02-03 17:11:55
LinkHD/-2025-02-03 17:11:55
lumi/-2025-02-03 17:11:55
levi/-2025-02-03 17:11:55
loci2path/-2025-02-03 17:11:55
les/-2025-02-03 17:11:55
limpca/-2025-02-03 17:11:55
LoomExperiment/-2025-02-03 17:11:55
lpsymphony/-2025-02-03 17:11:55
limma/-2025-02-03 17:11:55
limmaGUI/-2025-02-03 17:11:55
LinTInd/-2025-02-03 17:11:55
Linnorm/-2025-02-03 17:11:55
lipidr/-2025-02-03 17:11:55
LOBSTAHS/-2025-02-03 17:11:55
lpNet/-2025-02-03 17:11:55
lmdme/-2025-02-03 17:11:55
lfa/-2025-02-03 17:11:55
LOLA/-2025-02-03 17:11:55
karyoploteR/-2025-02-03 17:11:54
IVAS/-2025-02-03 17:11:54
kebabs/-2025-02-03 17:11:54
katdetectr/-2025-02-03 17:11:54
iterativeBMAsurv/-2025-02-03 17:11:54
IWTomics/-2025-02-03 17:11:54
KEGGlincs/-2025-02-03 17:11:54
ldblock/-2025-02-03 17:11:54
LedPred/-2025-02-03 17:11:54
LACE/-2025-02-03 17:11:54
KBoost/-2025-02-03 17:11:54
kissDE/-2025-02-03 17:11:54
keggorthology/-2025-02-03 17:11:54
iterativeBMA/-2025-02-03 17:11:54
ITALICS/-2025-02-03 17:11:54
LEA/-2025-02-03 17:11:54
kmcut/-2025-02-03 17:11:54
koinar/-2025-02-03 17:11:54
ivygapSE/-2025-02-03 17:11:54
isomiRs/-2025-02-03 17:11:54
KEGGgraph/-2025-02-03 17:11:54
KCsmart/-2025-02-03 17:11:54
LBE/-2025-02-03 17:11:54
KEGGREST/-2025-02-03 17:11:54
knowYourCG/-2025-02-03 17:11:54
KnowSeq/-2025-02-03 17:11:54
lefser/-2025-02-03 17:11:54
KinSwingR/-2025-02-03 17:11:54
lapmix/-2025-02-03 17:11:54
iSEEu/-2025-02-03 17:11:53
interactiveDisplayBase/-2025-02-03 17:11:53
IRanges/-2025-02-03 17:11:53
InterCellar/-2025-02-03 17:11:53
iSEEfier/-2025-02-03 17:11:53
iPAC/-2025-02-03 17:11:53
IsoBayes/-2025-02-03 17:11:53
ISoLDE/-2025-02-03 17:11:53
iSEE/-2025-02-03 17:11:53
iSEEde/-2025-02-03 17:11:53
IsoCorrectoRGUI/-2025-02-03 17:11:53
iSEEindex/-2025-02-03 17:11:53
IntramiRExploreR/-2025-02-03 17:11:53
IPO/-2025-02-03 17:11:53
iPath/-2025-02-03 17:11:53
IONiseR/-2025-02-03 17:11:53
iSEEtree/-2025-02-03 17:11:53
ISAnalytics/-2025-02-03 17:11:53
isobar/-2025-02-03 17:11:53
ipdDb/-2025-02-03 17:11:53
IsoCorrectoR/-2025-02-03 17:11:53
iSEEhub/-2025-02-03 17:11:53
iSeq/-2025-02-03 17:11:53
iSEEpathways/-2025-02-03 17:11:53
ISLET/-2025-02-03 17:11:53
IsoformSwitchAnalyzeR/-2025-02-03 17:11:53
iSEEhex/-2025-02-03 17:11:53
IntEREst/-2025-02-03 17:11:53
infercnv/-2025-02-03 17:11:52
INPower/-2025-02-03 17:11:52
INSPEcT/-2025-02-03 17:11:52
Informeasure/-2025-02-03 17:11:52
IMPCdata/-2025-02-03 17:11:52
imcRtools/-2025-02-03 17:11:52
immunogenViewer/-2025-02-03 17:11:52
IHW/-2025-02-03 17:11:52
intansv/-2025-02-03 17:11:52
iNETgrate/-2025-02-03 17:11:52
interacCircos/-2025-02-03 17:11:52
InPAS/-2025-02-03 17:11:52
immunotation/-2025-02-03 17:11:52
impute/-2025-02-03 17:11:52
illuminaio/-2025-02-03 17:11:52
INTACT/-2025-02-03 17:11:52
InTAD/-2025-02-03 17:11:52
igvShiny/-2025-02-03 17:11:52
ILoReg/-2025-02-03 17:11:52
infinityFlow/-2025-02-03 17:11:52
InteractionSet/-2025-02-03 17:11:52
IMMAN/-2025-02-03 17:11:52
immApex/-2025-02-03 17:11:52
immunoClust/-2025-02-03 17:11:52
InteractiveComplexHeatmap/-2025-02-03 17:11:52
INDEED/-2025-02-03 17:11:52
IMAS/-2025-02-03 17:11:52
interactiveDisplay/-2025-02-03 17:11:52
Icens/-2025-02-03 17:11:51
ideal/-2025-02-03 17:11:51
iBBiG/-2025-02-03 17:11:51
iasva/-2025-02-03 17:11:51
iASeq/-2025-02-03 17:11:51
iCARE/-2025-02-03 17:11:51
iCOBRA/-2025-02-03 17:11:51
iGC/-2025-02-03 17:11:51
hyperdraw/-2025-02-03 17:11:51
IFAA/-2025-02-03 17:11:51
idpr/-2025-02-03 17:11:51
IgGeneUsage/-2025-02-03 17:11:51
icetea/-2025-02-03 17:11:51
iCNV/-2025-02-03 17:11:51
iBMQ/-2025-02-03 17:11:51
iChip/-2025-02-03 17:11:51
iClusterPlus/-2025-02-03 17:11:51
idiogram/-2025-02-03 17:11:51
ibh/-2025-02-03 17:11:51
IdeoViz/-2025-02-03 17:11:51
igvR/-2025-02-03 17:11:51
iCheck/-2025-02-03 17:11:51
hypeR/-2025-02-03 17:11:51
idr2d/-2025-02-03 17:11:51
hypergraph/-2025-02-03 17:11:51
HoloFoodR/-2025-02-03 17:11:50
HilbertVisGUI/-2025-02-03 17:11:50
hpar/-2025-02-03 17:11:50
hicVennDiagram/-2025-02-03 17:11:50
HIPPO/-2025-02-03 17:11:50
HiContacts/-2025-02-03 17:11:50
HybridExpress/-2025-02-03 17:11:50
hipathia/-2025-02-03 17:11:50
hierinf/-2025-02-03 17:11:50
HTSFilter/-2025-02-03 17:11:50
HiLDA/-2025-02-03 17:11:50
HybridMTest/-2025-02-03 17:11:50
hiReadsProcessor/-2025-02-03 17:11:50
HilbertVis/-2025-02-03 17:11:50
HuBMAPR/-2025-02-03 17:11:50
HPiP/-2025-02-03 17:11:50
HiCExperiment/-2025-02-03 17:11:50
HIREewas/-2025-02-03 17:11:50
HilbertCurve/-2025-02-03 17:11:50
hopach/-2025-02-03 17:11:50
HubPub/-2025-02-03 17:11:50
hierGWAS/-2025-02-03 17:11:50
hmdbQuery/-2025-02-03 17:11:50
HTqPCR/-2025-02-03 17:11:50
hummingbird/-2025-02-03 17:11:50
HTSeqGenie/-2025-02-03 17:11:50
hoodscanR/-2025-02-03 17:11:50
HPAanalyze/-2025-02-03 17:11:50
HMMcopy/-2025-02-03 17:11:50
HiCool/-2025-02-03 17:11:50
HiTC/-2025-02-03 17:11:50
HIBAG/-2025-02-03 17:11:49
HicAggR/-2025-02-03 17:11:49
HiCDCPlus/-2025-02-03 17:11:49
hapFabia/-2025-02-03 17:11:49
Herper/-2025-02-03 17:11:49
HGC/-2025-02-03 17:11:49
h5vc/-2025-02-03 17:11:49
HiCcompare/-2025-02-03 17:11:49
Heatplus/-2025-02-03 17:11:49
hermes/-2025-02-03 17:11:49
GWASTools/-2025-02-03 17:11:49
HDTD/-2025-02-03 17:11:49
HELP/-2025-02-03 17:11:49
HiCBricks/-2025-02-03 17:11:49
heatmaps/-2025-02-03 17:11:49
hiAnnotator/-2025-02-03 17:11:49
HERON/-2025-02-03 17:11:49
hca/-2025-02-03 17:11:49
Harman/-2025-02-03 17:11:49
HiCDOC/-2025-02-03 17:11:49
GWENA/-2025-02-03 17:11:49
hdxmsqc/-2025-02-03 17:11:49
gwasurvivr/-2025-02-03 17:11:49
HDF5Array/-2025-02-03 17:11:49
HelloRanges/-2025-02-03 17:11:49
HarmonizR/-2025-02-03 17:11:49
HEM/-2025-02-03 17:11:49
Harshlight/-2025-02-03 17:11:49
gypsum/-2025-02-03 17:11:49
GraphPAC/-2025-02-03 17:11:48
gtrellis/-2025-02-03 17:11:48
GSEABenchmarkeR/-2025-02-03 17:11:48
GSEAlm/-2025-02-03 17:11:48
GSEABase/-2025-02-03 17:11:48
GreyListChIP/-2025-02-03 17:11:48
GSCA/-2025-02-03 17:11:48
Gviz/-2025-02-03 17:11:48
GSgalgoR/-2025-02-03 17:11:48
GSReg/-2025-02-03 17:11:48
gscreend/-2025-02-03 17:11:48
GraphAT/-2025-02-03 17:11:48
GraphAlignment/-2025-02-03 17:11:48
Guitar/-2025-02-03 17:11:48
GWAS.BAYES/-2025-02-03 17:11:48
GSEAmining/-2025-02-03 17:11:48
GSAR/-2025-02-03 17:11:48
GUIDEseq/-2025-02-03 17:11:48
gwascat/-2025-02-03 17:11:48
GSRI/-2025-02-03 17:11:48
GRENITS/-2025-02-03 17:11:48
GSALightning/-2025-02-03 17:11:48
GRmetrics/-2025-02-03 17:11:48
GSVA/-2025-02-03 17:11:48
gsean/-2025-02-03 17:11:48
graphite/-2025-02-03 17:11:48
graph/-2025-02-03 17:11:48
groHMM/-2025-02-03 17:11:48
globaltest/-2025-02-03 17:11:47
GOstats/-2025-02-03 17:11:47
GPA/-2025-02-03 17:11:47
globalSeq/-2025-02-03 17:11:47
goseq/-2025-02-03 17:11:47
GOpro/-2025-02-03 17:11:47
GNET2/-2025-02-03 17:11:47
GNOSIS/-2025-02-03 17:11:47
goSorensen/-2025-02-03 17:11:47
GOTHiC/-2025-02-03 17:11:47
gmoviz/-2025-02-03 17:11:47
GrafGen/-2025-02-03 17:11:47
gpuMagic/-2025-02-03 17:11:47
goSTAG/-2025-02-03 17:11:47
GRaNIE/-2025-02-03 17:11:47
goProfiles/-2025-02-03 17:11:47
GOfuncR/-2025-02-03 17:11:47
gmapR/-2025-02-03 17:11:47
goTools/-2025-02-03 17:11:47
GOexpress/-2025-02-03 17:11:47
GloScope/-2025-02-03 17:11:47
gpls/-2025-02-03 17:11:47
graper/-2025-02-03 17:11:47
granulator/-2025-02-03 17:11:47
GMRP/-2025-02-03 17:11:47
GlobalAncova/-2025-02-03 17:11:47
GOSemSim/-2025-02-03 17:11:47
GmicR/-2025-02-03 17:11:47
ggkegg/-2025-02-03 17:11:46
getDEE2/-2025-02-03 17:11:46
ggseqalign/-2025-02-03 17:11:46
ggmanh/-2025-02-03 17:11:46
glmSparseNet/-2025-02-03 17:11:46
GLAD/-2025-02-03 17:11:46
ginmappeR/-2025-02-03 17:11:46
gep2pep/-2025-02-03 17:11:46
ggtreeSpace/-2025-02-03 17:11:46
ggtreeExtra/-2025-02-03 17:11:46
GEWIST/-2025-02-03 17:11:46
ggtreeDendro/-2025-02-03 17:11:46
Glimma/-2025-02-03 17:11:46
ggcyto/-2025-02-03 17:11:46
gINTomics/-2025-02-03 17:11:46
gg4way/-2025-02-03 17:11:46
GIGSEA/-2025-02-03 17:11:46
GGPA/-2025-02-03 17:11:46
GladiaTOX/-2025-02-03 17:11:46
geva/-2025-02-03 17:11:46
ggsc/-2025-02-03 17:11:46
ggbio/-2025-02-03 17:11:46
ggtree/-2025-02-03 17:11:46
girafe/-2025-02-03 17:11:46
gespeR/-2025-02-03 17:11:46
ggspavis/-2025-02-03 17:11:46
ggmsa/-2025-02-03 17:11:46
glmGamPoi/-2025-02-03 17:11:46
GenomicTuples/-2025-02-03 17:11:45
GEOmetadb/-2025-02-03 17:11:45
GenomeInfoDb/-2025-02-03 17:11:45
genomicInstability/-2025-02-03 17:11:45
GenProSeq/-2025-02-03 17:11:45
GeomxTools/-2025-02-03 17:11:45
GenomicFeatures/-2025-02-03 17:11:45
GEOquery/-2025-02-03 17:11:45
GeoTcgaData/-2025-02-03 17:11:45
GenomicSuperSignature/-2025-02-03 17:11:45
GenomicOZone/-2025-02-03 17:11:45
GenomicRanges/-2025-02-03 17:11:45
GEOfastq/-2025-02-03 17:11:45
GenomicDistributions/-2025-02-03 17:11:45
GenomicScores/-2025-02-03 17:11:45
geomeTriD/-2025-02-03 17:11:45
GEOsubmission/-2025-02-03 17:11:45
genomeIntervals/-2025-02-03 17:11:45
GenomAutomorphism/-2025-02-03 17:11:45
GenomicDataCommons/-2025-02-03 17:11:45
GenVisR/-2025-02-03 17:11:45
GEOexplorer/-2025-02-03 17:11:45
GenomicPlot/-2025-02-03 17:11:45
genomes/-2025-02-03 17:11:45
GenomicInteractions/-2025-02-03 17:11:45
GeoDiff/-2025-02-03 17:11:45
GenomicAlignments/-2025-02-03 17:11:45
GenomicInteractionNodes/-2025-02-03 17:11:45
GenomicFiles/-2025-02-03 17:11:45
genefu/-2025-02-03 17:11:44
GENIE3/-2025-02-03 17:11:44
GeneSelectMMD/-2025-02-03 17:11:44
GeneExpressionSignature/-2025-02-03 17:11:44
GENESIS/-2025-02-03 17:11:44
GeneTonic/-2025-02-03 17:11:44
geneRxCluster/-2025-02-03 17:11:44
geneplast/-2025-02-03 17:11:44
geneRecommender/-2025-02-03 17:11:44
GeneticsPed/-2025-02-03 17:11:44
GeneGA/-2025-02-03 17:11:44
genomation/-2025-02-03 17:11:44
GeneRegionScan/-2025-02-03 17:11:44
geneAttribution/-2025-02-03 17:11:44
geneClassifiers/-2025-02-03 17:11:44
geNetClassifier/-2025-02-03 17:11:44
GeneNetworkBuilder/-2025-02-03 17:11:44
genArise/-2025-02-03 17:11:44
gemma.R/-2025-02-03 17:11:44
GeneOverlap/-2025-02-03 17:11:44
GeneStructureTools/-2025-02-03 17:11:44
GeneMeta/-2025-02-03 17:11:44
geneplotter/-2025-02-03 17:11:44
geneXtendeR/-2025-02-03 17:11:44
genefilter/-2025-02-03 17:11:44
GeneBreak/-2025-02-03 17:11:44
GeneGeneInteR/-2025-02-03 17:11:44
genoCN/-2025-02-03 17:11:44
GARS/-2025-02-03 17:11:43
gDRimport/-2025-02-03 17:11:43
GeDi/-2025-02-03 17:11:43
garfield/-2025-02-03 17:11:43
gcapc/-2025-02-03 17:11:43
gaga/-2025-02-03 17:11:43
GateFinder/-2025-02-03 17:11:43
GEM/-2025-02-03 17:11:43
gatom/-2025-02-03 17:11:43
gCrisprTools/-2025-02-03 17:11:43
gemini/-2025-02-03 17:11:43
gage/-2025-02-03 17:11:43
GA4GHclient/-2025-02-03 17:11:43
gdsfmt/-2025-02-03 17:11:43
FuseSOM/-2025-02-03 17:11:43
gDRstyle/-2025-02-03 17:11:43
GBScleanR/-2025-02-03 17:11:43
gDNAx/-2025-02-03 17:11:43
gDRcore/-2025-02-03 17:11:43
funtooNorm/-2025-02-03 17:11:43
gcatest/-2025-02-03 17:11:43
gcrma/-2025-02-03 17:11:43
GAprediction/-2025-02-03 17:11:43
GA4GHshiny/-2025-02-03 17:11:43
gDR/-2025-02-03 17:11:43
GDCRNATools/-2025-02-03 17:11:43
gDRutils/-2025-02-03 17:11:43
GDSArray/-2025-02-03 17:11:43
funOmics/-2025-02-03 17:11:43
flowViz/-2025-02-03 17:11:42
frenchFISH/-2025-02-03 17:11:42
frma/-2025-02-03 17:11:42
FRGEpistasis/-2025-02-03 17:11:42
flowDensity/-2025-02-03 17:11:42
flowGraph/-2025-02-03 17:11:42
flowStats/-2025-02-03 17:11:42
flowTime/-2025-02-03 17:11:42
flowMeans/-2025-02-03 17:11:42
fmcsR/-2025-02-03 17:11:42
flowGate/-2025-02-03 17:11:42
flowMerge/-2025-02-03 17:11:42
flowMatch/-2025-02-03 17:11:42
flowCyBar/-2025-02-03 17:11:42
flowPlots/-2025-02-03 17:11:42
flowPeaks/-2025-02-03 17:11:42
fmrs/-2025-02-03 17:11:42
FRASER/-2025-02-03 17:11:42
flowFP/-2025-02-03 17:11:42
flowSpecs/-2025-02-03 17:11:42
flowPloidy/-2025-02-03 17:11:42
fobitools/-2025-02-03 17:11:42
flowVS/-2025-02-03 17:11:42
flowWorkspace/-2025-02-03 17:11:42
frmaTools/-2025-02-03 17:11:42
FlowSOM/-2025-02-03 17:11:42
flowTrans/-2025-02-03 17:11:42
flowClust/-2025-02-03 17:11:41
fishpond/-2025-02-03 17:11:41
flowBin/-2025-02-03 17:11:41
findIPs/-2025-02-03 17:11:41
flowClean/-2025-02-03 17:11:41
flagme/-2025-02-03 17:11:41
FitHiC/-2025-02-03 17:11:41
FEAST/-2025-02-03 17:11:41
fedup/-2025-02-03 17:11:41
flowcatchR/-2025-02-03 17:11:41
FELLA/-2025-02-03 17:11:41
FeatSeekR/-2025-02-03 17:11:41
FGNet/-2025-02-03 17:11:41
flowCut/-2025-02-03 17:11:41
FilterFFPE/-2025-02-03 17:11:41
FindIT2/-2025-02-03 17:11:41
flowCore/-2025-02-03 17:11:41
flowBeads/-2025-02-03 17:11:41
flowAI/-2025-02-03 17:11:41
FISHalyseR/-2025-02-03 17:11:41
FLAMES/-2025-02-03 17:11:41
fgga/-2025-02-03 17:11:41
fenr/-2025-02-03 17:11:41
flowCHIC/-2025-02-03 17:11:41
fgsea/-2025-02-03 17:11:41
ffpe/-2025-02-03 17:11:41
fastseg/-2025-02-03 17:11:40
eudysbiome/-2025-02-03 17:11:40
EventPointer/-2025-02-03 17:11:40
ExperimentHubData/-2025-02-03 17:11:40
ExCluster/-2025-02-03 17:11:40
fcScan/-2025-02-03 17:11:40
FamAgg/-2025-02-03 17:11:40
escheR/-2025-02-03 17:11:40
esetVis/-2025-02-03 17:11:40
fCI/-2025-02-03 17:11:40
factDesign/-2025-02-03 17:11:40
ExperimentSubset/-2025-02-03 17:11:40
ExploreModelMatrix/-2025-02-03 17:11:40
ExperimentHub/-2025-02-03 17:11:40
fCCAC/-2025-02-03 17:11:40
faers/-2025-02-03 17:11:40
fastreeR/-2025-02-03 17:11:40
fdrame/-2025-02-03 17:11:40
extraChIPs/-2025-02-03 17:11:40
fabia/-2025-02-03 17:11:40
fastLiquidAssociation/-2025-02-03 17:11:40
evaluomeR/-2025-02-03 17:11:40
ExiMiR/-2025-02-03 17:11:40
famat/-2025-02-03 17:11:40
EWCE/-2025-02-03 17:11:40
ExpressionAtlas/-2025-02-03 17:11:40
factR/-2025-02-03 17:11:40
FastqCleaner/-2025-02-03 17:11:40
erma/-2025-02-03 17:11:39
enrichViewNet/-2025-02-03 17:11:39
epimutacions/-2025-02-03 17:11:39
epigenomix/-2025-02-03 17:11:39
epiregulon/-2025-02-03 17:11:39
epivizrServer/-2025-02-03 17:11:39
erccdashboard/-2025-02-03 17:11:39
EpiCompare/-2025-02-03 17:11:39
epivizr/-2025-02-03 17:11:39
epivizrStandalone/-2025-02-03 17:11:39
epiNEM/-2025-02-03 17:11:39
epigraHMM/-2025-02-03 17:11:39
EpiMix/-2025-02-03 17:11:39
escape/-2025-02-03 17:11:39
EpipwR/-2025-02-03 17:11:39
ERSSA/-2025-02-03 17:11:39
epivizrData/-2025-02-03 17:11:39
ensembldb/-2025-02-03 17:11:39
EnrichmentBrowser/-2025-02-03 17:11:39
epistack/-2025-02-03 17:11:39
EpiDISH/-2025-02-03 17:11:39
epivizrChart/-2025-02-03 17:11:39
esATAC/-2025-02-03 17:11:39
epialleleR/-2025-02-03 17:11:39
epidecodeR/-2025-02-03 17:11:39
EpiTxDb/-2025-02-03 17:11:39
enrichplot/-2025-02-03 17:11:39
epiregulon.extra/-2025-02-03 17:11:39
epistasisGA/-2025-02-03 17:11:39
EBImage/-2025-02-03 17:11:38
EmpiricalBrownsMethod/-2025-02-03 17:11:38
EBarrays/-2025-02-03 17:11:38
ELMER/-2025-02-03 17:11:38
EGAD/-2025-02-03 17:11:38
ecolitk/-2025-02-03 17:11:38
EasyCellType/-2025-02-03 17:11:38
EDASeq/-2025-02-03 17:11:38
EBSeq/-2025-02-03 17:11:38
ENmix/-2025-02-03 17:11:38
EnhancedVolcano/-2025-02-03 17:11:38
enhancerHomologSearch/-2025-02-03 17:11:38
eiR/-2025-02-03 17:11:38
EBSEA/-2025-02-03 17:11:38
EDIRquery/-2025-02-03 17:11:38
easylift/-2025-02-03 17:11:38
EnMCB/-2025-02-03 17:11:38
eds/-2025-02-03 17:11:38
eisaR/-2025-02-03 17:11:38
EnrichDO/-2025-02-03 17:11:38
edge/-2025-02-03 17:11:38
easyRNASeq/-2025-02-03 17:11:38
EnrichedHeatmap/-2025-02-03 17:11:38
easyreporting/-2025-02-03 17:11:38
EGSEA/-2025-02-03 17:11:38
edgeR/-2025-02-03 17:11:38
EMDomics/-2025-02-03 17:11:38
EBcoexpress/-2025-02-03 17:11:38
dupRadar/-2025-02-03 17:11:37
DominoEffect/-2025-02-03 17:11:37
DropletUtils/-2025-02-03 17:11:37
DSS/-2025-02-03 17:11:37
DNABarcodeCompatibility/-2025-02-03 17:11:37
doseR/-2025-02-03 17:11:37
DOSE/-2025-02-03 17:11:37
DMRScan/-2025-02-03 17:11:37
Doscheda/-2025-02-03 17:11:37
doppelgangR/-2025-02-03 17:11:37
DTA/-2025-02-03 17:11:37
DNABarcodes/-2025-02-03 17:11:37
dominoSignal/-2025-02-03 17:11:37
doubletrouble/-2025-02-03 17:11:37
Dune/-2025-02-03 17:11:37
DynDoc/-2025-02-03 17:11:37
easier/-2025-02-03 17:11:37
DNAshapeR/-2025-02-03 17:11:37
dyebias/-2025-02-03 17:11:37
drugTargetInteractions/-2025-02-03 17:11:37
DRIMSeq/-2025-02-03 17:11:37
DriverNet/-2025-02-03 17:11:37
DuplexDiscovereR/-2025-02-03 17:11:37
dreamlet/-2025-02-03 17:11:37
dStruct/-2025-02-03 17:11:37
DNAcopy/-2025-02-03 17:11:37
DrugVsDisease/-2025-02-03 17:11:37
DNAfusion/-2025-02-03 17:11:37
dmrseq/-2025-02-03 17:11:37
drawProteins/-2025-02-03 17:11:37
diggit/-2025-02-03 17:11:36
DMCFB/-2025-02-03 17:11:36
diffcyt/-2025-02-03 17:11:36
DirichletMultinomial/-2025-02-03 17:11:36
dir.expiry/-2025-02-03 17:11:36
divergence/-2025-02-03 17:11:36
DiffLogo/-2025-02-03 17:11:36
DifferentialRegulation/-2025-02-03 17:11:36
DIAlignR/-2025-02-03 17:11:36
distinct/-2025-02-03 17:11:36
diffHic/-2025-02-03 17:11:36
diffcoexp/-2025-02-03 17:11:36
Director/-2025-02-03 17:11:36
dittoSeq/-2025-02-03 17:11:36
dks/-2025-02-03 17:11:36
discordant/-2025-02-03 17:11:36
DiffBind/-2025-02-03 17:11:36
DFplyr/-2025-02-03 17:11:36
DMRcaller/-2025-02-03 17:11:36
diffGeneAnalysis/-2025-02-03 17:11:36
DEXSeq/-2025-02-03 17:11:36
DFP/-2025-02-03 17:11:36
dinoR/-2025-02-03 17:11:36
diffUTR/-2025-02-03 17:11:36
DMCHMM/-2025-02-03 17:11:36
Dino/-2025-02-03 17:11:36
DiscoRhythm/-2025-02-03 17:11:36
diffuStats/-2025-02-03 17:11:36
DMRcate/-2025-02-03 17:11:36
DEWSeq/-2025-02-03 17:11:35
DelayedArray/-2025-02-03 17:11:35
DelayedMatrixStats/-2025-02-03 17:11:35
DEScan2/-2025-02-03 17:11:35
DeMAND/-2025-02-03 17:11:35
derfinder/-2025-02-03 17:11:35
DEP/-2025-02-03 17:11:35
DeMixT/-2025-02-03 17:11:35
DELocal/-2025-02-03 17:11:35
deltaCaptureC/-2025-02-03 17:11:35
densvis/-2025-02-03 17:11:35
DEqMS/-2025-02-03 17:11:35
DelayedDataFrame/-2025-02-03 17:11:35
DelayedRandomArray/-2025-02-03 17:11:35
DEGseq/-2025-02-03 17:11:35
destiny/-2025-02-03 17:11:35
DExMA/-2025-02-03 17:11:35
derfinderPlot/-2025-02-03 17:11:35
deltaGseg/-2025-02-03 17:11:35
DEsubs/-2025-02-03 17:11:35
DEsingle/-2025-02-03 17:11:35
derfinderHelper/-2025-02-03 17:11:35
DepInfeR/-2025-02-03 17:11:35
demuxmix/-2025-02-03 17:11:35
DepecheR/-2025-02-03 17:11:35
DelayedTensor/-2025-02-03 17:11:35
demuxSNP/-2025-02-03 17:11:35
DESeq2/-2025-02-03 17:11:35
DESpace/-2025-02-03 17:11:35
DeProViR/-2025-02-03 17:11:35
DART/-2025-02-03 17:11:34
DEFormats/-2025-02-03 17:11:34
decontam/-2025-02-03 17:11:34
DeepPINCS/-2025-02-03 17:11:34
decontX/-2025-02-03 17:11:34
DeepTarget/-2025-02-03 17:11:34
DAPAR/-2025-02-03 17:11:34
DEGraph/-2025-02-03 17:11:34
ddPCRclust/-2025-02-03 17:11:34
Damsel/-2025-02-03 17:11:34
debrowser/-2025-02-03 17:11:34
dce/-2025-02-03 17:11:34
dcanr/-2025-02-03 17:11:34
deepSNV/-2025-02-03 17:11:34
decompTumor2Sig/-2025-02-03 17:11:34
debCAM/-2025-02-03 17:11:34
dar/-2025-02-03 17:11:34
DCATS/-2025-02-03 17:11:34
deconvR/-2025-02-03 17:11:34
DeconRNASeq/-2025-02-03 17:11:34
decoupleR/-2025-02-03 17:11:34
DaMiRseq/-2025-02-03 17:11:34
DECIPHER/-2025-02-03 17:11:34
DegCre/-2025-02-03 17:11:34
DEGreport/-2025-02-03 17:11:34
DAMEfinder/-2025-02-03 17:11:34
DegNorm/-2025-02-03 17:11:34
ddCt/-2025-02-03 17:11:34
dcGSA/-2025-02-03 17:11:34
dearseq/-2025-02-03 17:11:34
daMA/-2025-02-03 17:11:33
cydar/-2025-02-03 17:11:33
CytoMDS/-2025-02-03 17:11:33
customProDB/-2025-02-03 17:11:33
cytomapper/-2025-02-03 17:11:33
cTRAP/-2025-02-03 17:11:33
dagLogo/-2025-02-03 17:11:33
cytoviewer/-2025-02-03 17:11:33
CytoML/-2025-02-03 17:11:33
cytolib/-2025-02-03 17:11:33
CytoPipeline/-2025-02-03 17:11:33
cycle/-2025-02-03 17:11:33
cypress/-2025-02-03 17:11:33
ctsGE/-2025-02-03 17:11:33
cytofQC/-2025-02-03 17:11:33
CTexploreR/-2025-02-03 17:11:33
CTDquerier/-2025-02-03 17:11:33
CyTOFpower/-2025-02-03 17:11:33
customCMPdb/-2025-02-03 17:11:33
cummeRbund/-2025-02-03 17:11:33
CuratedAtlasQueryR/-2025-02-03 17:11:33
CytoPipelineGUI/-2025-02-03 17:11:33
CytoGLMM/-2025-02-03 17:11:33
cytoKernel/-2025-02-03 17:11:33
cyanoFilter/-2025-02-03 17:11:33
dada2/-2025-02-03 17:11:33
cytoMEM/-2025-02-03 17:11:33
CytoDx/-2025-02-03 17:11:33
CTSV/-2025-02-03 17:11:33
crisprBowtie/-2025-02-03 17:11:32
crossmeta/-2025-02-03 17:11:32
crisprViz/-2025-02-03 17:11:32
CTdata/-2025-02-03 17:11:32
crisprScore/-2025-02-03 17:11:32
countsimQC/-2025-02-03 17:11:32
ctc/-2025-02-03 17:11:32
CRISPRseek/-2025-02-03 17:11:32
csaw/-2025-02-03 17:11:32
crisprShiny/-2025-02-03 17:11:32
CoverageView/-2025-02-03 17:11:32
CSSQ/-2025-02-03 17:11:32
CrispRVariants/-2025-02-03 17:11:32
COSNet/-2025-02-03 17:11:32
CRISPRball/-2025-02-03 17:11:32
CRImage/-2025-02-03 17:11:32
crisprBwa/-2025-02-03 17:11:32
covRNA/-2025-02-03 17:11:32
cpvSNP/-2025-02-03 17:11:32
cosmosR/-2025-02-03 17:11:32
CSAR/-2025-02-03 17:11:32
covEB/-2025-02-03 17:11:32
csdR/-2025-02-03 17:11:32
crlmm/-2025-02-03 17:11:32
cqn/-2025-02-03 17:11:32
crisprVerse/-2025-02-03 17:11:32
COTAN/-2025-02-03 17:11:32
crisprBase/-2025-02-03 17:11:32
crisprDesign/-2025-02-03 17:11:32
concordexR/-2025-02-03 17:11:31
coRdon/-2025-02-03 17:11:31
cosmiq/-2025-02-03 17:11:31
CoSIA/-2025-02-03 17:11:31
CONSTANd/-2025-02-03 17:11:31
compSPOT/-2025-02-03 17:11:31
consensusDE/-2025-02-03 17:11:31
corral/-2025-02-03 17:11:31
ComPrAn/-2025-02-03 17:11:31
coMethDMR/-2025-02-03 17:11:31
convert/-2025-02-03 17:11:31
compcodeR/-2025-02-03 17:11:31
condiments/-2025-02-03 17:11:31
consensusSeekeR/-2025-02-03 17:11:31
CompoundDb/-2025-02-03 17:11:31
consensusOV/-2025-02-03 17:11:31
CoreGx/-2025-02-03 17:11:31
copa/-2025-02-03 17:11:31
CONFESS/-2025-02-03 17:11:31
Cormotif/-2025-02-03 17:11:31
COMPASS/-2025-02-03 17:11:31
CopyNumberPlots/-2025-02-03 17:11:31
conumee/-2025-02-03 17:11:31
ConsensusClusterPlus/-2025-02-03 17:11:31
consensus/-2025-02-03 17:11:31
consICA/-2025-02-03 17:11:31
coseq/-2025-02-03 17:11:31
ComplexHeatmap/-2025-02-03 17:11:31
compEpiTools/-2025-02-03 17:11:31
CNORdt/-2025-02-03 17:11:30
CODEX/-2025-02-03 17:11:30
CNVfilteR/-2025-02-03 17:11:30
cn.farms/-2025-02-03 17:11:30
cogena/-2025-02-03 17:11:30
coGPS/-2025-02-03 17:11:30
CNViz/-2025-02-03 17:11:30
CNAnorm/-2025-02-03 17:11:30
COCOA/-2025-02-03 17:11:30
cn.mops/-2025-02-03 17:11:30
cnvGSA/-2025-02-03 17:11:30
CNORfeeder/-2025-02-03 17:11:30
comapr/-2025-02-03 17:11:30
cola/-2025-02-03 17:11:30
CNVrd2/-2025-02-03 17:11:30
CNVMetrics/-2025-02-03 17:11:30
cmapR/-2025-02-03 17:11:30
CNTools/-2025-02-03 17:11:30
combi/-2025-02-03 17:11:30
coMET/-2025-02-03 17:11:30
CNORfuzzy/-2025-02-03 17:11:30
CoGAPS/-2025-02-03 17:11:30
CoCiteStats/-2025-02-03 17:11:30
CNVPanelizer/-2025-02-03 17:11:30
Cogito/-2025-02-03 17:11:30
CNORode/-2025-02-03 17:11:30
cogeqc/-2025-02-03 17:11:30
codelink/-2025-02-03 17:11:30
CNVRanger/-2025-02-03 17:11:30
CNEr/-2025-02-03 17:11:30
clusterStab/-2025-02-03 17:11:29
clipper/-2025-02-03 17:11:29
CluMSID/-2025-02-03 17:11:29
ClusterJudge/-2025-02-03 17:11:29
Clomial/-2025-02-03 17:11:29
cleaver/-2025-02-03 17:11:29
cliProfiler/-2025-02-03 17:11:29
clusterProfiler/-2025-02-03 17:11:29
CMA/-2025-02-03 17:11:29
clippda/-2025-02-03 17:11:29
clevRvis/-2025-02-03 17:11:29
CiteFuse/-2025-02-03 17:11:29
ClustIRR/-2025-02-03 17:11:29
cliqueMS/-2025-02-03 17:11:29
ClassifyR/-2025-02-03 17:11:29
CircSeqAlignTk/-2025-02-03 17:11:29
cisPath/-2025-02-03 17:11:29
clustComp/-2025-02-03 17:11:29
clustifyr/-2025-02-03 17:11:29
cleanUpdTSeq/-2025-02-03 17:11:29
clst/-2025-02-03 17:11:29
clstutils/-2025-02-03 17:11:29
circRNAprofiler/-2025-02-03 17:11:29
CleanUpRNAseq/-2025-02-03 17:11:29
ClusterSignificance/-2025-02-03 17:11:29
ClustAll/-2025-02-03 17:11:29
clusterExperiment/-2025-02-03 17:11:29
ClusterFoldSimilarity/-2025-02-03 17:11:29
clusterSeq/-2025-02-03 17:11:29
ChIPanalyser/-2025-02-03 17:11:28
ChemmineOB/-2025-02-03 17:11:28
chromPlot/-2025-02-03 17:11:28
chromstaR/-2025-02-03 17:11:28
chipseq/-2025-02-03 17:11:28
ChemmineR/-2025-02-03 17:11:28
chromDraw/-2025-02-03 17:11:28
CHRONOS/-2025-02-03 17:11:28
chopsticks/-2025-02-03 17:11:28
chimeraviz/-2025-02-03 17:11:28
ChIPseqR/-2025-02-03 17:11:28
ChIPseeker/-2025-02-03 17:11:28
ChromHeatMap/-2025-02-03 17:11:28
ChIPpeakAnno/-2025-02-03 17:11:28
ChIPXpress/-2025-02-03 17:11:28
ChIPComp/-2025-02-03 17:11:28
CIMICE/-2025-02-03 17:11:28
chihaya/-2025-02-03 17:11:28
CINdex/-2025-02-03 17:11:28
ChromSCape/-2025-02-03 17:11:28
cicero/-2025-02-03 17:11:28
chipenrich/-2025-02-03 17:11:28
ChIPexoQual/-2025-02-03 17:11:28
CHETAH/-2025-02-03 17:11:28
ChAMP/-2025-02-03 17:11:28
chromVAR/-2025-02-03 17:11:28
ChIPQC/-2025-02-03 17:11:28
Chicago/-2025-02-03 17:11:28
ChIPsim/-2025-02-03 17:11:28
CellBench/-2025-02-03 17:11:27
CellTrails/-2025-02-03 17:11:27
cellbaseR/-2025-02-03 17:11:27
cellscape/-2025-02-03 17:11:27
CFAssay/-2025-02-03 17:11:27
cellxgenedp/-2025-02-03 17:11:27
cellity/-2025-02-03 17:11:27
Cepo/-2025-02-03 17:11:27
CellBarcode/-2025-02-03 17:11:27
CellNOptR/-2025-02-03 17:11:27
cfTools/-2025-02-03 17:11:27
CGHnormaliter/-2025-02-03 17:11:27
CeTF/-2025-02-03 17:11:27
CellMixS/-2025-02-03 17:11:27
CellMapper/-2025-02-03 17:11:27
cfdnakit/-2025-02-03 17:11:27
cghMCR/-2025-02-03 17:11:27
CGEN/-2025-02-03 17:11:27
censcyt/-2025-02-03 17:11:27
CGHbase/-2025-02-03 17:11:27
ceRNAnetsim/-2025-02-03 17:11:27
CellaRepertorium/-2025-02-03 17:11:27
cfDNAPro/-2025-02-03 17:11:27
CellScore/-2025-02-03 17:11:27
CexoR/-2025-02-03 17:11:27
CelliD/-2025-02-03 17:11:27
cellmigRation/-2025-02-03 17:11:27
CGHregions/-2025-02-03 17:11:27
CEMiTool/-2025-02-03 17:11:27
CGHcall/-2025-02-03 17:11:27
celda/-2025-02-03 17:11:26
Category/-2025-02-03 17:11:26
ccmap/-2025-02-03 17:11:26
cBioPortalData/-2025-02-03 17:11:26
CCPROMISE/-2025-02-03 17:11:26
calm/-2025-02-03 17:11:26
ccImpute/-2025-02-03 17:11:26
cancerclass/-2025-02-03 17:11:26
CAMERA/-2025-02-03 17:11:26
cbaf/-2025-02-03 17:11:26
canceR/-2025-02-03 17:11:26
Cardinal/-2025-02-03 17:11:26
CBNplot/-2025-02-03 17:11:26
CatsCradle/-2025-02-03 17:11:26
CardinalIO/-2025-02-03 17:11:26
cbpManager/-2025-02-03 17:11:26
categoryCompare/-2025-02-03 17:11:26
CCPlotR/-2025-02-03 17:11:26
cardelino/-2025-02-03 17:11:26
CBEA/-2025-02-03 17:11:26
CausalR/-2025-02-03 17:11:26
ccrepe/-2025-02-03 17:11:26
CATALYST/-2025-02-03 17:11:26
ccfindR/-2025-02-03 17:11:26
CaMutQC/-2025-02-03 17:11:26
casper/-2025-02-03 17:11:26
CDI/-2025-02-03 17:11:26
celaref/-2025-02-03 17:11:26
CARNIVAL/-2025-02-03 17:11:26
BRGenomics/-2025-02-03 17:11:25
CAGEr/-2025-02-03 17:11:25
brainflowprobes/-2025-02-03 17:11:25
CAEN/-2025-02-03 17:11:25
BSgenomeForge/-2025-02-03 17:11:25
branchpointer/-2025-02-03 17:11:25
BUSseq/-2025-02-03 17:11:25
bumphunter/-2025-02-03 17:11:25
BrowserViz/-2025-02-03 17:11:25
BUMHMM/-2025-02-03 17:11:25
BSgenome/-2025-02-03 17:11:25
CaDrA/-2025-02-03 17:11:25
CAFE/-2025-02-03 17:11:25
BubbleTree/-2025-02-03 17:11:25
broadSeq/-2025-02-03 17:11:25
brendaDb/-2025-02-03 17:11:25
BridgeDbR/-2025-02-03 17:11:25
BRAIN/-2025-02-03 17:11:25
bsseq/-2025-02-03 17:11:25
bugsigdbr/-2025-02-03 17:11:25
CAGEfightR/-2025-02-03 17:11:25
BufferedMatrix/-2025-02-03 17:11:25
BufferedMatrixMethods/-2025-02-03 17:11:25
BumpyMatrix/-2025-02-03 17:11:25
BUSpaRse/-2025-02-03 17:11:25
BUS/-2025-02-03 17:11:25
BREW3R.r/-2025-02-03 17:11:25
cageminer/-2025-02-03 17:11:25
breakpointR/-2025-02-03 17:11:25
BUScorrect/-2025-02-03 17:11:25
BioGA/-2025-02-03 17:11:24
BOBaFIT/-2025-02-03 17:11:24
BiSeq/-2025-02-03 17:11:24
BiRewire/-2025-02-03 17:11:24
blima/-2025-02-03 17:11:24
BioNERO/-2025-02-03 17:11:24
BioNet/-2025-02-03 17:11:24
biotmle/-2025-02-03 17:11:24
BLMA/-2025-02-03 17:11:24
borealis/-2025-02-03 17:11:24
Biostrings/-2025-02-03 17:11:24
biosigner/-2025-02-03 17:11:24
biomformat/-2025-02-03 17:11:24
biodbUniprot/-2025-02-03 17:11:24
biscuiteer/-2025-02-03 17:11:24
biovizBase/-2025-02-03 17:11:24
bnem/-2025-02-03 17:11:24
BioQC/-2025-02-03 17:11:24
biomvRCNS/-2025-02-03 17:11:24
biomaRt/-2025-02-03 17:11:24
BioNAR/-2025-02-03 17:11:24
bluster/-2025-02-03 17:11:24
bioDist/-2025-02-03 17:11:24
blacksheepr/-2025-02-03 17:11:24
BioMVCClass/-2025-02-03 17:11:24
BPRMeth/-2025-02-03 17:11:24
BloodGen3Module/-2025-02-03 17:11:24
BioTIP/-2025-02-03 17:11:24
bnbc/-2025-02-03 17:11:24
BiocSet/-2025-02-03 17:11:23
biocthis/-2025-02-03 17:11:23
BiocIO/-2025-02-03 17:11:23
biodbKegg/-2025-02-03 17:11:23
biodbNcbi/-2025-02-03 17:11:23
biodbHmdb/-2025-02-03 17:11:23
BiocSingular/-2025-02-03 17:11:23
BiocParallel/-2025-02-03 17:11:23
BiocHail/-2025-02-03 17:11:23
BiocHubsShiny/-2025-02-03 17:11:23
biodbNci/-2025-02-03 17:11:23
BiocSklearn/-2025-02-03 17:11:23
biocViews/-2025-02-03 17:11:23
BiocStyle/-2025-02-03 17:11:23
biodbExpasy/-2025-02-03 17:11:23
BiocOncoTK/-2025-02-03 17:11:23
biocroxytest/-2025-02-03 17:11:23
BioCor/-2025-02-03 17:11:23
BiocVersion/-2025-02-03 17:11:23
biodb/-2025-02-03 17:11:23
BiocNeighbors/-2025-02-03 17:11:23
BiocPkgTools/-2025-02-03 17:11:23
BiocWorkflowTools/-2025-02-03 17:11:23
biodbChebi/-2025-02-03 17:11:23
BicARE/-2025-02-03 17:11:22
BindingSiteFinder/-2025-02-03 17:11:22
BiocBook/-2025-02-03 17:11:22
Biobase/-2025-02-03 17:11:22
BiocFHIR/-2025-02-03 17:11:22
beer/-2025-02-03 17:11:22
BioCartaImage/-2025-02-03 17:11:22
BiocBaseUtils/-2025-02-03 17:11:22
bgx/-2025-02-03 17:11:22
BiGGR/-2025-02-03 17:11:22
bioassayR/-2025-02-03 17:11:22
BiFET/-2025-02-03 17:11:22
BEAT/-2025-02-03 17:11:22
BG2/-2025-02-03 17:11:22
BEARscc/-2025-02-03 17:11:22
BiocGenerics/-2025-02-03 17:11:22
benchdamic/-2025-02-03 17:11:22
bioCancer/-2025-02-03 17:11:22
bigmelon/-2025-02-03 17:11:22
BERT/-2025-02-03 17:11:22
BEclear/-2025-02-03 17:11:22
BgeeCall/-2025-02-03 17:11:22
biobroom/-2025-02-03 17:11:22
betaHMM/-2025-02-03 17:11:22
BiocFileCache/-2025-02-03 17:11:22
biobtreeR/-2025-02-03 17:11:22
BiocCheck/-2025-02-03 17:11:22
BgeeDB/-2025-02-03 17:11:22
bettr/-2025-02-03 17:11:22
biocGraph/-2025-02-03 17:11:22
bcSeq/-2025-02-03 17:11:21
beachmat.hdf5/-2025-02-03 17:11:21
barcodetrackR/-2025-02-03 17:11:21
BBCAnalyzer/-2025-02-03 17:11:21
bayNorm/-2025-02-03 17:11:21
batchelor/-2025-02-03 17:11:21
baySeq/-2025-02-03 17:11:21
BCRANK/-2025-02-03 17:11:21
beadarray/-2025-02-03 17:11:21
BaseSpaceR/-2025-02-03 17:11:21
bandle/-2025-02-03 17:11:21
bambu/-2025-02-03 17:11:21
BadRegionFinder/-2025-02-03 17:11:21
basilisk/-2025-02-03 17:11:21
BASiCS/-2025-02-03 17:11:21
BayesSpace/-2025-02-03 17:11:21
BayesKnockdown/-2025-02-03 17:11:21
ballgown/-2025-02-03 17:11:21
Basic4Cseq/-2025-02-03 17:11:21
bamsignals/-2025-02-03 17:11:21
beachmat/-2025-02-03 17:11:21
basilisk.utils/-2025-02-03 17:11:21
BAGS/-2025-02-03 17:11:21
Banksy/-2025-02-03 17:11:21
banocc/-2025-02-03 17:11:21
BANDITS/-2025-02-03 17:11:21
BasicSTARRseq/-2025-02-03 17:11:21
BASiCStan/-2025-02-03 17:11:21
BatchQC/-2025-02-03 17:11:21
basecallQC/-2025-02-03 17:11:21
BeadDataPackR/-2025-02-03 17:11:21
atena/-2025-02-03 17:11:20
ASICS/-2025-02-03 17:11:20
atSNP/-2025-02-03 17:11:20
ASAFE/-2025-02-03 17:11:20
AssessORF/-2025-02-03 17:11:20
ASURAT/-2025-02-03 17:11:20
ASEB/-2025-02-03 17:11:20
ASpli/-2025-02-03 17:11:20
ARRmNormalization/-2025-02-03 17:11:20
ASGSCA/-2025-02-03 17:11:20
arrayQuality/-2025-02-03 17:11:20
artMS/-2025-02-03 17:11:20
awst/-2025-02-03 17:11:20
ATACseqQC/-2025-02-03 17:11:20
AWFisher/-2025-02-03 17:11:20
attract/-2025-02-03 17:11:20
arrayQualityMetrics/-2025-02-03 17:11:20
ASSET/-2025-02-03 17:11:20
AUCell/-2025-02-03 17:11:20
ASSIGN/-2025-02-03 17:11:20
BaalChIP/-2025-02-03 17:11:20
assorthead/-2025-02-03 17:11:20
autonomics/-2025-02-03 17:11:20
ATACCoGAPS/-2025-02-03 17:11:20
ArrayExpress/-2025-02-03 17:11:20
arrayMvout/-2025-02-03 17:11:20
bacon/-2025-02-03 17:11:20
ATACseqTFEA/-2025-02-03 17:11:20
BADER/-2025-02-03 17:11:20
animalcules/-2025-02-03 17:11:19
AnVILAz/-2025-02-03 17:11:19
AneuFinder/-2025-02-03 17:11:19
anota2seq/-2025-02-03 17:11:19
anota/-2025-02-03 17:11:19
appreci8R/-2025-02-03 17:11:19
AnnotationForge/-2025-02-03 17:11:19
AnVILWorkflow/-2025-02-03 17:11:19
apeglm/-2025-02-03 17:11:19
AnVIL/-2025-02-03 17:11:19
AnnotationFilter/-2025-02-03 17:11:19
amplican/-2025-02-03 17:11:19
apComplex/-2025-02-03 17:11:19
AnVILPublish/-2025-02-03 17:11:19
aroma.light/-2025-02-03 17:11:19
annotatr/-2025-02-03 17:11:19
AnVILBase/-2025-02-03 17:11:19
AnVILBilling/-2025-02-03 17:11:19
Anaquin/-2025-02-03 17:11:19
annotationTools/-2025-02-03 17:11:19
APL/-2025-02-03 17:11:19
annotate/-2025-02-03 17:11:19
antiProfiles/-2025-02-03 17:11:19
AnnotationHub/-2025-02-03 17:11:19
AnVILGCP/-2025-02-03 17:11:19
AnnotationHubData/-2025-02-03 17:11:19
ANF/-2025-02-03 17:11:19
APAlyzer/-2025-02-03 17:11:19
ANCOMBC/-2025-02-03 17:11:19
AnnotationDbi/-2025-02-03 17:11:19
annmap/-2025-02-03 17:11:19
annaffy/-2025-02-03 17:11:19
alabaster.files/-2025-02-03 17:11:18
AgiMicroRna/-2025-02-03 17:11:18
alevinQC/-2025-02-03 17:11:18
alabaster.spatial/-2025-02-03 17:11:18
AMARETTO/-2025-02-03 17:11:18
AIMS/-2025-02-03 17:11:18
alabaster.se/-2025-02-03 17:11:18
AllelicImbalance/-2025-02-03 17:11:18
AHMassBank/-2025-02-03 17:11:18
AGDEX/-2025-02-03 17:11:18
airpart/-2025-02-03 17:11:18
alabaster.mae/-2025-02-03 17:11:18
alabaster.string/-2025-02-03 17:11:18
alabaster.vcf/-2025-02-03 17:11:18
AlphaBeta/-2025-02-03 17:11:18
agilp/-2025-02-03 17:11:18
alabaster.base/-2025-02-03 17:11:18
alabaster/-2025-02-03 17:11:18
alabaster.bumpy/-2025-02-03 17:11:18
AffyRNADegradation/-2025-02-03 17:11:18
ALDEx2/-2025-02-03 17:11:18
alabaster.ranges/-2025-02-03 17:11:18
altcdfenvs/-2025-02-03 17:11:18
AMOUNTAIN/-2025-02-03 17:11:18
AlphaMissenseR/-2025-02-03 17:11:18
aggregateBioVar/-2025-02-03 17:11:18
alabaster.sce/-2025-02-03 17:11:18
alabaster.matrix/-2025-02-03 17:11:18
alabaster.schemas/-2025-02-03 17:11:18
AlpsNMR/-2025-02-03 17:11:18
ABSSeq/-2025-02-03 17:11:17
ADaCGH2/-2025-02-03 17:11:17
affy/-2025-02-03 17:11:17
ADAMgui/-2025-02-03 17:11:17
ACE/-2025-02-03 17:11:17
affyPLM/-2025-02-03 17:11:17
ADAM/-2025-02-03 17:11:17
AffiXcan/-2025-02-03 17:11:17
ADAPT/-2025-02-03 17:11:17
acde/-2025-02-03 17:11:17
ADImpute/-2025-02-03 17:11:17
affxparser/-2025-02-03 17:11:17
a4Core/-2025-02-03 17:11:17
affycoretools/-2025-02-03 17:11:17
affycomp/-2025-02-03 17:11:17
abseqR/-2025-02-03 17:11:17
affylmGUI/-2025-02-03 17:11:17
affyILM/-2025-02-03 17:11:17
affyContam/-2025-02-03 17:11:17
adSplit/-2025-02-03 17:11:17
affyio/-2025-02-03 17:11:17
ACME/-2025-02-03 17:11:17
aCGH/-2025-02-03 17:11:17
ABarray/-2025-02-03 17:11:17
adductomicsR/-2025-02-03 17:11:17
a4Preproc/-2025-02-03 17:11:17
adverSCarial/-2025-02-03 17:11:17
a4Classif/-2025-02-03 17:11:17
a4Reporting/-2025-02-03 17:11:17
a4Base/-2025-02-03 17:11:16
a4/-2025-02-03 17:11:16
report.tgz110.8 MiB2025-02-03 17:14:27
long-report.html16.1 MiB2025-02-03 17:13:19
taishan-index.html2.5 MiB2025-02-03 17:12:57
index.html1.3 MiB2025-02-03 17:12:57
kjohnson1-index.html3.3 MiB2025-02-03 17:12:50
merida1-index.html3.3 MiB2025-02-03 17:12:45
palomino8-index.html3.3 MiB2025-02-03 17:12:40
nebbiolo2-index.html2.9 MiB2025-02-03 17:12:37
palomino8-NodeInfo.html6.9 KiB2025-02-03 17:02:52
merida1-NodeInfo.html6.7 KiB2025-02-03 17:02:52
merida1-R-instpkgs.html605.4 KiB2025-02-03 17:02:52
kjohnson1-NodeInfo.html6.6 KiB2025-02-03 17:02:52
palomino8-R-instpkgs.html461.8 KiB2025-02-03 17:02:52
taishan-R-instpkgs.html456.5 KiB2025-02-03 17:02:52
kjohnson1-R-instpkgs.html594.6 KiB2025-02-03 17:02:52
taishan-NodeInfo.html7.6 KiB2025-02-03 17:02:52
nebbiolo2-R-instpkgs.html520.1 KiB2025-02-03 17:02:52
nebbiolo2-NodeInfo.html6.9 KiB2025-02-03 17:02:52
BUILD_STATUS_DB.txt1.2 MiB2025-02-03 17:02:51
120px-Blue_Light_Icon.svg.png7.1 KiB2025-02-03 17:02:51
120px-Green_Light_Icon.svg.png7.1 KiB2025-02-03 17:02:51
DEVEL3b.png2.6 KiB2025-02-03 17:02:51
meat-index.dcf235.7 KiB2025-02-03 17:02:51
120px-Red_Light_Icon.svg.png7.0 KiB2025-02-03 17:02:51
report.js6.0 KiB2025-02-03 17:02:51
skipped-index.dcf0 B2025-02-03 17:02:51
report.css11.2 KiB2025-02-03 17:02:51
Renviron.bioc3.2 KiB2025-02-03 17:02:51
PROPAGATION_STATUS_DB.txt687.5 KiB2025-02-03 17:02:51
pkg_dep_graph.txt374.5 KiB2025-02-03 17:02:51
kunpeng2-index.html2.5 MiB2024-11-20 17:08:43
lconway-index.html3.3 MiB2024-11-20 17:08:38
teran2-index.html2.9 MiB2024-11-20 17:08:27
kunpeng2-R-instpkgs.html466.1 KiB2024-11-20 17:00:24
lconway-R-instpkgs.html608.3 KiB2024-11-20 17:00:24
teran2-NodeInfo.html6.8 KiB2024-11-20 17:00:23
lconway-NodeInfo.html6.7 KiB2024-11-20 17:00:23
kunpeng2-NodeInfo.html6.9 KiB2024-11-20 17:00:23
teran2-R-instpkgs.html578.7 KiB2024-11-20 17:00:23
kjohnson3-index.html3.2 MiB2024-11-10 02:33:37
kjohnson3-NodeInfo.html6.7 KiB2024-11-10 02:23:43
kjohnson3-R-instpkgs.html596.8 KiB2024-11-10 02:23:43
palomino6-index.html2.9 MiB2024-07-16 15:46:11
palomino6-R-instpkgs.html479.7 KiB2024-07-16 15:37:06
palomino6-NodeInfo.html6.9 KiB2024-07-16 15:37:06
palomino4-index.html3.2 MiB2024-06-11 19:44:00
palomino4-NodeInfo.html7.0 KiB2024-06-11 19:37:50
palomino4-R-instpkgs.html453.6 KiB2024-06-11 19:37:50