Back to Multiple platform build/check report for BioC 3.20:   simplified   long
AB[C]DEFGHIJKLMNOPQRSTUVWXYZ

This page was generated on 2025-02-06 12:06 -0500 (Thu, 06 Feb 2025).

HostnameOSArch (*)R versionInstalled pkgs
nebbiolo2Linux (Ubuntu 24.04.1 LTS)x86_644.4.2 (2024-10-31) -- "Pile of Leaves" 4753
palomino8Windows Server 2022 Datacenterx644.4.2 (2024-10-31 ucrt) -- "Pile of Leaves" 4501
merida1macOS 12.7.5 Montereyx86_644.4.2 (2024-10-31) -- "Pile of Leaves" 4524
kjohnson1macOS 13.6.6 Venturaarm644.4.2 (2024-10-31) -- "Pile of Leaves" 4476
taishanLinux (openEuler 24.03 LTS)aarch644.4.2 (2024-10-31) -- "Pile of Leaves" 4407
Click on any hostname to see more info about the system (e.g. compilers)      (*) as reported by 'uname -p', except on Windows and Mac OS X

Package 310/2289HostnameOS / ArchINSTALLBUILDCHECKBUILD BIN
CEMiTool 1.30.0  (landing page)
Helder Nakaya
Snapshot Date: 2025-02-03 13:00 -0500 (Mon, 03 Feb 2025)
git_url: https://git.bioconductor.org/packages/CEMiTool
git_branch: RELEASE_3_20
git_last_commit: b1ca198
git_last_commit_date: 2024-10-29 10:21:18 -0500 (Tue, 29 Oct 2024)
nebbiolo2Linux (Ubuntu 24.04.1 LTS) / x86_64  OK    OK    OK  UNNEEDED, same version is already published
palomino8Windows Server 2022 Datacenter / x64  OK    OK    OK    OK  UNNEEDED, same version is already published
merida1macOS 12.7.5 Monterey / x86_64  OK    OK    OK    OK  UNNEEDED, same version is already published
kjohnson1macOS 13.6.6 Ventura / arm64  OK    OK    OK    OK  UNNEEDED, same version is already published
taishanLinux (openEuler 24.03 LTS) / aarch64  OK    OK    OK  


CHECK results for CEMiTool on palomino8

To the developers/maintainers of the CEMiTool package:
- Allow up to 24 hours (and sometimes 48 hours) for your latest push to git@git.bioconductor.org:packages/CEMiTool.git to reflect on this report. See Troubleshooting Build Report for more information.
- Use the following Renviron settings to reproduce errors and warnings.
- If 'R CMD check' started to fail recently on the Linux builder(s) over a missing dependency, add the missing dependency to 'Suggests:' in your DESCRIPTION file. See Renviron.bioc for more information.

raw results


Summary

Package: CEMiTool
Version: 1.30.0
Command: F:\biocbuild\bbs-3.20-bioc\R\bin\R.exe CMD check --no-multiarch --install=check:CEMiTool.install-out.txt --library=F:\biocbuild\bbs-3.20-bioc\R\library --no-vignettes --timings CEMiTool_1.30.0.tar.gz
StartedAt: 2025-02-04 00:07:55 -0500 (Tue, 04 Feb 2025)
EndedAt: 2025-02-04 00:12:59 -0500 (Tue, 04 Feb 2025)
EllapsedTime: 304.3 seconds
RetCode: 0
Status:   OK  
CheckDir: CEMiTool.Rcheck
Warnings: 0

Command output

##############################################################################
##############################################################################
###
### Running command:
###
###   F:\biocbuild\bbs-3.20-bioc\R\bin\R.exe CMD check --no-multiarch --install=check:CEMiTool.install-out.txt --library=F:\biocbuild\bbs-3.20-bioc\R\library --no-vignettes --timings CEMiTool_1.30.0.tar.gz
###
##############################################################################
##############################################################################


* using log directory 'F:/biocbuild/bbs-3.20-bioc/meat/CEMiTool.Rcheck'
* using R version 4.4.2 (2024-10-31 ucrt)
* using platform: x86_64-w64-mingw32
* R was compiled by
    gcc.exe (GCC) 13.3.0
    GNU Fortran (GCC) 13.3.0
* running under: Windows Server 2022 x64 (build 20348)
* using session charset: UTF-8
* using option '--no-vignettes'
* checking for file 'CEMiTool/DESCRIPTION' ... OK
* this is package 'CEMiTool' version '1.30.0'
* package encoding: UTF-8
* checking package namespace information ... OK
* checking package dependencies ... OK
* checking if this is a source package ... OK
* checking if there is a namespace ... OK
* checking for hidden files and directories ... OK
* checking for portable file names ... OK
* checking whether package 'CEMiTool' can be installed ... OK
* checking installed package size ... NOTE
  installed size is  6.5Mb
  sub-directories of 1Mb or more:
    data      3.1Mb
    extdata   2.8Mb
* checking package directory ... OK
* checking 'build' directory ... OK
* checking DESCRIPTION meta-information ... OK
* checking top-level files ... OK
* checking for left-over files ... OK
* checking index information ... OK
* checking package subdirectories ... OK
* checking code files for non-ASCII characters ... OK
* checking R files for syntax errors ... OK
* checking whether the package can be loaded ... OK
* checking whether the package can be loaded with stated dependencies ... OK
* checking whether the package can be unloaded cleanly ... OK
* checking whether the namespace can be loaded with stated dependencies ... OK
* checking whether the namespace can be unloaded cleanly ... OK
* checking dependencies in R code ... OK
* checking S3 generic/method consistency ... OK
* checking replacement functions ... OK
* checking foreign function calls ... OK
* checking R code for possible problems ... NOTE
flip_vector: no visible global function definition for 'setNames'
select_genes: no visible global function definition for 'var'
get_hubs,CEMiTool : <anonymous>: no visible global function definition
  for 'head'
get_merged_mods,CEMiTool: no visible global function definition for
  'as.dist'
get_mods,CEMiTool: no visible global function definition for 'as.dist'
get_phi,CEMiTool: no visible global function definition for 'tail'
get_phi,CEMiTool: no visible global function definition for 'head'
mod_gene_num,CEMiTool: no visible binding for global variable 'modules'
mod_gene_num,CEMiTool: no visible binding for global variable
  'num_genes'
mod_summary,CEMiTool: no visible global function definition for ':='
plot_gsea,CEMiTool: no visible global function definition for 'dist'
plot_mean_var,CEMiTool: no visible binding for global variable 'var'
plot_mean_var,CEMiTool: no visible binding for global variable 'Mean'
plot_mean_var,CEMiTool: no visible binding for global variable
  'Variance'
plot_mean_var,CEMiTool: no visible binding for global variable
  '..eq.label..'
plot_mean_var,CEMiTool: no visible binding for global variable
  '..rr.label..'
plot_ora,CEMiTool : <anonymous>: no visible global function definition
  for 'head'
plot_qq,CEMiTool: no visible binding for global variable 'data'
plot_sample_tree,CEMiTool: no visible global function definition for
  'dist'
plot_sample_tree,CEMiTool: no visible global function definition for
  'dev.off'
save_plots,CEMiTool : <anonymous>: no visible global function
  definition for 'dev.off'
save_plots,CEMiTool: no visible global function definition for
  'dev.off'
Undefined global functions or variables:
  ..eq.label.. ..rr.label.. := Mean Variance as.dist data dev.off dist
  head modules num_genes setNames tail var
Consider adding
  importFrom("grDevices", "dev.off")
  importFrom("stats", "as.dist", "dist", "setNames", "var")
  importFrom("utils", "data", "head", "tail")
to your NAMESPACE file.
* checking Rd files ... OK
* checking Rd metadata ... OK
* checking Rd cross-references ... OK
* checking for missing documentation entries ... OK
* checking for code/documentation mismatches ... OK
* checking Rd \usage sections ... OK
* checking Rd contents ... OK
* checking for unstated dependencies in examples ... OK
* checking contents of 'data' directory ... OK
* checking data for non-ASCII characters ... OK
* checking LazyData ... OK
* checking data for ASCII and uncompressed saves ... OK
* checking files in 'vignettes' ... OK
* checking examples ... OK
Examples with CPU (user + system) or elapsed time > 5s
                   user system elapsed
cemitool          11.83   0.31   12.38
plot_interactions 10.17   0.29   10.48
* checking for unstated dependencies in 'tests' ... OK
* checking tests ...
  Running 'testthat.R'
 OK
* checking for unstated dependencies in vignettes ... OK
* checking package vignettes ... OK
* checking running R code from vignettes ... SKIPPED
* checking re-building of vignette outputs ... SKIPPED
* checking PDF version of manual ... OK
* DONE

Status: 2 NOTEs
See
  'F:/biocbuild/bbs-3.20-bioc/meat/CEMiTool.Rcheck/00check.log'
for details.


Installation output

CEMiTool.Rcheck/00install.out

##############################################################################
##############################################################################
###
### Running command:
###
###   F:\biocbuild\bbs-3.20-bioc\R\bin\R.exe CMD INSTALL CEMiTool
###
##############################################################################
##############################################################################


* installing to library 'F:/biocbuild/bbs-3.20-bioc/R/library'
* installing *source* package 'CEMiTool' ...
** using staged installation
** R
** data
*** moving datasets to lazyload DB
** exec
** inst
** byte-compile and prepare package for lazy loading
** help
*** installing help indices
** building package indices
** installing vignettes
** testing if installed package can be loaded from temporary location
** testing if installed package can be loaded from final location
** testing if installed package keeps a record of temporary installation path
* DONE (CEMiTool)

Tests output

CEMiTool.Rcheck/tests/testthat.Rout


R version 4.4.2 (2024-10-31 ucrt) -- "Pile of Leaves"
Copyright (C) 2024 The R Foundation for Statistical Computing
Platform: x86_64-w64-mingw32/x64

R is free software and comes with ABSOLUTELY NO WARRANTY.
You are welcome to redistribute it under certain conditions.
Type 'license()' or 'licence()' for distribution details.

R is a collaborative project with many contributors.
Type 'contributors()' for more information and
'citation()' on how to cite R or R packages in publications.

Type 'demo()' for some demos, 'help()' for on-line help, or
'help.start()' for an HTML browser interface to help.
Type 'q()' to quit R.

> library(testthat)
> library(CEMiTool)

> test_check('CEMiTool')
[ FAIL 0 | WARN 13 | SKIP 0 | PASS 105 ]

[ FAIL 0 | WARN 13 | SKIP 0 | PASS 105 ]
> 
> proc.time()
   user  system elapsed 
  30.00    1.45   31.42 

Example timings

CEMiTool.Rcheck/CEMiTool-Ex.timings

nameusersystemelapsed
CEMiTool-class0.020.000.01
adj_data0.440.000.44
cem0.650.020.67
cemitool11.83 0.3112.38
expr0000
expr_data0.140.030.17
filter_expr0.220.030.25
find_modules2.240.082.31
fit_data2.280.072.35
generate_report000
get_adj0.150.000.15
get_beta_data0.920.040.97
get_cemitool_r2_beta2.080.052.13
get_connectivity2.020.122.14
get_hubs0.010.020.03
get_merged_mods1.040.031.06
get_mods0.900.020.92
get_phi1.970.032.00
gsea_data2.940.022.95
interactions_data0.220.090.41
mod_colors0.030.020.04
mod_gene_num0.080.000.08
mod_gsea1.760.011.78
mod_names0.020.000.02
mod_ora2.580.142.76
mod_summary0.170.000.18
module_genes0.030.020.04
new_cem0.010.000.02
nmodules0.040.030.06
ora_data2.590.112.72
plot_beta_r20.230.000.23
plot_gsea1.690.051.74
plot_hist0.440.000.44
plot_interactions10.17 0.2910.48
plot_mean_k0.280.000.28
plot_mean_var0.470.050.58
plot_ora4.000.054.05
plot_profile1.650.051.71
plot_qq1.350.061.40
plot_sample_tree0.780.030.81
read_gmt0.750.000.75
sample_annot0.000.010.02
sample_annotation0.000.020.02
save_plots0.030.020.04
select_genes0.120.040.17
show_plot0.140.020.16
write_files0.490.010.50