Back to Multiple platform build/check report for BioC 3.20:   simplified   long
ABC[D]EFGHIJKLMNOPQRSTUVWXYZ

This page was generated on 2025-02-06 12:11 -0500 (Thu, 06 Feb 2025).

HostnameOSArch (*)R versionInstalled pkgs
nebbiolo2Linux (Ubuntu 24.04.1 LTS)x86_644.4.2 (2024-10-31) -- "Pile of Leaves" 4753
palomino8Windows Server 2022 Datacenterx644.4.2 (2024-10-31 ucrt) -- "Pile of Leaves" 4501
merida1macOS 12.7.5 Montereyx86_644.4.2 (2024-10-31) -- "Pile of Leaves" 4524
kjohnson1macOS 13.6.6 Venturaarm644.4.2 (2024-10-31) -- "Pile of Leaves" 4476
taishanLinux (openEuler 24.03 LTS)aarch644.4.2 (2024-10-31) -- "Pile of Leaves" 4407
Click on any hostname to see more info about the system (e.g. compilers)      (*) as reported by 'uname -p', except on Windows and Mac OS X

Package 529/2289HostnameOS / ArchINSTALLBUILDCHECKBUILD BIN
DEGraph 1.58.0  (landing page)
Laurent Jacob
Snapshot Date: 2025-02-03 13:00 -0500 (Mon, 03 Feb 2025)
git_url: https://git.bioconductor.org/packages/DEGraph
git_branch: RELEASE_3_20
git_last_commit: 30cb3c1
git_last_commit_date: 2024-10-29 09:35:15 -0500 (Tue, 29 Oct 2024)
nebbiolo2Linux (Ubuntu 24.04.1 LTS) / x86_64  OK    OK    OK  UNNEEDED, same version is already published
palomino8Windows Server 2022 Datacenter / x64... NOT SUPPORTED ...
merida1macOS 12.7.5 Monterey / x86_64... NOT SUPPORTED ...
kjohnson1macOS 13.6.6 Ventura / arm64... NOT SUPPORTED ...
taishanLinux (openEuler 24.03 LTS) / aarch64  OK    OK    OK  


CHECK results for DEGraph on taishan

To the developers/maintainers of the DEGraph package:
- Allow up to 24 hours (and sometimes 48 hours) for your latest push to git@git.bioconductor.org:packages/DEGraph.git to reflect on this report. See Troubleshooting Build Report for more information.
- Use the following Renviron settings to reproduce errors and warnings.
- If 'R CMD check' started to fail recently on the Linux builder(s) over a missing dependency, add the missing dependency to 'Suggests:' in your DESCRIPTION file. See Renviron.bioc for more information.
- See Martin Grigorov's blog post for how to debug Linux ARM64 related issues on a x86_64 host.

raw results


Summary

Package: DEGraph
Version: 1.58.0
Command: /home/biocbuild/R/R/bin/R CMD check --install=check:DEGraph.install-out.txt --library=/home/biocbuild/R/R/site-library --no-vignettes --timings DEGraph_1.58.0.tar.gz
StartedAt: 2025-02-04 06:15:52 -0000 (Tue, 04 Feb 2025)
EndedAt: 2025-02-04 06:18:04 -0000 (Tue, 04 Feb 2025)
EllapsedTime: 132.1 seconds
RetCode: 0
Status:   OK  
CheckDir: DEGraph.Rcheck
Warnings: 0

Command output

##############################################################################
##############################################################################
###
### Running command:
###
###   /home/biocbuild/R/R/bin/R CMD check --install=check:DEGraph.install-out.txt --library=/home/biocbuild/R/R/site-library --no-vignettes --timings DEGraph_1.58.0.tar.gz
###
##############################################################################
##############################################################################


* using log directory ‘/home/biocbuild/bbs-3.20-bioc/meat/DEGraph.Rcheck’
* using R version 4.4.2 (2024-10-31)
* using platform: aarch64-unknown-linux-gnu
* R was compiled by
    aarch64-unknown-linux-gnu-gcc (GCC) 14.2.0
    GNU Fortran (GCC) 12.3.1 (openEuler 12.3.1-36.oe2403)
* running under: openEuler 24.03 (LTS)
* using session charset: UTF-8
* using option ‘--no-vignettes’
* checking for file ‘DEGraph/DESCRIPTION’ ... OK
* this is package ‘DEGraph’ version ‘1.58.0’
* checking package namespace information ... OK
* checking package dependencies ... OK
* checking if this is a source package ... OK
* checking if there is a namespace ... OK
* checking for hidden files and directories ... NOTE
Found the following hidden files and directories:
  .BBSoptions
These were most likely included in error. See section ‘Package
structure’ in the ‘Writing R Extensions’ manual.
* checking for portable file names ... OK
* checking for sufficient/correct file permissions ... OK
* checking whether package ‘DEGraph’ can be installed ... OK
* checking installed package size ... OK
* checking package directory ... OK
* checking ‘build’ directory ... OK
* checking DESCRIPTION meta-information ... NOTE
Packages listed in more than one of Depends, Imports, Suggests, Enhances:
  ‘graph’ ‘KEGGgraph’ ‘lattice’ ‘RBGL’ ‘rrcov’ ‘Rgraphviz’ ‘NCIgraph’
A package should be listed in only one of these fields.
* checking top-level files ... OK
* checking for left-over files ... OK
* checking index information ... OK
* checking package subdirectories ... OK
* checking code files for non-ASCII characters ... OK
* checking R files for syntax errors ... OK
* checking whether the package can be loaded ... OK
* checking whether the package can be loaded with stated dependencies ... OK
* checking whether the package can be unloaded cleanly ... OK
* checking whether the namespace can be loaded with stated dependencies ... OK
* checking whether the namespace can be unloaded cleanly ... OK
* checking loading without being on the library search path ... OK
* checking dependencies in R code ... NOTE
Package in Depends field not imported from: ‘R.utils’
  These packages need to be imported from (in the NAMESPACE file)
  for when this namespace is loaded but not attached.
Unexported object imported by a ':::' call: ‘graph:::getIndices’
  See the note in ?`:::` about the use of this operator.
* checking S3 generic/method consistency ... OK
* checking replacement functions ... OK
* checking foreign function calls ... OK
* checking R code for possible problems ... NOTE
AN.test: no visible global function definition for ‘var’
BS.test: no visible global function definition for ‘pnorm’
getConnectedComponentList: no visible binding for global variable
  ‘Arguments’
getConnectedComponentList: no visible global function definition for
  ‘pushState’
getConnectedComponentList: no visible global function definition for
  ‘popState’
getKEGGPathways: no visible binding for global variable ‘Arguments’
getKEGGPathways: no visible global function definition for ‘pushState’
getKEGGPathways: no visible global function definition for ‘popState’
getKEGGPathways: no visible global function definition for ‘str’
getKEGGPathways: no visible global function definition for
  ‘ProgressBar’
getKEGGPathways: no visible global function definition for ‘reset’
getKEGGPathways : <anonymous>: no visible global function definition
  for ‘increase’
getSignedGraph: no visible binding for global variable ‘Arguments’
getSignedGraph: no visible global function definition for ‘pushState’
getSignedGraph: no visible global function definition for ‘popState’
getSignedGraph: no visible global function definition for ‘str’
getSignedGraph: no visible global function definition for ‘enter’
getSignedGraph: no visible global function definition for ‘exit’
getSignedGraph: no visible global function definition for ‘as’
graph.T2.test: no visible global function definition for ‘as’
hyper.test: no visible binding for global variable ‘Arguments’
hyper.test: no visible global function definition for ‘pushState’
hyper.test: no visible global function definition for ‘popState’
hyper.test: no visible global function definition for ‘str’
hyper.test: no visible global function definition for ‘phyper’
plotValuedGraph: no visible global function definition for
  ‘heat.colors’
plotValuedGraph: no visible binding for global variable ‘Arguments’
plotValuedGraph: no visible global function definition for ‘pushState’
plotValuedGraph: no visible global function definition for ‘popState’
plotValuedGraph: no visible global function definition for ‘str’
plotValuedGraph: no visible global function definition for ‘quantile’
randomWAMGraph: no visible binding for global variable ‘Arguments’
randomWAMGraph: no visible global function definition for ‘pushState’
randomWAMGraph: no visible global function definition for ‘popState’
randomWAMGraph: no visible global function definition for ‘as’
testOneConnectedComponent: no visible binding for global variable
  ‘Arguments’
testOneConnectedComponent: no visible global function definition for
  ‘pushState’
testOneConnectedComponent: no visible global function definition for
  ‘popState’
testOneConnectedComponent: no visible global function definition for
  ‘enter’
testOneConnectedComponent: no visible global function definition for
  ‘exit’
testOneConnectedComponent: no visible global function definition for
  ‘as’
testOneConnectedComponent: no visible global function definition for
  ‘str’
testOneGraph: no visible binding for global variable ‘Arguments’
testOneGraph: no visible global function definition for ‘pushState’
testOneGraph: no visible global function definition for ‘popState’
testOneGraph: no visible global function definition for ‘enter’
testOneGraph: no visible global function definition for
  ‘translateNCI2GeneID’
testOneGraph: no visible global function definition for ‘str’
testOneGraph: no visible global function definition for ‘exit’
twoSampleFromGraph: no visible global function definition for ‘rnorm’
writeAdjacencyMatrix2KGML: no visible binding for global variable
  ‘Arguments’
writeAdjacencyMatrix2KGML: no visible global function definition for
  ‘pushState’
writeAdjacencyMatrix2KGML: no visible global function definition for
  ‘popState’
writeAdjacencyMatrix2KGML : <anonymous>: no visible global function
  definition for ‘na.omit’
Undefined global functions or variables:
  Arguments ProgressBar as enter exit heat.colors increase na.omit
  phyper pnorm popState pushState quantile reset rnorm str
  translateNCI2GeneID var
Consider adding
  importFrom("grDevices", "heat.colors")
  importFrom("methods", "as")
  importFrom("stats", "na.omit", "phyper", "pnorm", "quantile", "rnorm",
             "var")
  importFrom("utils", "str")
to your NAMESPACE file (and ensure that your DESCRIPTION Imports field
contains 'methods').
* checking Rd files ... OK
* checking Rd metadata ... OK
* checking Rd cross-references ... OK
* checking for missing documentation entries ... OK
* checking for code/documentation mismatches ... OK
* checking Rd \usage sections ... OK
* checking Rd contents ... OK
* checking for unstated dependencies in examples ... OK
* checking contents of ‘data’ directory ... OK
* checking data for non-ASCII characters ... OK
* checking data for ASCII and uncompressed saves ... OK
* checking files in ‘vignettes’ ... OK
* checking examples ... OK
Examples with CPU (user + system) or elapsed time > 5s
             user system elapsed
AN.test    16.595  0.204  16.835
hyper.test 16.672  0.048  16.756
BS.test    16.404  0.071  16.510
* checking for unstated dependencies in vignettes ... OK
* checking package vignettes ... OK
* checking running R code from vignettes ... SKIPPED
* checking re-building of vignette outputs ... SKIPPED
* checking PDF version of manual ... OK
* DONE

Status: 4 NOTEs
See
  ‘/home/biocbuild/bbs-3.20-bioc/meat/DEGraph.Rcheck/00check.log’
for details.


Installation output

DEGraph.Rcheck/00install.out

##############################################################################
##############################################################################
###
### Running command:
###
###   /home/biocbuild/R/R/bin/R CMD INSTALL DEGraph
###
##############################################################################
##############################################################################


* installing to library ‘/home/biocbuild/R/R-4.4.2/site-library’
* installing *source* package ‘DEGraph’ ...
** using staged installation
** R
** data
** demo
** inst
** byte-compile and prepare package for lazy loading
** help
*** installing help indices
** building package indices
** installing vignettes
** testing if installed package can be loaded from temporary location
** testing if installed package can be loaded from final location
** testing if installed package keeps a record of temporary installation path
* DONE (DEGraph)

Tests output


Example timings

DEGraph.Rcheck/DEGraph-Ex.timings

nameusersystemelapsed
AN.test16.595 0.20416.835
BS.test16.404 0.07116.510
annLoi20080.1740.0010.175
classLoi20080.1760.0000.177
exprLoi20080.1750.0070.183
getConnectedComponentList1.3960.0011.399
getKEGGPathways4.4120.0274.485
getSignedGraph1.4570.0001.460
grListKEGG0.7380.0000.741
graph.T2.test0.2210.0000.223
hyper.test16.672 0.04816.756
laplacianFromA0.2180.0000.218
plotValuedGraph4.2010.0684.313
randomWAMGraph0.1290.0080.137
testOneConnectedComponent0.2080.0040.213
testOneGraph3.2430.0683.321
twoSampleFromGraph0.1350.0040.140
writeAdjacencyMatrix2KGML0.1300.0080.138