Back to Multiple platform build/check report for BioC 3.20: simplified long |
|
This page was generated on 2025-02-06 12:08 -0500 (Thu, 06 Feb 2025).
Hostname | OS | Arch (*) | R version | Installed pkgs |
---|---|---|---|---|
nebbiolo2 | Linux (Ubuntu 24.04.1 LTS) | x86_64 | 4.4.2 (2024-10-31) -- "Pile of Leaves" | 4753 |
palomino8 | Windows Server 2022 Datacenter | x64 | 4.4.2 (2024-10-31 ucrt) -- "Pile of Leaves" | 4501 |
merida1 | macOS 12.7.5 Monterey | x86_64 | 4.4.2 (2024-10-31) -- "Pile of Leaves" | 4524 |
kjohnson1 | macOS 13.6.6 Ventura | arm64 | 4.4.2 (2024-10-31) -- "Pile of Leaves" | 4476 |
taishan | Linux (openEuler 24.03 LTS) | aarch64 | 4.4.2 (2024-10-31) -- "Pile of Leaves" | 4407 |
Click on any hostname to see more info about the system (e.g. compilers) (*) as reported by 'uname -p', except on Windows and Mac OS X |
Package 614/2289 | Hostname | OS / Arch | INSTALL | BUILD | CHECK | BUILD BIN | ||||||||
Dune 1.18.0 (landing page) Hector Roux de Bezieux
| nebbiolo2 | Linux (Ubuntu 24.04.1 LTS) / x86_64 | OK | OK | OK | ![]() | ||||||||
palomino8 | Windows Server 2022 Datacenter / x64 | OK | OK | OK | OK | ![]() | ||||||||
merida1 | macOS 12.7.5 Monterey / x86_64 | OK | OK | OK | OK | ![]() | ||||||||
kjohnson1 | macOS 13.6.6 Ventura / arm64 | OK | OK | ERROR | OK | |||||||||
taishan | Linux (openEuler 24.03 LTS) / aarch64 | ERROR | ERROR | skipped | ||||||||||
To the developers/maintainers of the Dune package: - Allow up to 24 hours (and sometimes 48 hours) for your latest push to git@git.bioconductor.org:packages/Dune.git to reflect on this report. See Troubleshooting Build Report for more information. - Use the following Renviron settings to reproduce errors and warnings. - If 'R CMD check' started to fail recently on the Linux builder(s) over a missing dependency, add the missing dependency to 'Suggests:' in your DESCRIPTION file. See Renviron.bioc for more information. |
Package: Dune |
Version: 1.18.0 |
Command: /Library/Frameworks/R.framework/Resources/bin/R CMD check --install=check:Dune.install-out.txt --library=/Library/Frameworks/R.framework/Resources/library --no-vignettes --timings Dune_1.18.0.tar.gz |
StartedAt: 2025-02-04 03:05:28 -0500 (Tue, 04 Feb 2025) |
EndedAt: 2025-02-04 03:19:25 -0500 (Tue, 04 Feb 2025) |
EllapsedTime: 837.2 seconds |
RetCode: 0 |
Status: OK |
CheckDir: Dune.Rcheck |
Warnings: 0 |
############################################################################## ############################################################################## ### ### Running command: ### ### /Library/Frameworks/R.framework/Resources/bin/R CMD check --install=check:Dune.install-out.txt --library=/Library/Frameworks/R.framework/Resources/library --no-vignettes --timings Dune_1.18.0.tar.gz ### ############################################################################## ############################################################################## * using log directory ‘/Users/biocbuild/bbs-3.20-bioc/meat/Dune.Rcheck’ * using R version 4.4.2 (2024-10-31) * using platform: x86_64-apple-darwin20 * R was compiled by Apple clang version 14.0.0 (clang-1400.0.29.202) GNU Fortran (GCC) 12.2.0 * running under: macOS Monterey 12.7.6 * using session charset: UTF-8 * using option ‘--no-vignettes’ * checking for file ‘Dune/DESCRIPTION’ ... OK * this is package ‘Dune’ version ‘1.18.0’ * package encoding: UTF-8 * checking package namespace information ... NOTE Found export directive that requires package ‘methods’: ‘exportMethods’ Remove all such namespace directives (if obsolete) or ensure that the DESCRIPTION Depends or Imports field contains ‘methods’. * checking package dependencies ... OK * checking if this is a source package ... OK * checking if there is a namespace ... OK * checking for hidden files and directories ... OK * checking for portable file names ... OK * checking for sufficient/correct file permissions ... OK * checking whether package ‘Dune’ can be installed ... OK * checking installed package size ... OK * checking package directory ... OK * checking ‘build’ directory ... OK * checking DESCRIPTION meta-information ... OK * checking top-level files ... OK * checking for left-over files ... OK * checking index information ... OK * checking package subdirectories ... OK * checking code files for non-ASCII characters ... OK * checking R files for syntax errors ... OK * checking whether the package can be loaded ... OK * checking whether the package can be loaded with stated dependencies ... OK * checking whether the package can be unloaded cleanly ... OK * checking whether the namespace can be loaded with stated dependencies ... OK * checking whether the namespace can be unloaded cleanly ... OK * checking whether startup messages can be suppressed ... OK * checking dependencies in R code ... NOTE package 'methods' is used but not declared * checking S3 generic/method consistency ... OK * checking replacement functions ... OK * checking foreign function calls ... OK * checking R code for possible problems ... NOTE .metricTrend: no visible binding for global variable ‘.’ .metricTrend: no visible binding for global variable ‘step’ .metricTrend: no visible binding for global variable ‘change’ .metricTrend: no visible binding for global variable ‘value’ .plotMetric: no visible binding for global variable ‘label2’ .plotMetric: no visible binding for global variable ‘metric’ .plotMetric: no visible binding for global variable ‘label1’ ARIImp : f: no visible binding for global variable ‘cells’ ConfusionEvolution : <anonymous>: no visible binding for global variable ‘Freq’ ConfusionEvolution : <anonymous>: no visible binding for global variable ‘total_x’ ConfusionEvolution : <anonymous>: no visible binding for global variable ‘total_y’ ConfusionEvolution: no visible binding for global variable ‘overlap’ ConfusionEvolution: no visible binding for global variable ‘Freq’ ConfusionEvolution: no visible binding for global variable ‘step’ ConfusionPlot: no visible binding for global variable ‘Freq’ ConfusionPlot: no visible binding for global variable ‘total_x’ ConfusionPlot: no visible binding for global variable ‘total_y’ ConfusionPlot: no visible binding for global variable ‘overlap’ NMIImp : f: no visible binding for global variable ‘cells’ intermediateMat: no visible binding for global variable ‘cells’ plotPrePost: no visible binding for global variable ‘Nb’ Undefined global functions or variables: . Freq Nb cells change label1 label2 metric overlap step total_x total_y value Consider adding importFrom("stats", "step") to your NAMESPACE file. * checking Rd files ... OK * checking Rd metadata ... OK * checking Rd cross-references ... OK * checking for missing documentation entries ... OK * checking for code/documentation mismatches ... OK * checking Rd \usage sections ... OK * checking Rd contents ... OK * checking for unstated dependencies in examples ... OK * checking contents of ‘data’ directory ... OK * checking data for non-ASCII characters ... OK * checking LazyData ... OK * checking data for ASCII and uncompressed saves ... OK * checking files in ‘vignettes’ ... OK * checking examples ... OK Examples with CPU (user + system) or elapsed time > 5s user system elapsed Dune 20.514 0.155 23.604 ARItrend 12.734 0.101 14.840 ARIImp 11.980 0.306 13.850 plotARIs 11.993 0.090 13.230 plotNMIs 11.729 0.087 12.732 plotPrePost 11.519 0.099 12.804 NMItrend 11.531 0.077 12.362 functionTracking 11.329 0.075 12.707 whenToStop 11.281 0.097 12.743 intermediateMat 11.120 0.085 12.385 NMIImp 11.065 0.079 12.197 clusterConversion 11.029 0.074 12.533 * checking for unstated dependencies in ‘tests’ ... OK * checking tests ... Running ‘testthat.R’ OK * checking for unstated dependencies in vignettes ... OK * checking package vignettes ... OK * checking running R code from vignettes ... SKIPPED * checking re-building of vignette outputs ... SKIPPED * checking PDF version of manual ... OK * DONE Status: 3 NOTEs See ‘/Users/biocbuild/bbs-3.20-bioc/meat/Dune.Rcheck/00check.log’ for details.
Dune.Rcheck/00install.out
############################################################################## ############################################################################## ### ### Running command: ### ### /Library/Frameworks/R.framework/Resources/bin/R CMD INSTALL Dune ### ############################################################################## ############################################################################## * installing to library ‘/Library/Frameworks/R.framework/Versions/4.4-x86_64/Resources/library’ * installing *source* package ‘Dune’ ... ** using staged installation ** R ** data *** moving datasets to lazyload DB ** inst ** byte-compile and prepare package for lazy loading ** help *** installing help indices ** building package indices ** installing vignettes ** testing if installed package can be loaded from temporary location ** testing if installed package can be loaded from final location ** testing if installed package keeps a record of temporary installation path * DONE (Dune)
Dune.Rcheck/tests/testthat.Rout
R version 4.4.2 (2024-10-31) -- "Pile of Leaves" Copyright (C) 2024 The R Foundation for Statistical Computing Platform: x86_64-apple-darwin20 R is free software and comes with ABSOLUTELY NO WARRANTY. You are welcome to redistribute it under certain conditions. Type 'license()' or 'licence()' for distribution details. R is a collaborative project with many contributors. Type 'contributors()' for more information and 'citation()' on how to cite R or R packages in publications. Type 'demo()' for some demos, 'help()' for on-line help, or 'help.start()' for an HTML browser interface to help. Type 'q()' to quit R. > library(testthat) > library(Dune) Dune now uses the Normalized Mutual Informationinstead of the adjusted Rand Index. You can restore the old option bysetting metric'ARI' in the Dune function. > > test_check("Dune") [ FAIL 0 | WARN 2 | SKIP 0 | PASS 452 ] [ FAIL 0 | WARN 2 | SKIP 0 | PASS 452 ] > > proc.time() user system elapsed 235.611 3.729 264.782
Dune.Rcheck/Dune-Ex.timings
name | user | system | elapsed | |
ARIImp | 11.980 | 0.306 | 13.850 | |
ARIs | 0.044 | 0.003 | 0.049 | |
ARItrend | 12.734 | 0.101 | 14.840 | |
ConfusionEvolution | 0.000 | 0.001 | 0.001 | |
ConfusionPlot | 1.012 | 0.032 | 1.216 | |
Dune | 20.514 | 0.155 | 23.604 | |
NMIImp | 11.065 | 0.079 | 12.197 | |
NMIs | 0.046 | 0.003 | 0.052 | |
NMItrend | 11.531 | 0.077 | 12.362 | |
clusterConversion | 11.029 | 0.074 | 12.533 | |
functionTracking | 11.329 | 0.075 | 12.707 | |
intermediateMat | 11.120 | 0.085 | 12.385 | |
plotARIs | 11.993 | 0.090 | 13.230 | |
plotNMIs | 11.729 | 0.087 | 12.732 | |
plotPrePost | 11.519 | 0.099 | 12.804 | |
whenToStop | 11.281 | 0.097 | 12.743 | |