Back to Multiple platform build/check report for BioC 3.20:   simplified   long
ABCDE[F]GHIJKLMNOPQRSTUVWXYZ

This page was generated on 2025-02-06 12:04 -0500 (Thu, 06 Feb 2025).

HostnameOSArch (*)R versionInstalled pkgs
nebbiolo2Linux (Ubuntu 24.04.1 LTS)x86_644.4.2 (2024-10-31) -- "Pile of Leaves" 4753
palomino8Windows Server 2022 Datacenterx644.4.2 (2024-10-31 ucrt) -- "Pile of Leaves" 4501
merida1macOS 12.7.5 Montereyx86_644.4.2 (2024-10-31) -- "Pile of Leaves" 4524
kjohnson1macOS 13.6.6 Venturaarm644.4.2 (2024-10-31) -- "Pile of Leaves" 4476
taishanLinux (openEuler 24.03 LTS)aarch644.4.2 (2024-10-31) -- "Pile of Leaves" 4407
Click on any hostname to see more info about the system (e.g. compilers)      (*) as reported by 'uname -p', except on Windows and Mac OS X

Package 716/2289HostnameOS / ArchINSTALLBUILDCHECKBUILD BIN
FindIT2 1.12.0  (landing page)
Guandong Shang
Snapshot Date: 2025-02-03 13:00 -0500 (Mon, 03 Feb 2025)
git_url: https://git.bioconductor.org/packages/FindIT2
git_branch: RELEASE_3_20
git_last_commit: 1bcb4fc
git_last_commit_date: 2024-10-29 11:01:40 -0500 (Tue, 29 Oct 2024)
nebbiolo2Linux (Ubuntu 24.04.1 LTS) / x86_64  OK    OK    OK  UNNEEDED, same version is already published
palomino8Windows Server 2022 Datacenter / x64  OK    OK    OK    OK  UNNEEDED, same version is already published
merida1macOS 12.7.5 Monterey / x86_64  OK    OK    OK    OK  UNNEEDED, same version is already published
kjohnson1macOS 13.6.6 Ventura / arm64  OK    OK    OK    OK  UNNEEDED, same version is already published
taishanLinux (openEuler 24.03 LTS) / aarch64  OK    OK    OK  


CHECK results for FindIT2 on nebbiolo2

To the developers/maintainers of the FindIT2 package:
- Allow up to 24 hours (and sometimes 48 hours) for your latest push to git@git.bioconductor.org:packages/FindIT2.git to reflect on this report. See Troubleshooting Build Report for more information.
- Use the following Renviron settings to reproduce errors and warnings.
- If 'R CMD check' started to fail recently on the Linux builder(s) over a missing dependency, add the missing dependency to 'Suggests:' in your DESCRIPTION file. See Renviron.bioc for more information.

raw results


Summary

Package: FindIT2
Version: 1.12.0
Command: /home/biocbuild/bbs-3.20-bioc/R/bin/R CMD check --install=check:FindIT2.install-out.txt --library=/home/biocbuild/bbs-3.20-bioc/R/site-library --timings FindIT2_1.12.0.tar.gz
StartedAt: 2025-02-03 22:23:07 -0500 (Mon, 03 Feb 2025)
EndedAt: 2025-02-03 22:29:48 -0500 (Mon, 03 Feb 2025)
EllapsedTime: 400.6 seconds
RetCode: 0
Status:   OK  
CheckDir: FindIT2.Rcheck
Warnings: 0

Command output

##############################################################################
##############################################################################
###
### Running command:
###
###   /home/biocbuild/bbs-3.20-bioc/R/bin/R CMD check --install=check:FindIT2.install-out.txt --library=/home/biocbuild/bbs-3.20-bioc/R/site-library --timings FindIT2_1.12.0.tar.gz
###
##############################################################################
##############################################################################


* using log directory ‘/home/biocbuild/bbs-3.20-bioc/meat/FindIT2.Rcheck’
* using R version 4.4.2 (2024-10-31)
* using platform: x86_64-pc-linux-gnu
* R was compiled by
    gcc (Ubuntu 13.2.0-23ubuntu4) 13.2.0
    GNU Fortran (Ubuntu 13.2.0-23ubuntu4) 13.2.0
* running under: Ubuntu 24.04.1 LTS
* using session charset: UTF-8
* checking for file ‘FindIT2/DESCRIPTION’ ... OK
* this is package ‘FindIT2’ version ‘1.12.0’
* package encoding: UTF-8
* checking package namespace information ... OK
* checking package dependencies ... OK
* checking if this is a source package ... OK
* checking if there is a namespace ... OK
* checking for hidden files and directories ... OK
* checking for portable file names ... OK
* checking for sufficient/correct file permissions ... OK
* checking whether package ‘FindIT2’ can be installed ... OK
* checking installed package size ... OK
* checking package directory ... OK
* checking ‘build’ directory ... OK
* checking DESCRIPTION meta-information ... OK
* checking top-level files ... OK
* checking for left-over files ... OK
* checking index information ... OK
* checking package subdirectories ... OK
* checking code files for non-ASCII characters ... OK
* checking R files for syntax errors ... OK
* checking whether the package can be loaded ... OK
* checking whether the package can be loaded with stated dependencies ... OK
* checking whether the package can be unloaded cleanly ... OK
* checking whether the namespace can be loaded with stated dependencies ... OK
* checking whether the namespace can be unloaded cleanly ... OK
* checking loading without being on the library search path ... OK
* checking dependencies in R code ... OK
* checking S3 generic/method consistency ... OK
* checking replacement functions ... OK
* checking foreign function calls ... OK
* checking R code for possible problems ... OK
* checking Rd files ... OK
* checking Rd metadata ... OK
* checking Rd cross-references ... OK
* checking for missing documentation entries ... OK
* checking for code/documentation mismatches ... OK
* checking Rd \usage sections ... OK
* checking Rd contents ... OK
* checking for unstated dependencies in examples ... OK
* checking contents of ‘data’ directory ... OK
* checking data for non-ASCII characters ... OK
* checking data for ASCII and uncompressed saves ... OK
* checking files in ‘vignettes’ ... OK
* checking examples ... OK
Examples with CPU (user + system) or elapsed time > 5s
                 user system elapsed
findIT_regionRP 6.109  0.072   6.181
calcRP_coverage 4.253  0.766   5.017
* checking for unstated dependencies in ‘tests’ ... OK
* checking tests ...
  Running ‘testthat.R’
 OK
* checking for unstated dependencies in vignettes ... OK
* checking package vignettes ... OK
* checking re-building of vignette outputs ... OK
* checking PDF version of manual ... OK
* DONE

Status: OK


Installation output

FindIT2.Rcheck/00install.out

##############################################################################
##############################################################################
###
### Running command:
###
###   /home/biocbuild/bbs-3.20-bioc/R/bin/R CMD INSTALL FindIT2
###
##############################################################################
##############################################################################


* installing to library ‘/home/biocbuild/bbs-3.20-bioc/R/site-library’
* installing *source* package ‘FindIT2’ ...
** using staged installation
** R
** data
** inst
** byte-compile and prepare package for lazy loading
** help
*** installing help indices
** building package indices
** installing vignettes
** testing if installed package can be loaded from temporary location
** testing if installed package can be loaded from final location
** testing if installed package keeps a record of temporary installation path
* DONE (FindIT2)

Tests output

FindIT2.Rcheck/tests/testthat.Rout


R version 4.4.2 (2024-10-31) -- "Pile of Leaves"
Copyright (C) 2024 The R Foundation for Statistical Computing
Platform: x86_64-pc-linux-gnu

R is free software and comes with ABSOLUTELY NO WARRANTY.
You are welcome to redistribute it under certain conditions.
Type 'license()' or 'licence()' for distribution details.

R is a collaborative project with many contributors.
Type 'contributors()' for more information and
'citation()' on how to cite R or R packages in publications.

Type 'demo()' for some demos, 'help()' for on-line help, or
'help.start()' for an HTML browser interface to help.
Type 'q()' to quit R.

> library(testthat)
> library(FindIT2)
Loading required package: GenomicRanges
Loading required package: stats4
Loading required package: BiocGenerics

Attaching package: 'BiocGenerics'

The following objects are masked from 'package:stats':

    IQR, mad, sd, var, xtabs

The following objects are masked from 'package:base':

    Filter, Find, Map, Position, Reduce, anyDuplicated, aperm, append,
    as.data.frame, basename, cbind, colnames, dirname, do.call,
    duplicated, eval, evalq, get, grep, grepl, intersect, is.unsorted,
    lapply, mapply, match, mget, order, paste, pmax, pmax.int, pmin,
    pmin.int, rank, rbind, rownames, sapply, saveRDS, setdiff, table,
    tapply, union, unique, unsplit, which.max, which.min

Loading required package: S4Vectors

Attaching package: 'S4Vectors'

The following object is masked from 'package:utils':

    findMatches

The following objects are masked from 'package:base':

    I, expand.grid, unname

Loading required package: IRanges
Loading required package: GenomeInfoDb
> if (!requireNamespace("TxDb.Athaliana.BioMart.plantsmart28")) {
+     stop("unable to load TxDb.Athaliana.BioMart.plantsmart28")
+ }
Loading required namespace: TxDb.Athaliana.BioMart.plantsmart28
> 
> test_check("FindIT2")
>> preparing gene features information...		2025-02-03 22:28:00
>> some scan range may cross Chr bound, trimming...		2025-02-03 22:28:01
>> preparing weight info...		2025-02-03 22:28:01
>> loading E50h_sampleChr5.bw info...		2025-02-03 22:28:01
------------
>> extracting and calcluating Chr5 signal...		2025-02-03 22:28:01
>> dealing with Chr5 left gene signal...		2025-02-03 22:28:04
>> norming Chr5RP accoring to the whole Chr RP...		2025-02-03 22:28:04
>> merging all Chr RP together...		2025-02-03 22:28:04
>> done		2025-02-03 22:28:04
>> checking seqlevels match...		2025-02-03 22:28:04
>> your peak_GR seqlevel:Chr5...
>> your Txdb seqlevel:Chr1 Chr2 Chr3 Chr4 Chr5 ChrM ChrC...
Good, your Chrs in peak_GR is all in Txdb
------------
annotatePeak using geneScan mode begins
>> preparing gene features information and scan region...		2025-02-03 22:28:04
>> some scan range may cross Chr bound, trimming...		2025-02-03 22:28:05
>> finding overlap peak in gene scan region...		2025-02-03 22:28:05
>> dealing with left peak not your gene scan region...		2025-02-03 22:28:05
>> merging two set peaks...		2025-02-03 22:28:05
>> calculating distance and dealing with gene strand...		2025-02-03 22:28:05
>> merging all info together ...		2025-02-03 22:28:05
>> done		2025-02-03 22:28:05
>> calculating peakCenter to TSS using peak-gene pair...		2025-02-03 22:28:05
>> pre-filling 1356 noAssoc peak gene's RP with 0...		2025-02-03 22:28:06
>> calculating RP using centerToTSS and peak score2025-02-03 22:28:06
>> merging all info together		2025-02-03 22:28:08
>> done		2025-02-03 22:28:09
>> calculating peakCenter to TSS using peak-gene pair...		2025-02-03 22:28:09
>> pre-filling 1356 noAssoc peak gene's RP with 0...		2025-02-03 22:28:10
>> calculating RP using centerToTSS and peak score2025-02-03 22:28:10
>> merging all info together		2025-02-03 22:28:12
>> done		2025-02-03 22:28:12
>> checking seqlevels match...		2025-02-03 22:28:12
>> your peak_GR seqlevel:Chr5...
>> your Txdb seqlevel:Chr1 Chr2 Chr3 Chr4 Chr5 ChrM ChrC...
Good, your Chrs in peak_GR is all in Txdb
------------
annotatePeak using geneScan mode begins
>> preparing gene features information and scan region...		2025-02-03 22:28:12
>> some scan range may cross Chr bound, trimming...		2025-02-03 22:28:13
>> finding overlap peak in gene scan region...		2025-02-03 22:28:13
>> dealing with left peak not your gene scan region...		2025-02-03 22:28:13
>> merging two set peaks...		2025-02-03 22:28:13
>> calculating distance and dealing with gene strand...		2025-02-03 22:28:13
>> merging all info together ...		2025-02-03 22:28:13
>> done		2025-02-03 22:28:13
>> calculating peakCenter to TSS using peak-gene pair...		2025-02-03 22:28:13
>> calculating RP using centerToTSS and TF hit		2025-02-03 22:28:15
>> merging all info together		2025-02-03 22:28:15
>> done		2025-02-03 22:28:15
>> calculating peakCenter to TSS using peak-gene pair...		2025-02-03 22:28:15
>> calculating RP using centerToTSS and TF hit		2025-02-03 22:28:16
>> merging all info together		2025-02-03 22:28:16
>> done		2025-02-03 22:28:16
>> checking seqlevels match...		2025-02-03 22:28:16
>> your peak_GR seqlevel:Chr5...
>> your Txdb seqlevel:Chr1 Chr2 Chr3 Chr4 Chr5 ChrM ChrC...
Good, your Chrs in peak_GR is all in Txdb
------------
annotatePeak using geneScan mode begins
>> preparing gene features information and scan region...		2025-02-03 22:28:16
>> some scan range may cross Chr bound, trimming...		2025-02-03 22:28:17
>> finding overlap peak in gene scan region...		2025-02-03 22:28:17
>> dealing with left peak not your gene scan region...		2025-02-03 22:28:17
>> merging two set peaks...		2025-02-03 22:28:17
>> calculating distance and dealing with gene strand...		2025-02-03 22:28:17
>> merging all info together ...		2025-02-03 22:28:17
>> done		2025-02-03 22:28:17
>> calculating peakCenter to TSS using peak-gene pair...		2025-02-03 22:28:17
>> pre-filling 1356 noAssoc peak gene's RP with 0...		2025-02-03 22:28:18
>> calculating RP using centerToTSS and peak score2025-02-03 22:28:18
>> merging all info together		2025-02-03 22:28:20
>> done		2025-02-03 22:28:20
>> extracting RP info from regionRP...		2025-02-03 22:28:20
>> dealing with TF_GR_databse...		2025-02-03 22:28:20
>> calculating percent and p-value...		2025-02-03 22:28:21
>> dealing withE5_0h_R1...		2025-02-03 22:28:21
>> dealing withE5_0h_R2...		2025-02-03 22:28:21
>> dealing withE5_4h_R1...		2025-02-03 22:28:21
>> dealing withE5_4h_R2...		2025-02-03 22:28:21
>> dealing withE5_8h_R1...		2025-02-03 22:28:21
>> dealing withE5_8h_R2...		2025-02-03 22:28:21
>> dealing withE5_16h_R1...		2025-02-03 22:28:21
>> dealing withE5_16h_R2...		2025-02-03 22:28:21
>> dealing withE5_24h_R1...		2025-02-03 22:28:21
>> dealing withE5_24h_R2...		2025-02-03 22:28:21
>> dealing withE5_48h_R1...		2025-02-03 22:28:21
>> dealing withE5_48h_R2...		2025-02-03 22:28:21
>> dealing withE5_48h_R3...		2025-02-03 22:28:21
>> dealing withE5_72h_R1...		2025-02-03 22:28:21
>> dealing withE5_72h_R2...		2025-02-03 22:28:21
>> dealing withE5_72h_R3...		2025-02-03 22:28:21
>> merging all info together...		2025-02-03 22:28:21
>> done		2025-02-03 22:28:21
>> preparing gene features information...		2025-02-03 22:28:21
>> some scan range may cross Chr bound, trimming...		2025-02-03 22:28:22
>> calculating p-value for each TF, which may be time consuming...		2025-02-03 22:28:22
>> merging all info together...		2025-02-03 22:28:22
>> done		2025-02-03 22:28:22
>> dealing with TF_GR_database...		2025-02-03 22:28:22
>> calculating coef and converting into z-score using INT...		2025-02-03 22:28:22
>> dealing with E5_0h_R1...		2025-02-03 22:28:22
>> dealing with E5_0h_R2...		2025-02-03 22:28:23
>> dealing with E5_4h_R1...		2025-02-03 22:28:23
>> dealing with E5_4h_R2...		2025-02-03 22:28:23
>> dealing with E5_8h_R1...		2025-02-03 22:28:23
>> dealing with E5_8h_R2...		2025-02-03 22:28:23
>> dealing with E5_16h_R1...		2025-02-03 22:28:23
>> dealing with E5_16h_R2...		2025-02-03 22:28:23
>> dealing with E5_24h_R1...		2025-02-03 22:28:23
>> dealing with E5_24h_R2...		2025-02-03 22:28:23
>> dealing with E5_48h_R1...		2025-02-03 22:28:23
>> dealing with E5_48h_R2...		2025-02-03 22:28:23
>> dealing with E5_48h_R3...		2025-02-03 22:28:24
>> dealing with E5_72h_R1...		2025-02-03 22:28:24
>> dealing with E5_72h_R2...		2025-02-03 22:28:24
>> dealing with E5_72h_R3...		2025-02-03 22:28:24
>> merging all info together...		2025-02-03 22:28:24
>> done		2025-02-03 22:28:24
>> checking seqlevels match...		2025-02-03 22:28:24
>> your peak_GR seqlevel:Chr5...
>> your Txdb seqlevel:Chr1 Chr2 Chr3 Chr4 Chr5 ChrM ChrC...
Good, your Chrs in peak_GR is all in Txdb
------------
annotatePeak using geneScan mode begins
>> preparing gene features information and scan region...		2025-02-03 22:28:25
>> some scan range may cross Chr bound, trimming...		2025-02-03 22:28:25
>> finding overlap peak in gene scan region...		2025-02-03 22:28:25
>> dealing with left peak not your gene scan region...		2025-02-03 22:28:25
>> merging two set peaks...		2025-02-03 22:28:25
>> calculating distance and dealing with gene strand...		2025-02-03 22:28:25
>> merging all info together ...		2025-02-03 22:28:25
>> done		2025-02-03 22:28:25
>> calculating peakCenter to TSS using peak-gene pair...		2025-02-03 22:28:25
>> calculating RP using centerToTSS and TF hit		2025-02-03 22:28:26
>> merging all info together		2025-02-03 22:28:26
>> done		2025-02-03 22:28:26
>> checking seqlevels match...		2025-02-03 22:28:26
>> your peak_GR seqlevel:5...
>> your Txdb seqlevel:Chr1 Chr2 Chr3 Chr4 Chr5 ChrM ChrC...
>> checking seqlevels match...		2025-02-03 22:28:26
>> your peak_GR seqlevel:Chr5 Chr6...
>> your Txdb seqlevel:Chr1 Chr2 Chr3 Chr4 Chr5 ChrM ChrC...
>> checking seqlevels match...		2025-02-03 22:28:29
>> your peak_GR seqlevel:Chr5...
>> your Txdb seqlevel:Chr1 Chr2 Chr3 Chr4 Chr5 ChrM ChrC...
Good, your Chrs in peak_GR is all in Txdb
>> checking seqlevels match...		2025-02-03 22:28:29
>> your peak_GR seqlevel:Chr5...
>> your Txdb seqlevel:Chr1 Chr2 Chr3 Chr4 Chr5 ChrM ChrC...
Good, your Chrs in peak_GR is all in Txdb
------------
annotating Peak using nearest gene mode begins
>> preparing gene features information...		2025-02-03 22:28:29
>> finding nearest gene and calculating distance...		2025-02-03 22:28:30
>> dealing with gene strand ...		2025-02-03 22:28:30
>> merging all info together ...		2025-02-03 22:28:30
>> done		2025-02-03 22:28:30
>> checking seqlevels match...		2025-02-03 22:28:30
>> your peak_GR seqlevel:Chr5...
>> your Txdb seqlevel:Chr1 Chr2 Chr3 Chr4 Chr5 ChrM ChrC...
Good, your Chrs in peak_GR is all in Txdb
>> checking seqlevels match...		2025-02-03 22:28:30
>> your peak_GR seqlevel:Chr5...
>> your Txdb seqlevel:Chr1 Chr2 Chr3 Chr4 Chr5 ChrM ChrC...
Good, your Chrs in peak_GR is all in Txdb
------------
annotating Peak using nearest gene mode begins
>> preparing gene features information...		2025-02-03 22:28:30
>> finding nearest gene and calculating distance...		2025-02-03 22:28:31
>> dealing with gene strand ...		2025-02-03 22:28:31
>> merging all info together ...		2025-02-03 22:28:31
>> done		2025-02-03 22:28:31
>> checking seqlevels match...		2025-02-03 22:28:31
>> your peak_GR seqlevel:Chr5...
>> your Txdb seqlevel:Chr1 Chr2 Chr3 Chr4 Chr5 ChrM ChrC...
Good, your Chrs in peak_GR is all in Txdb
>> checking seqlevels match...		2025-02-03 22:28:32
>> your peak_GR seqlevel:Chr5...
>> your Txdb seqlevel:Chr1 Chr2 Chr3 Chr4 Chr5 ChrM ChrC...
Good, your Chrs in peak_GR is all in Txdb
------------
annotating Peak using nearest gene mode begins
>> preparing gene features information...		2025-02-03 22:28:32
>> finding nearest gene and calculating distance...		2025-02-03 22:28:32
>> dealing with gene strand ...		2025-02-03 22:28:32
>> merging all info together ...		2025-02-03 22:28:32
>> done		2025-02-03 22:28:32
>> checking seqlevels match...		2025-02-03 22:28:33
>> your peak_GR seqlevel:Chr5...
>> your Txdb seqlevel:Chr1 Chr2 Chr3 Chr4 Chr5 ChrM ChrC...
Good, your Chrs in peak_GR is all in Txdb
>> checking seqlevels match...		2025-02-03 22:28:33
>> your peak_GR seqlevel:Chr5...
>> your Txdb seqlevel:Chr1 Chr2 Chr3 Chr4 Chr5 ChrM ChrC...
Good, your Chrs in peak_GR is all in Txdb
------------
annotating Peak using nearest gene mode begins
>> preparing gene features information...		2025-02-03 22:28:33
>> finding nearest gene and calculating distance...		2025-02-03 22:28:34
>> dealing with gene strand ...		2025-02-03 22:28:34
>> merging all info together ...		2025-02-03 22:28:34
>> done		2025-02-03 22:28:34
It seems that there 1 genes have not been annotated by nearestGene mode
>> checking seqlevels match...		2025-02-03 22:28:35
>> your peak_GR seqlevel:Chr5...
>> your Txdb seqlevel:Chr1 Chr2 Chr3 Chr4 Chr5 ChrM ChrC...
Good, your Chrs in peak_GR is all in Txdb
>> checking seqlevels match...		2025-02-03 22:28:35
>> your peak_GR seqlevel:Chr5...
>> your Txdb seqlevel:Chr1 Chr2 Chr3 Chr4 Chr5 ChrM ChrC...
Good, your Chrs in peak_GR is all in Txdb
------------
annotating Peak using nearest gene mode begins
>> preparing gene features information...		2025-02-03 22:28:35
>> finding nearest gene and calculating distance...		2025-02-03 22:28:35
>> dealing with gene strand ...		2025-02-03 22:28:35
>> merging all info together ...		2025-02-03 22:28:35
>> done		2025-02-03 22:28:35
It seems that there 1 genes have not been annotated by nearestGene mode
>> checking seqlevels match...		2025-02-03 22:28:36
>> your peak_GR seqlevel:Chr5...
>> your Txdb seqlevel:Chr1 Chr2 Chr3 Chr4 Chr5 ChrM ChrC...
Good, your Chrs in peak_GR is all in Txdb
>> checking seqlevels match...		2025-02-03 22:28:37
>> your peak_GR seqlevel:Chr5...
>> your Txdb seqlevel:Chr1 Chr2 Chr3 Chr4 Chr5 ChrM ChrC...
Good, your Chrs in peak_GR is all in Txdb
>> some scan range may cross Chr bound, trimming...		2025-02-03 22:28:38
>> checking seqlevels match...		2025-02-03 22:28:38
>> your peak_GR seqlevel:Chr5...
>> your Txdb seqlevel:Chr1 Chr2 Chr3 Chr4 Chr5 ChrM ChrC...
Good, your Chrs in peak_GR is all in Txdb
>> some scan range may cross Chr bound, trimming...		2025-02-03 22:28:40
Good, your two matrix colnames matchs
>> calculating cor and pvalue, which may be time consuming...		2025-02-03 22:28:41
>> merging all info together...		2025-02-03 22:28:41
>> done		2025-02-03 22:28:41
>> checking seqlevels match...		2025-02-03 22:28:41
>> your peak_GR seqlevel:Chr5...
>> your Txdb seqlevel:Chr1 Chr2 Chr3 Chr4 Chr5 ChrM ChrC...
Good, your Chrs in peak_GR is all in Txdb
>> using scanPromoter parameter to scan promoter for each gene...		2025-02-03 22:28:41
>> checking seqlevels match...		2025-02-03 22:28:41
>> your peak_GR seqlevel:Chr5...
>> your Txdb seqlevel:Chr1 Chr2 Chr3 Chr4 Chr5 ChrM ChrC...
Good, your Chrs in peak_GR is all in Txdb
>> some scan range may cross Chr bound, trimming...		2025-02-03 22:28:42
>> there are 85 gene have scaned promoter
>> using scanEnhancer parameter to scan Enhancer for each gene...		2025-02-03 22:28:42
>> checking seqlevels match...		2025-02-03 22:28:42
>> your peak_GR seqlevel:Chr5...
>> your Txdb seqlevel:Chr1 Chr2 Chr3 Chr4 Chr5 ChrM ChrC...
Good, your Chrs in peak_GR is all in Txdb
>> some scan range may cross Chr bound, trimming...		2025-02-03 22:28:43
>> calculating cor and pvalue, which may be time consuming...		2025-02-03 22:28:43
>> merging all info together...		2025-02-03 22:28:43
>> done		2025-02-03 22:28:43
Good, your two matrix colnames matchs
>> calculating cor and pvalue, which may be time consuming...		2025-02-03 22:28:43
>> merging all info together...		2025-02-03 22:28:43
>> done		2025-02-03 22:28:43
>> checking seqlevels match...		2025-02-03 22:28:43
>> your peak_GR seqlevel:Chr5...
>> your Txdb seqlevel:Chr1 Chr2 Chr3 Chr4 Chr5 ChrM ChrC...
Good, your Chrs in peak_GR is all in Txdb
------------
annotatePeak using geneScan mode begins
>> preparing gene features information and scan region...		2025-02-03 22:28:44
>> some scan range may cross Chr bound, trimming...		2025-02-03 22:28:44
>> finding overlap peak in gene scan region...		2025-02-03 22:28:44
>> dealing with left peak not your gene scan region...		2025-02-03 22:28:44
>> merging two set peaks...		2025-02-03 22:28:44
>> calculating distance and dealing with gene strand...		2025-02-03 22:28:44
>> merging all info together ...		2025-02-03 22:28:44
>> done		2025-02-03 22:28:44
Good, your two matrix colnames matchs
>> calculating cor and pvalue, which may be time consuming...		2025-02-03 22:28:45
>> merging all info together...		2025-02-03 22:28:45
>> done		2025-02-03 22:28:45
>> checking seqlevels match...		2025-02-03 22:28:45
>> your peak_GR seqlevel:Chr5...
>> your Txdb seqlevel:Chr1 Chr2 Chr3 Chr4 Chr5 ChrM ChrC...
Good, your Chrs in peak_GR is all in Txdb
>> using scanPromoter parameter to scan promoter for each gene...		2025-02-03 22:28:45
>> checking seqlevels match...		2025-02-03 22:28:45
>> your peak_GR seqlevel:Chr5...
>> your Txdb seqlevel:Chr1 Chr2 Chr3 Chr4 Chr5 ChrM ChrC...
Good, your Chrs in peak_GR is all in Txdb
>> some scan range may cross Chr bound, trimming...		2025-02-03 22:28:46
>> there are 85 gene have scaned promoter
>> using scanEnhancer parameter to scan Enhancer for each gene...		2025-02-03 22:28:46
>> checking seqlevels match...		2025-02-03 22:28:46
>> your peak_GR seqlevel:Chr5...
>> your Txdb seqlevel:Chr1 Chr2 Chr3 Chr4 Chr5 ChrM ChrC...
Good, your Chrs in peak_GR is all in Txdb
>> some scan range may cross Chr bound, trimming...		2025-02-03 22:28:47
>> calculating cor and pvalue, which may be time consuming...		2025-02-03 22:28:47
>> merging all info together...		2025-02-03 22:28:47
>> done		2025-02-03 22:28:47
Joining with `by = join_by(feature_id)`
Joining with `by = join_by(feature_id)`
`geom_smooth()` using formula = 'y ~ x'
Joining with `by = join_by(feature_id)`
Joining with `by = join_by(feature_id)`
`geom_smooth()` using formula = 'y ~ x'
[ FAIL 0 | WARN 0 | SKIP 0 | PASS 65 ]
> 
> proc.time()
   user  system elapsed 
 58.773   1.772  60.535 

Example timings

FindIT2.Rcheck/FindIT2-Ex.timings

nameusersystemelapsed
TF_target_database000
calcRP_TFHit2.5170.1052.699
calcRP_coverage4.2530.7665.017
calcRP_region4.2580.0804.340
enhancerPromoterCor2.5510.0152.567
findIT_MARA0.3890.0050.394
findIT_TFHit0.9190.0160.935
findIT_TTPair0.0660.0010.067
findIT_enrichFisher0.1480.0000.149
findIT_enrichWilcox0.1740.0000.174
findIT_regionRP6.1090.0726.181
getAssocPairNumber1.0220.0131.035
integrate_ChIP_RNA1.7950.0131.808
integrate_replicates0.0020.0000.001
jaccard_findIT_TTpair0.0850.0010.086
jaccard_findIT_enrichFisher0.1780.0020.180
loadPeakFile0.0530.0000.052
mm_geneBound1.0830.0041.087
mm_geneScan1.0250.0071.032
mm_nearestGene0.9620.0020.964
peakGeneCor1.9850.0061.991
plot_annoDistance2.1430.0032.147
plot_peakGeneAlias_summary1.1630.0001.163
plot_peakGeneCor2.4970.0062.504
test_geneSet000