Back to Multiple platform build/check report for BioC 3.20:   simplified   long
ABCDEF[G]HIJKLMNOPQRSTUVWXYZ

This page was generated on 2025-02-06 12:08 -0500 (Thu, 06 Feb 2025).

HostnameOSArch (*)R versionInstalled pkgs
nebbiolo2Linux (Ubuntu 24.04.1 LTS)x86_644.4.2 (2024-10-31) -- "Pile of Leaves" 4753
palomino8Windows Server 2022 Datacenterx644.4.2 (2024-10-31 ucrt) -- "Pile of Leaves" 4501
merida1macOS 12.7.5 Montereyx86_644.4.2 (2024-10-31) -- "Pile of Leaves" 4524
kjohnson1macOS 13.6.6 Venturaarm644.4.2 (2024-10-31) -- "Pile of Leaves" 4476
taishanLinux (openEuler 24.03 LTS)aarch644.4.2 (2024-10-31) -- "Pile of Leaves" 4407
Click on any hostname to see more info about the system (e.g. compilers)      (*) as reported by 'uname -p', except on Windows and Mac OS X

Package 790/2289HostnameOS / ArchINSTALLBUILDCHECKBUILD BIN
GeneBreak 1.36.0  (landing page)
Evert van den Broek
Snapshot Date: 2025-02-03 13:00 -0500 (Mon, 03 Feb 2025)
git_url: https://git.bioconductor.org/packages/GeneBreak
git_branch: RELEASE_3_20
git_last_commit: 82f97c3
git_last_commit_date: 2024-10-29 10:04:34 -0500 (Tue, 29 Oct 2024)
nebbiolo2Linux (Ubuntu 24.04.1 LTS) / x86_64  OK    OK    OK  UNNEEDED, same version is already published
palomino8Windows Server 2022 Datacenter / x64  OK    OK    OK    OK  UNNEEDED, same version is already published
merida1macOS 12.7.5 Monterey / x86_64  OK    OK    OK    OK  UNNEEDED, same version is already published
kjohnson1macOS 13.6.6 Ventura / arm64  OK    OK    OK    OK  UNNEEDED, same version is already published
taishanLinux (openEuler 24.03 LTS) / aarch64  OK    OK    OK  


CHECK results for GeneBreak on merida1

To the developers/maintainers of the GeneBreak package:
- Allow up to 24 hours (and sometimes 48 hours) for your latest push to git@git.bioconductor.org:packages/GeneBreak.git to reflect on this report. See Troubleshooting Build Report for more information.
- Use the following Renviron settings to reproduce errors and warnings.
- If 'R CMD check' started to fail recently on the Linux builder(s) over a missing dependency, add the missing dependency to 'Suggests:' in your DESCRIPTION file. See Renviron.bioc for more information.

raw results


Summary

Package: GeneBreak
Version: 1.36.0
Command: /Library/Frameworks/R.framework/Resources/bin/R CMD check --install=check:GeneBreak.install-out.txt --library=/Library/Frameworks/R.framework/Resources/library --no-vignettes --timings GeneBreak_1.36.0.tar.gz
StartedAt: 2025-02-04 04:04:00 -0500 (Tue, 04 Feb 2025)
EndedAt: 2025-02-04 04:09:41 -0500 (Tue, 04 Feb 2025)
EllapsedTime: 340.4 seconds
RetCode: 0
Status:   OK  
CheckDir: GeneBreak.Rcheck
Warnings: 0

Command output

##############################################################################
##############################################################################
###
### Running command:
###
###   /Library/Frameworks/R.framework/Resources/bin/R CMD check --install=check:GeneBreak.install-out.txt --library=/Library/Frameworks/R.framework/Resources/library --no-vignettes --timings GeneBreak_1.36.0.tar.gz
###
##############################################################################
##############################################################################


* using log directory ‘/Users/biocbuild/bbs-3.20-bioc/meat/GeneBreak.Rcheck’
* using R version 4.4.2 (2024-10-31)
* using platform: x86_64-apple-darwin20
* R was compiled by
    Apple clang version 14.0.0 (clang-1400.0.29.202)
    GNU Fortran (GCC) 12.2.0
* running under: macOS Monterey 12.7.6
* using session charset: UTF-8
* using option ‘--no-vignettes’
* checking for file ‘GeneBreak/DESCRIPTION’ ... OK
* checking extension type ... Package
* this is package ‘GeneBreak’ version ‘1.36.0’
* checking package namespace information ... OK
* checking package dependencies ... OK
* checking if this is a source package ... OK
* checking if there is a namespace ... OK
* checking for hidden files and directories ... OK
* checking for portable file names ... OK
* checking for sufficient/correct file permissions ... OK
* checking whether package ‘GeneBreak’ can be installed ... OK
* checking installed package size ... OK
* checking package directory ... OK
* checking ‘build’ directory ... OK
* checking DESCRIPTION meta-information ... OK
* checking top-level files ... OK
* checking for left-over files ... OK
* checking index information ... OK
* checking package subdirectories ... OK
* checking code files for non-ASCII characters ... OK
* checking R files for syntax errors ... OK
* checking whether the package can be loaded ... OK
* checking whether the package can be loaded with stated dependencies ... OK
* checking whether the package can be unloaded cleanly ... OK
* checking whether the namespace can be loaded with stated dependencies ... OK
* checking whether the namespace can be unloaded cleanly ... OK
* checking dependencies in R code ... OK
* checking S3 generic/method consistency ... OK
* checking replacement functions ... OK
* checking foreign function calls ... OK
* checking R code for possible problems ... NOTE
.glmbreak: no visible global function definition for ‘glm’
.glmbreak: no visible global function definition for ‘predict’
addGeneAnnotation,CopyNumberBreakPoints: no visible global function
  definition for ‘head’
bpStats,CopyNumberBreakPoints: no visible global function definition
  for ‘sd’
bpStats,CopyNumberBreakPoints: no visible global function definition
  for ‘p.adjust’
Undefined global functions or variables:
  glm head p.adjust predict sd
Consider adding
  importFrom("stats", "glm", "p.adjust", "predict", "sd")
  importFrom("utils", "head")
to your NAMESPACE file.
* checking Rd files ... OK
* checking Rd metadata ... OK
* checking Rd cross-references ... OK
* checking for missing documentation entries ... OK
* checking for code/documentation mismatches ... OK
* checking Rd \usage sections ... OK
* checking Rd contents ... OK
* checking for unstated dependencies in examples ... OK
* checking contents of ‘data’ directory ... OK
* checking data for non-ASCII characters ... OK
* checking data for ASCII and uncompressed saves ... OK
* checking sizes of PDF files under ‘inst/doc’ ... OK
* checking files in ‘vignettes’ ... OK
* checking examples ... OK
Examples with CPU (user + system) or elapsed time > 5s
                                                      user system elapsed
CopyNumberBreakPointGenes-class                     10.677  0.966  12.234
bpPlot-CopyNumberBreakPoints-method                  9.182  0.785  10.627
recurrentGenes-CopyNumberBreakPointGenes-method      8.740  0.668   9.881
bpStats-CopyNumberBreakPoints-method                 8.667  0.664  10.047
breakpointsPerGene-CopyNumberBreakPointGenes-method  3.559  1.660   5.446
* checking for unstated dependencies in vignettes ... OK
* checking package vignettes ... OK
* checking running R code from vignettes ... SKIPPED
* checking re-building of vignette outputs ... SKIPPED
* checking PDF version of manual ... OK
* DONE

Status: 1 NOTE
See
  ‘/Users/biocbuild/bbs-3.20-bioc/meat/GeneBreak.Rcheck/00check.log’
for details.


Installation output

GeneBreak.Rcheck/00install.out

##############################################################################
##############################################################################
###
### Running command:
###
###   /Library/Frameworks/R.framework/Resources/bin/R CMD INSTALL GeneBreak
###
##############################################################################
##############################################################################


* installing to library ‘/Library/Frameworks/R.framework/Versions/4.4-x86_64/Resources/library’
* installing *source* package ‘GeneBreak’ ...
** using staged installation
** R
** data
** byte-compile and prepare package for lazy loading
Creating a new generic function for ‘segmentData’ in package ‘GeneBreak’
** help
*** installing help indices
** building package indices
** installing vignettes
** testing if installed package can be loaded from temporary location
** testing if installed package can be loaded from final location
** testing if installed package keeps a record of temporary installation path
* DONE (GeneBreak)

Tests output


Example timings

GeneBreak.Rcheck/GeneBreak-Ex.timings

nameusersystemelapsed
CopyNumberBreakPointGenes-class10.677 0.96612.234
CopyNumberBreakPoints-class2.5290.1962.962
accessOptions-CopyNumberBreakPoints-method1.3560.0881.803
addGeneAnnotation-CopyNumberBreakPoints-method2.9580.1723.492
bpFilter-CopyNumberBreakPoints-method1.9920.1472.227
bpGenes-CopyNumberBreakPointGenes-method3.0980.1803.499
bpPlot-CopyNumberBreakPoints-method 9.182 0.78510.627
bpStats-CopyNumberBreakPoints-method 8.667 0.66410.047
breakpointData-CopyNumberBreakPoints-method1.9651.6373.960
breakpointsPerGene-CopyNumberBreakPointGenes-method3.5591.6605.446
callData-CopyNumberBreakPoints-method2.0872.0964.393
featureChromosomes-CopyNumberBreakPoints-method1.3740.1071.537
featureInfo-CopyNumberBreakPoints-method3.2730.5213.844
featuresPerGene-CopyNumberBreakPointGenes-method3.4860.1843.800
geneChromosomes-CopyNumberBreakPointGenes-method3.0780.1383.389
geneInfo-CopyNumberBreakPointGenes-method2.8370.2653.158
getBreakpoints2.0660.1082.228
namesFeatures-CopyNumberBreakPoints-method1.3770.1581.572
recurrentGenes-CopyNumberBreakPointGenes-method8.7400.6689.881
sampleNames-CopyNumberBreakPoints-method1.3390.0951.494
segmentData-CopyNumberBreakPoints-method2.0261.7444.018