Back to Multiple platform build/check report for BioC 3.20: simplified long |
|
This page was generated on 2025-02-03 12:11 -0500 (Mon, 03 Feb 2025).
Hostname | OS | Arch (*) | R version | Installed pkgs |
---|---|---|---|---|
nebbiolo2 | Linux (Ubuntu 24.04.1 LTS) | x86_64 | 4.4.2 (2024-10-31) -- "Pile of Leaves" | 4746 |
palomino8 | Windows Server 2022 Datacenter | x64 | 4.4.2 (2024-10-31 ucrt) -- "Pile of Leaves" | 4494 |
merida1 | macOS 12.7.5 Monterey | x86_64 | 4.4.2 (2024-10-31) -- "Pile of Leaves" | 4517 |
kjohnson1 | macOS 13.6.6 Ventura | arm64 | 4.4.2 (2024-10-31) -- "Pile of Leaves" | 4469 |
taishan | Linux (openEuler 24.03 LTS) | aarch64 | 4.4.2 (2024-10-31) -- "Pile of Leaves" | 4400 |
Click on any hostname to see more info about the system (e.g. compilers) (*) as reported by 'uname -p', except on Windows and Mac OS X |
Package 807/2289 | Hostname | OS / Arch | INSTALL | BUILD | CHECK | BUILD BIN | ||||||||
GeneStructureTools 1.26.0 (landing page) Beth Signal
| nebbiolo2 | Linux (Ubuntu 24.04.1 LTS) / x86_64 | OK | OK | OK | |||||||||
palomino8 | Windows Server 2022 Datacenter / x64 | OK | OK | OK | OK | |||||||||
merida1 | macOS 12.7.5 Monterey / x86_64 | OK | OK | OK | OK | |||||||||
kjohnson1 | macOS 13.6.6 Ventura / arm64 | OK | OK | OK | OK | |||||||||
taishan | Linux (openEuler 24.03 LTS) / aarch64 | OK | OK | OK | ||||||||||
To the developers/maintainers of the GeneStructureTools package: - Allow up to 24 hours (and sometimes 48 hours) for your latest push to git@git.bioconductor.org:packages/GeneStructureTools.git to reflect on this report. See Troubleshooting Build Report for more information. - Use the following Renviron settings to reproduce errors and warnings. - If 'R CMD check' started to fail recently on the Linux builder(s) over a missing dependency, add the missing dependency to 'Suggests:' in your DESCRIPTION file. See Renviron.bioc for more information. - See Martin Grigorov's blog post for how to debug Linux ARM64 related issues on a x86_64 host. |
Package: GeneStructureTools |
Version: 1.26.0 |
Command: /home/biocbuild/R/R/bin/R CMD check --install=check:GeneStructureTools.install-out.txt --library=/home/biocbuild/R/R/site-library --no-vignettes --timings GeneStructureTools_1.26.0.tar.gz |
StartedAt: 2025-01-31 06:31:46 -0000 (Fri, 31 Jan 2025) |
EndedAt: 2025-01-31 06:39:34 -0000 (Fri, 31 Jan 2025) |
EllapsedTime: 468.3 seconds |
RetCode: 0 |
Status: OK |
CheckDir: GeneStructureTools.Rcheck |
Warnings: 0 |
############################################################################## ############################################################################## ### ### Running command: ### ### /home/biocbuild/R/R/bin/R CMD check --install=check:GeneStructureTools.install-out.txt --library=/home/biocbuild/R/R/site-library --no-vignettes --timings GeneStructureTools_1.26.0.tar.gz ### ############################################################################## ############################################################################## * using log directory ‘/home/biocbuild/bbs-3.20-bioc/meat/GeneStructureTools.Rcheck’ * using R version 4.4.2 (2024-10-31) * using platform: aarch64-unknown-linux-gnu * R was compiled by aarch64-unknown-linux-gnu-gcc (GCC) 14.2.0 GNU Fortran (GCC) 12.3.1 (openEuler 12.3.1-36.oe2403) * running under: openEuler 24.03 (LTS) * using session charset: UTF-8 * using option ‘--no-vignettes’ * checking for file ‘GeneStructureTools/DESCRIPTION’ ... OK * checking extension type ... Package * this is package ‘GeneStructureTools’ version ‘1.26.0’ * package encoding: UTF-8 * checking package namespace information ... OK * checking package dependencies ... OK * checking if this is a source package ... OK * checking if there is a namespace ... OK * checking for hidden files and directories ... OK * checking for portable file names ... OK * checking for sufficient/correct file permissions ... OK * checking whether package ‘GeneStructureTools’ can be installed ... OK * checking installed package size ... OK * checking package directory ... OK * checking ‘build’ directory ... OK * checking DESCRIPTION meta-information ... OK * checking top-level files ... OK * checking for left-over files ... OK * checking index information ... OK * checking package subdirectories ... OK * checking code files for non-ASCII characters ... OK * checking R files for syntax errors ... OK * checking whether the package can be loaded ... OK * checking whether the package can be loaded with stated dependencies ... OK * checking whether the package can be unloaded cleanly ... OK * checking whether the namespace can be loaded with stated dependencies ... OK * checking whether the namespace can be unloaded cleanly ... OK * checking loading without being on the library search path ... OK * checking dependencies in R code ... OK * checking S3 generic/method consistency ... OK * checking replacement functions ... OK * checking foreign function calls ... OK * checking R code for possible problems ... OK * checking Rd files ... OK * checking Rd metadata ... OK * checking Rd cross-references ... OK * checking for missing documentation entries ... OK * checking for code/documentation mismatches ... OK * checking Rd \usage sections ... OK * checking Rd contents ... OK * checking for unstated dependencies in examples ... OK * checking files in ‘vignettes’ ... OK * checking examples ... OK Examples with CPU (user + system) or elapsed time > 5s user system elapsed leafcutterTranscriptChangeSummary 32.901 0.351 33.347 whippetTranscriptChangeSummary 16.653 0.125 16.840 alternativeIntronUsage 6.034 0.112 6.162 replaceJunction 5.271 0.081 5.369 * checking for unstated dependencies in vignettes ... OK * checking package vignettes ... OK * checking running R code from vignettes ... SKIPPED * checking re-building of vignette outputs ... SKIPPED * checking PDF version of manual ... OK * DONE Status: OK
GeneStructureTools.Rcheck/00install.out
############################################################################## ############################################################################## ### ### Running command: ### ### /home/biocbuild/R/R/bin/R CMD INSTALL GeneStructureTools ### ############################################################################## ############################################################################## * installing to library ‘/home/biocbuild/R/R-4.4.2/site-library’ * installing *source* package ‘GeneStructureTools’ ... ** using staged installation ** R ** inst ** byte-compile and prepare package for lazy loading ** help *** installing help indices ** building package indices ** installing vignettes ** testing if installed package can be loaded from temporary location ** testing if installed package can be loaded from final location ** testing if installed package keeps a record of temporary installation path * DONE (GeneStructureTools)
GeneStructureTools.Rcheck/GeneStructureTools-Ex.timings
name | user | system | elapsed | |
DEXSeqIdsToGeneIds | 0.003 | 0.000 | 0.003 | |
UTR2UTR53 | 3.115 | 0.147 | 3.277 | |
addBroadTypes | 0.239 | 0.000 | 0.240 | |
addIntronInTranscript | 2.685 | 0.085 | 2.792 | |
alternativeIntronUsage | 6.034 | 0.112 | 6.162 | |
annotateGeneModel | 1.151 | 0.008 | 1.164 | |
attrChangeAltSpliced | 1.682 | 0.043 | 1.730 | |
coordinates-methods | 0.075 | 0.021 | 0.096 | |
diffSplicingResults-methods | 0.077 | 0.020 | 0.096 | |
exonsToTranscripts | 0.337 | 0.008 | 0.347 | |
filterGtfOverlap | 0.380 | 0.004 | 0.385 | |
filterWhippetEvents | 0.092 | 0.018 | 0.109 | |
findDEXexonType | 3.475 | 0.016 | 3.504 | |
findExonContainingTranscripts | 0.562 | 0.032 | 0.594 | |
findIntronContainingTranscripts | 0.845 | 0.030 | 0.877 | |
findJunctionPairs | 1.854 | 0.092 | 1.950 | |
formatWhippetEvents | 0.022 | 0.002 | 0.023 | |
getOrfs | 0.977 | 0.020 | 0.999 | |
getUOrfs | 0.825 | 0.016 | 0.843 | |
junctions-methods | 0.078 | 0.018 | 0.097 | |
leafcutterTranscriptChangeSummary | 32.901 | 0.351 | 33.347 | |
makeGeneModel | 0.197 | 0.004 | 0.202 | |
maxLocation | 0.004 | 0.000 | 0.004 | |
orfDiff | 2.052 | 0.049 | 2.111 | |
orfSimilarity | 0.001 | 0.000 | 0.001 | |
overlapTypes | 3.078 | 0.028 | 3.115 | |
readCounts-methods | 0.084 | 0.018 | 0.100 | |
readWhippetDIFFfiles | 0.004 | 0.004 | 0.009 | |
readWhippetDataSet | 0.076 | 0.024 | 0.100 | |
readWhippetJNCfiles | 0.043 | 0.008 | 0.049 | |
readWhippetPSIfiles | 0.027 | 0.003 | 0.030 | |
removeDuplicateTranscripts | 0.324 | 0.016 | 0.342 | |
removeSameExon | 0.277 | 0.012 | 0.291 | |
removeVersion | 0.000 | 0.000 | 0.001 | |
reorderExonNumbers | 0.208 | 0.012 | 0.221 | |
replaceJunction | 5.271 | 0.081 | 5.369 | |
skipExonInTranscript | 1.868 | 0.039 | 1.911 | |
summariseExonTypes | 3.332 | 0.028 | 3.370 | |
transcriptChangeSummary | 1.898 | 0.039 | 1.943 | |
whippetTranscriptChangeSummary | 16.653 | 0.125 | 16.840 | |