Back to Multiple platform build/check report for BioC 3.20:   simplified   long
ABCDEF[G]HIJKLMNOPQRSTUVWXYZ

This page was generated on 2025-02-06 12:08 -0500 (Thu, 06 Feb 2025).

HostnameOSArch (*)R versionInstalled pkgs
nebbiolo2Linux (Ubuntu 24.04.1 LTS)x86_644.4.2 (2024-10-31) -- "Pile of Leaves" 4753
palomino8Windows Server 2022 Datacenterx644.4.2 (2024-10-31 ucrt) -- "Pile of Leaves" 4501
merida1macOS 12.7.5 Montereyx86_644.4.2 (2024-10-31) -- "Pile of Leaves" 4524
kjohnson1macOS 13.6.6 Venturaarm644.4.2 (2024-10-31) -- "Pile of Leaves" 4476
taishanLinux (openEuler 24.03 LTS)aarch644.4.2 (2024-10-31) -- "Pile of Leaves" 4407
Click on any hostname to see more info about the system (e.g. compilers)      (*) as reported by 'uname -p', except on Windows and Mac OS X

Package 810/2289HostnameOS / ArchINSTALLBUILDCHECKBUILD BIN
GeneTonic 3.0.0  (landing page)
Federico Marini
Snapshot Date: 2025-02-03 13:00 -0500 (Mon, 03 Feb 2025)
git_url: https://git.bioconductor.org/packages/GeneTonic
git_branch: RELEASE_3_20
git_last_commit: d04704c
git_last_commit_date: 2024-10-29 10:43:15 -0500 (Tue, 29 Oct 2024)
nebbiolo2Linux (Ubuntu 24.04.1 LTS) / x86_64  OK    OK    OK  UNNEEDED, same version is already published
palomino8Windows Server 2022 Datacenter / x64  OK    OK    OK    OK  UNNEEDED, same version is already published
merida1macOS 12.7.5 Monterey / x86_64  OK    OK    OK    OK  UNNEEDED, same version is already published
kjohnson1macOS 13.6.6 Ventura / arm64  OK    OK    OK    OK  UNNEEDED, same version is already published
taishanLinux (openEuler 24.03 LTS) / aarch64  OK    OK    OK  


CHECK results for GeneTonic on merida1

To the developers/maintainers of the GeneTonic package:
- Allow up to 24 hours (and sometimes 48 hours) for your latest push to git@git.bioconductor.org:packages/GeneTonic.git to reflect on this report. See Troubleshooting Build Report for more information.
- Use the following Renviron settings to reproduce errors and warnings.
- If 'R CMD check' started to fail recently on the Linux builder(s) over a missing dependency, add the missing dependency to 'Suggests:' in your DESCRIPTION file. See Renviron.bioc for more information.

raw results


Summary

Package: GeneTonic
Version: 3.0.0
Command: /Library/Frameworks/R.framework/Resources/bin/R CMD check --install=check:GeneTonic.install-out.txt --library=/Library/Frameworks/R.framework/Resources/library --no-vignettes --timings GeneTonic_3.0.0.tar.gz
StartedAt: 2025-02-04 04:09:27 -0500 (Tue, 04 Feb 2025)
EndedAt: 2025-02-04 04:32:00 -0500 (Tue, 04 Feb 2025)
EllapsedTime: 1352.9 seconds
RetCode: 0
Status:   OK  
CheckDir: GeneTonic.Rcheck
Warnings: 0

Command output

##############################################################################
##############################################################################
###
### Running command:
###
###   /Library/Frameworks/R.framework/Resources/bin/R CMD check --install=check:GeneTonic.install-out.txt --library=/Library/Frameworks/R.framework/Resources/library --no-vignettes --timings GeneTonic_3.0.0.tar.gz
###
##############################################################################
##############################################################################


* using log directory ‘/Users/biocbuild/bbs-3.20-bioc/meat/GeneTonic.Rcheck’
* using R version 4.4.2 (2024-10-31)
* using platform: x86_64-apple-darwin20
* R was compiled by
    Apple clang version 14.0.0 (clang-1400.0.29.202)
    GNU Fortran (GCC) 12.2.0
* running under: macOS Monterey 12.7.6
* using session charset: UTF-8
* using option ‘--no-vignettes’
* checking for file ‘GeneTonic/DESCRIPTION’ ... OK
* this is package ‘GeneTonic’ version ‘3.0.0’
* package encoding: UTF-8
* checking package namespace information ... OK
* checking package dependencies ... OK
* checking if this is a source package ... OK
* checking if there is a namespace ... OK
* checking for hidden files and directories ... OK
* checking for portable file names ... OK
* checking for sufficient/correct file permissions ... OK
* checking whether package ‘GeneTonic’ can be installed ... OK
* checking installed package size ... OK
* checking package directory ... OK
* checking ‘build’ directory ... OK
* checking DESCRIPTION meta-information ... OK
* checking top-level files ... OK
* checking for left-over files ... OK
* checking index information ... OK
* checking package subdirectories ... OK
* checking code files for non-ASCII characters ... OK
* checking R files for syntax errors ... OK
* checking whether the package can be loaded ... OK
* checking whether the package can be loaded with stated dependencies ... OK
* checking whether the package can be unloaded cleanly ... OK
* checking whether the namespace can be loaded with stated dependencies ... OK
* checking whether the namespace can be unloaded cleanly ... OK
* checking whether startup messages can be suppressed ... OK
* checking dependencies in R code ... OK
* checking S3 generic/method consistency ... OK
* checking replacement functions ... OK
* checking foreign function calls ... OK
* checking R code for possible problems ... OK
* checking Rd files ... OK
* checking Rd metadata ... OK
* checking Rd cross-references ... OK
* checking for missing documentation entries ... OK
* checking for code/documentation mismatches ... OK
* checking Rd \usage sections ... OK
* checking Rd contents ... OK
* checking for unstated dependencies in examples ... OK
* checking contents of ‘data’ directory ... OK
* checking data for non-ASCII characters ... OK
* checking data for ASCII and uncompressed saves ... OK
* checking files in ‘vignettes’ ... OK
* checking examples ... OK
Examples with CPU (user + system) or elapsed time > 5s
                           user system elapsed
gs_mds                   13.462  0.430  14.372
summarize_ggs_hubgenes   12.766  0.317  13.515
gs_upset                 12.390  0.213  13.069
ggs_graph                11.768  0.280  12.288
ggs_backbone             11.038  0.373  11.717
gs_heatmap               10.740  0.236  11.215
gs_scores                10.582  0.283  11.329
signature_volcano         9.872  0.309  10.287
gs_dendro                 9.211  0.254   9.906
GeneTonic                 8.824  0.442   9.748
enhance_table             8.545  0.212   8.916
gs_scoresheat             8.267  0.289   9.201
gs_horizon                7.793  0.176   8.878
gs_volcano                7.555  0.204   8.285
gs_summary_overview       7.268  0.206   7.928
distill_enrichment        7.236  0.211   7.789
gs_summary_overview_pair  7.014  0.202   7.674
gs_alluvial               6.696  0.307   7.074
gene_plot                 6.811  0.187   7.379
create_kappa_matrix       6.534  0.408   7.369
GeneTonicList             6.537  0.232   7.591
get_aggrscores            6.493  0.236   7.029
enrichment_map            6.487  0.176   6.828
checkup_gtl               6.454  0.199   7.287
checkup_GeneTonic         6.448  0.179   7.299
export_for_iSEE           6.222  0.135   6.648
gs_summary_heat           5.721  0.212   6.118
gs_radar                  5.548  0.352   5.980
happy_hour                5.375  0.213   5.664
get_expression_values     4.883  0.133   5.170
* checking for unstated dependencies in ‘tests’ ... OK
* checking tests ...
  Running ‘testthat.R’
 OK
* checking for unstated dependencies in vignettes ... OK
* checking package vignettes ... OK
* checking running R code from vignettes ... SKIPPED
* checking re-building of vignette outputs ... SKIPPED
* checking PDF version of manual ... OK
* DONE

Status: OK


Installation output

GeneTonic.Rcheck/00install.out

##############################################################################
##############################################################################
###
### Running command:
###
###   /Library/Frameworks/R.framework/Resources/bin/R CMD INSTALL GeneTonic
###
##############################################################################
##############################################################################


* installing to library ‘/Library/Frameworks/R.framework/Versions/4.4-x86_64/Resources/library’
* installing *source* package ‘GeneTonic’ ...
** using staged installation
** R
** data
** inst
** byte-compile and prepare package for lazy loading
** help
*** installing help indices
*** copying figures
** building package indices
** installing vignettes
** testing if installed package can be loaded from temporary location
** testing if installed package can be loaded from final location
** testing if installed package keeps a record of temporary installation path
* DONE (GeneTonic)

Tests output

GeneTonic.Rcheck/tests/testthat.Rout


R version 4.4.2 (2024-10-31) -- "Pile of Leaves"
Copyright (C) 2024 The R Foundation for Statistical Computing
Platform: x86_64-apple-darwin20

R is free software and comes with ABSOLUTELY NO WARRANTY.
You are welcome to redistribute it under certain conditions.
Type 'license()' or 'licence()' for distribution details.

R is a collaborative project with many contributors.
Type 'contributors()' for more information and
'citation()' on how to cite R or R packages in publications.

Type 'demo()' for some demos, 'help()' for on-line help, or
'help.start()' for an HTML browser interface to help.
Type 'q()' to quit R.

> library(testthat)
> library(GeneTonic)

Welcome to GeneTonic v3.0.0

If you use GeneTonic in your work, please cite:

  GeneTonic: an R/Bioconductor package for streamlining the interpretation of RNA-seq data
  Federico Marini, Annekathrin Ludt, Jan Linke, Konstantin Strauch
  BMC Bioinformatics, 2021 - https://doi.org/10.1186/s12859-021-04461-5
and/or (if adopting the series of protocols as a whole)
  Interactive and Reproducible Workflows for Exploring and Modeling RNA-seq Data with pcaExplorer, ideal, and GeneTonic
  Annekathrin Ludt, Arsenij Ustjanzew, Harald Binder, Konstantin Strauch, Federico Marini
  Current Protocols, 2022 - https://doi.org/10.1002/cpz1.411

> 
> test_check("GeneTonic")
--- Loading packages...
- Done!
--- Generating objects for the testing setup...
using counts and average transcript lengths from tximeta
'select()' returned 1:many mapping between keys and columns
estimating size factors
using 'avgTxLength' from assays(dds), correcting for library size
estimating dispersions
gene-wise dispersion estimates
mean-dispersion relationship
final dispersion estimates
fitting model and testing
- Done!
--- Running enrichGO...
--- Running gseGO...
using 'fgsea' for GSEA analysis, please cite Korotkevich et al (2019).

preparing geneSet collections...
GSEA analysis...
leading edge analysis...
done...
Found 500 gene sets in `topGOtableResult` object.
Converting for usage in GeneTonic...
- Done!
---------------------------------
----- GeneTonicList object ------
---------------------------------

----- dds object -----
Providing an expression object (as DESeqDataset) of 17806 features over 24 samples

----- res_de object -----
Providing a DE result object (as DESeqResults), 17806 features tested, 1024 found as DE
Upregulated:     652
Downregulated:   372

----- res_enrich object -----
Providing an enrichment result object, 200 reported

----- annotation_obj object -----
Providing an annotation object of 58294 features with information on 2 identifier types

--- Test setup script completed!

  |                                                                            
  |                                                                      |   0%
  |                                                                            
  |                                                                      |   1%
  |                                                                            
  |=                                                                     |   1%
  |                                                                            
  |=                                                                     |   2%
  |                                                                            
  |==                                                                    |   2%
  |                                                                            
  |==                                                                    |   3%
  |                                                                            
  |==                                                                    |   4%
  |                                                                            
  |===                                                                   |   4%
  |                                                                            
  |===                                                                   |   5%
  |                                                                            
  |====                                                                  |   5%
  |                                                                            
  |====                                                                  |   6%
  |                                                                            
  |=====                                                                 |   6%
  |                                                                            
  |=====                                                                 |   7%
  |                                                                            
  |=====                                                                 |   8%
  |                                                                            
  |======                                                                |   8%
  |                                                                            
  |======                                                                |   9%
  |                                                                            
  |=======                                                               |   9%
  |                                                                            
  |=======                                                               |  10%
  |                                                                            
  |=======                                                               |  11%
  |                                                                            
  |========                                                              |  11%
  |                                                                            
  |========                                                              |  12%
  |                                                                            
  |=========                                                             |  12%
  |                                                                            
  |=========                                                             |  13%
  |                                                                            
  |=========                                                             |  14%
  |                                                                            
  |==========                                                            |  14%
  |                                                                            
  |==========                                                            |  15%
  |                                                                            
  |===========                                                           |  15%
  |                                                                            
  |===========                                                           |  16%
  |                                                                            
  |============                                                          |  16%
  |                                                                            
  |============                                                          |  17%
  |                                                                            
  |============                                                          |  18%
  |                                                                            
  |=============                                                         |  18%
  |                                                                            
  |=============                                                         |  19%
  |                                                                            
  |==============                                                        |  19%
  |                                                                            
  |==============                                                        |  20%
  |                                                                            
  |==============                                                        |  21%
  |                                                                            
  |===============                                                       |  21%
  |                                                                            
  |===============                                                       |  22%
  |                                                                            
  |================                                                      |  22%
  |                                                                            
  |================                                                      |  23%
  |                                                                            
  |================                                                      |  24%
  |                                                                            
  |=================                                                     |  24%
  |                                                                            
  |=================                                                     |  25%
  |                                                                            
  |==================                                                    |  25%
  |                                                                            
  |==================                                                    |  26%
  |                                                                            
  |===================                                                   |  26%
  |                                                                            
  |===================                                                   |  27%
  |                                                                            
  |===================                                                   |  28%
  |                                                                            
  |====================                                                  |  28%
  |                                                                            
  |====================                                                  |  29%
  |                                                                            
  |=====================                                                 |  29%
  |                                                                            
  |=====================                                                 |  30%
  |                                                                            
  |=====================                                                 |  31%
  |                                                                            
  |======================                                                |  31%
  |                                                                            
  |======================                                                |  32%
  |                                                                            
  |=======================                                               |  32%
  |                                                                            
  |=======================                                               |  33%
  |                                                                            
  |=======================                                               |  34%
  |                                                                            
  |========================                                              |  34%
  |                                                                            
  |========================                                              |  35%
  |                                                                            
  |=========================                                             |  35%
  |                                                                            
  |=========================                                             |  36%
  |                                                                            
  |==========================                                            |  36%
  |                                                                            
  |==========================                                            |  37%
  |                                                                            
  |==========================                                            |  38%
  |                                                                            
  |===========================                                           |  38%
  |                                                                            
  |===========================                                           |  39%
  |                                                                            
  |============================                                          |  39%
  |                                                                            
  |============================                                          |  40%
  |                                                                            
  |============================                                          |  41%
  |                                                                            
  |=============================                                         |  41%
  |                                                                            
  |=============================                                         |  42%
  |                                                                            
  |==============================                                        |  42%
  |                                                                            
  |==============================                                        |  43%
  |                                                                            
  |==============================                                        |  44%
  |                                                                            
  |===============================                                       |  44%
  |                                                                            
  |===============================                                       |  45%
  |                                                                            
  |================================                                      |  45%
  |                                                                            
  |================================                                      |  46%
  |                                                                            
  |=================================                                     |  46%
  |                                                                            
  |=================================                                     |  47%
  |                                                                            
  |=================================                                     |  48%
  |                                                                            
  |==================================                                    |  48%
  |                                                                            
  |==================================                                    |  49%
  |                                                                            
  |===================================                                   |  49%
  |                                                                            
  |===================================                                   |  50%
  |                                                                            
  |===================================                                   |  51%
  |                                                                            
  |====================================                                  |  51%
  |                                                                            
  |====================================                                  |  52%
  |                                                                            
  |=====================================                                 |  52%
  |                                                                            
  |=====================================                                 |  53%
  |                                                                            
  |=====================================                                 |  54%
  |                                                                            
  |======================================                                |  54%
  |                                                                            
  |======================================                                |  55%
  |                                                                            
  |=======================================                               |  55%
  |                                                                            
  |=======================================                               |  56%
  |                                                                            
  |========================================                              |  56%
  |                                                                            
  |========================================                              |  57%
  |                                                                            
  |========================================                              |  58%
  |                                                                            
  |=========================================                             |  58%
  |                                                                            
  |=========================================                             |  59%
  |                                                                            
  |==========================================                            |  59%
  |                                                                            
  |==========================================                            |  60%
  |                                                                            
  |==========================================                            |  61%
  |                                                                            
  |===========================================                           |  61%
  |                                                                            
  |===========================================                           |  62%
  |                                                                            
  |============================================                          |  62%
  |                                                                            
  |============================================                          |  63%
  |                                                                            
  |============================================                          |  64%
  |                                                                            
  |=============================================                         |  64%
  |                                                                            
  |=============================================                         |  65%
  |                                                                            
  |==============================================                        |  65%
  |                                                                            
  |==============================================                        |  66%
  |                                                                            
  |===============================================                       |  66%
  |                                                                            
  |===============================================                       |  67%
  |                                                                            
  |===============================================                       |  68%
  |                                                                            
  |================================================                      |  68%
  |                                                                            
  |================================================                      |  69%
  |                                                                            
  |=================================================                     |  69%
  |                                                                            
  |=================================================                     |  70%
  |                                                                            
  |=================================================                     |  71%
  |                                                                            
  |==================================================                    |  71%
  |                                                                            
  |==================================================                    |  72%
  |                                                                            
  |===================================================                   |  72%
  |                                                                            
  |===================================================                   |  73%
  |                                                                            
  |===================================================                   |  74%
  |                                                                            
  |====================================================                  |  74%
  |                                                                            
  |====================================================                  |  75%
  |                                                                            
  |=====================================================                 |  75%
  |                                                                            
  |=====================================================                 |  76%
  |                                                                            
  |======================================================                |  76%
  |                                                                            
  |======================================================                |  77%
  |                                                                            
  |======================================================                |  78%
  |                                                                            
  |=======================================================               |  78%
  |                                                                            
  |=======================================================               |  79%
  |                                                                            
  |========================================================              |  79%
  |                                                                            
  |========================================================              |  80%
  |                                                                            
  |========================================================              |  81%
  |                                                                            
  |=========================================================             |  81%
  |                                                                            
  |=========================================================             |  82%
  |                                                                            
  |==========================================================            |  82%
  |                                                                            
  |==========================================================            |  83%
  |                                                                            
  |==========================================================            |  84%
  |                                                                            
  |===========================================================           |  84%
  |                                                                            
  |===========================================================           |  85%
  |                                                                            
  |============================================================          |  85%
  |                                                                            
  |============================================================          |  86%
  |                                                                            
  |=============================================================         |  86%
  |                                                                            
  |=============================================================         |  87%
  |                                                                            
  |=============================================================         |  88%
  |                                                                            
  |==============================================================        |  88%
  |                                                                            
  |==============================================================        |  89%
  |                                                                            
  |===============================================================       |  89%
  |                                                                            
  |===============================================================       |  90%
  |                                                                            
  |===============================================================       |  91%
  |                                                                            
  |================================================================      |  91%
  |                                                                            
  |================================================================      |  92%
  |                                                                            
  |=================================================================     |  92%
  |                                                                            
  |=================================================================     |  93%
  |                                                                            
  |=================================================================     |  94%
  |                                                                            
  |==================================================================    |  94%
  |                                                                            
  |==================================================================    |  95%
  |                                                                            
  |===================================================================   |  95%
  |                                                                            
  |===================================================================   |  96%
  |                                                                            
  |====================================================================  |  96%
  |                                                                            
  |====================================================================  |  97%
  |                                                                            
  |====================================================================  |  98%
  |                                                                            
  |===================================================================== |  98%
  |                                                                            
  |===================================================================== |  99%
  |                                                                            
  |======================================================================|  99%
  |                                                                            
  |======================================================================| 100%
[ FAIL 0 | WARN 0 | SKIP 0 | PASS 262 ]
> 
> proc.time()
   user  system elapsed 
364.889  15.100 350.637 

Example timings

GeneTonic.Rcheck/GeneTonic-Ex.timings

nameusersystemelapsed
GeneTonic8.8240.4429.748
GeneTonicList6.5370.2327.591
check_colors0.0170.0020.020
checkup_GeneTonic6.4480.1797.299
checkup_gtl6.4540.1997.287
cluster_markov0.1850.0070.207
create_jaccard_matrix2.4120.1102.642
create_kappa_matrix6.5340.4087.369
create_upsetdata0.0870.1220.213
deprecated0.0000.0000.001
deseqresult2df0.2460.0080.258
distill_enrichment7.2360.2117.789
enhance_table8.5450.2128.916
enrichment_map6.4870.1766.828
export_for_iSEE6.2220.1356.648
export_to_sif0.0420.0030.076
gene_plot6.8110.1877.379
geneinfo_2_html0.0210.0030.024
get_aggrscores6.4930.2367.029
get_expression_values4.8830.1335.170
ggs_backbone11.038 0.37311.717
ggs_graph11.768 0.28012.288
go_2_html0.0540.0020.055
gs_alluvial6.6960.3077.074
gs_dendro9.2110.2549.906
gs_fuzzyclustering2.8580.1933.101
gs_heatmap10.740 0.23611.215
gs_horizon7.7930.1768.878
gs_mds13.462 0.43014.372
gs_radar5.5480.3525.980
gs_scores10.582 0.28311.329
gs_scoresheat8.2670.2899.201
gs_simplify3.1350.0813.312
gs_summary_heat5.7210.2126.118
gs_summary_overview7.2680.2067.928
gs_summary_overview_pair7.0140.2027.674
gs_upset12.390 0.21313.069
gs_volcano7.5550.2048.285
happy_hour5.3750.2135.664
map2color0.0210.0040.025
overlap_coefficient0.0000.0000.002
overlap_jaccard_index0.0010.0010.002
shake_davidResult0.0200.0020.028
shake_enrichResult2.9210.0823.036
shake_enrichrResult0.1100.0040.118
shake_fgseaResult0.2460.0120.261
shake_gprofilerResult0.1610.0150.184
shake_gsenrichResult3.0090.1063.169
shake_topGOtableResult0.0120.0090.021
signature_volcano 9.872 0.30910.287
styleColorBar_divergent0.3810.0710.457
summarize_ggs_hubgenes12.766 0.31713.515