Back to Multiple platform build/check report for BioC 3.20:   simplified   long
ABCDEF[G]HIJKLMNOPQRSTUVWXYZ

This page was generated on 2025-02-06 12:04 -0500 (Thu, 06 Feb 2025).

HostnameOSArch (*)R versionInstalled pkgs
nebbiolo2Linux (Ubuntu 24.04.1 LTS)x86_644.4.2 (2024-10-31) -- "Pile of Leaves" 4753
palomino8Windows Server 2022 Datacenterx644.4.2 (2024-10-31 ucrt) -- "Pile of Leaves" 4501
merida1macOS 12.7.5 Montereyx86_644.4.2 (2024-10-31) -- "Pile of Leaves" 4524
kjohnson1macOS 13.6.6 Venturaarm644.4.2 (2024-10-31) -- "Pile of Leaves" 4476
taishanLinux (openEuler 24.03 LTS)aarch644.4.2 (2024-10-31) -- "Pile of Leaves" 4407
Click on any hostname to see more info about the system (e.g. compilers)      (*) as reported by 'uname -p', except on Windows and Mac OS X

Package 820/2289HostnameOS / ArchINSTALLBUILDCHECKBUILD BIN
GenomicDataCommons 1.30.0  (landing page)
Sean Davis
Snapshot Date: 2025-02-03 13:00 -0500 (Mon, 03 Feb 2025)
git_url: https://git.bioconductor.org/packages/GenomicDataCommons
git_branch: RELEASE_3_20
git_last_commit: b1e7125
git_last_commit_date: 2024-10-29 10:18:33 -0500 (Tue, 29 Oct 2024)
nebbiolo2Linux (Ubuntu 24.04.1 LTS) / x86_64  OK    OK    ERROR  
palomino8Windows Server 2022 Datacenter / x64  OK    OK    ERROR    OK  
merida1macOS 12.7.5 Monterey / x86_64  OK    OK    ERROR    OK  
kjohnson1macOS 13.6.6 Ventura / arm64  OK    OK    ERROR    OK  
taishanLinux (openEuler 24.03 LTS) / aarch64  OK    OK    ERROR  


CHECK results for GenomicDataCommons on nebbiolo2

To the developers/maintainers of the GenomicDataCommons package:
- Allow up to 24 hours (and sometimes 48 hours) for your latest push to git@git.bioconductor.org:packages/GenomicDataCommons.git to reflect on this report. See Troubleshooting Build Report for more information.
- Use the following Renviron settings to reproduce errors and warnings.
- If 'R CMD check' started to fail recently on the Linux builder(s) over a missing dependency, add the missing dependency to 'Suggests:' in your DESCRIPTION file. See Renviron.bioc for more information.

raw results


Summary

Package: GenomicDataCommons
Version: 1.30.0
Command: /home/biocbuild/bbs-3.20-bioc/R/bin/R CMD check --install=check:GenomicDataCommons.install-out.txt --library=/home/biocbuild/bbs-3.20-bioc/R/site-library --timings GenomicDataCommons_1.30.0.tar.gz
StartedAt: 2025-02-03 22:39:58 -0500 (Mon, 03 Feb 2025)
EndedAt: 2025-02-03 22:42:26 -0500 (Mon, 03 Feb 2025)
EllapsedTime: 148.2 seconds
RetCode: 1
Status:   ERROR  
CheckDir: GenomicDataCommons.Rcheck
Warnings: NA

Command output

##############################################################################
##############################################################################
###
### Running command:
###
###   /home/biocbuild/bbs-3.20-bioc/R/bin/R CMD check --install=check:GenomicDataCommons.install-out.txt --library=/home/biocbuild/bbs-3.20-bioc/R/site-library --timings GenomicDataCommons_1.30.0.tar.gz
###
##############################################################################
##############################################################################


* using log directory ‘/home/biocbuild/bbs-3.20-bioc/meat/GenomicDataCommons.Rcheck’
* using R version 4.4.2 (2024-10-31)
* using platform: x86_64-pc-linux-gnu
* R was compiled by
    gcc (Ubuntu 13.2.0-23ubuntu4) 13.2.0
    GNU Fortran (Ubuntu 13.2.0-23ubuntu4) 13.2.0
* running under: Ubuntu 24.04.1 LTS
* using session charset: UTF-8
* checking for file ‘GenomicDataCommons/DESCRIPTION’ ... OK
* checking extension type ... Package
* this is package ‘GenomicDataCommons’ version ‘1.30.0’
* package encoding: UTF-8
* checking package namespace information ... OK
* checking package dependencies ... OK
* checking if this is a source package ... OK
* checking if there is a namespace ... OK
* checking for hidden files and directories ... OK
* checking for portable file names ... OK
* checking for sufficient/correct file permissions ... OK
* checking whether package ‘GenomicDataCommons’ can be installed ... OK
* checking installed package size ... OK
* checking package directory ... OK
* checking ‘build’ directory ... OK
* checking DESCRIPTION meta-information ... OK
* checking top-level files ... OK
* checking for left-over files ... OK
* checking index information ... OK
* checking package subdirectories ... OK
* checking code files for non-ASCII characters ... OK
* checking R files for syntax errors ... OK
* checking whether the package can be loaded ... OK
* checking whether the package can be loaded with stated dependencies ... OK
* checking whether the package can be unloaded cleanly ... OK
* checking whether the namespace can be loaded with stated dependencies ... OK
* checking whether the namespace can be unloaded cleanly ... OK
* checking loading without being on the library search path ... OK
* checking dependencies in R code ... OK
* checking S3 generic/method consistency ... OK
* checking replacement functions ... OK
* checking foreign function calls ... OK
* checking R code for possible problems ... OK
* checking Rd files ... OK
* checking Rd metadata ... OK
* checking Rd cross-references ... OK
* checking for missing documentation entries ... OK
* checking for code/documentation mismatches ... OK
* checking Rd \usage sections ... OK
* checking Rd contents ... OK
* checking for unstated dependencies in examples ... OK
* checking R/sysdata.rda ... OK
* checking files in ‘vignettes’ ... OK
* checking examples ... OK
* checking for unstated dependencies in ‘tests’ ... OK
* checking tests ...
  Running ‘testthat.R’
 ERROR
Running the tests in ‘tests/testthat.R’ failed.
Last 13 lines of output:
  > 
  > test_check("GenomicDataCommons")
  [ FAIL 1 | WARN 0 | SKIP 0 | PASS 45 ]
  
  ══ Failed tests ════════════════════════════════════════════════════════════════
  ── Failure ('test_clinical.R:17:5'): clinical data is structured properly ──────
  vapply(clinical_data, nrow, integer(1L)) not identical to c(...).
  3/5 mismatches (average diff: 3)
  [2] 3 - 2 == 1
  [3] 3 - 0 == 3
  [4] 5 - 0 == 5
  
  [ FAIL 1 | WARN 0 | SKIP 0 | PASS 45 ]
  Error: Test failures
  Execution halted
* checking for unstated dependencies in vignettes ... OK
* checking package vignettes ... OK
* checking re-building of vignette outputs ... OK
* checking PDF version of manual ... OK
* DONE

Status: 1 ERROR
See
  ‘/home/biocbuild/bbs-3.20-bioc/meat/GenomicDataCommons.Rcheck/00check.log’
for details.


Installation output

GenomicDataCommons.Rcheck/00install.out

##############################################################################
##############################################################################
###
### Running command:
###
###   /home/biocbuild/bbs-3.20-bioc/R/bin/R CMD INSTALL GenomicDataCommons
###
##############################################################################
##############################################################################


* installing to library ‘/home/biocbuild/bbs-3.20-bioc/R/site-library’
* installing *source* package ‘GenomicDataCommons’ ...
** using staged installation
** R
** inst
** byte-compile and prepare package for lazy loading
** help
*** installing help indices
** building package indices
** installing vignettes
** testing if installed package can be loaded from temporary location
** testing if installed package can be loaded from final location
** testing if installed package keeps a record of temporary installation path
* DONE (GenomicDataCommons)

Tests output

GenomicDataCommons.Rcheck/tests/testthat.Rout.fail


R version 4.4.2 (2024-10-31) -- "Pile of Leaves"
Copyright (C) 2024 The R Foundation for Statistical Computing
Platform: x86_64-pc-linux-gnu

R is free software and comes with ABSOLUTELY NO WARRANTY.
You are welcome to redistribute it under certain conditions.
Type 'license()' or 'licence()' for distribution details.

R is a collaborative project with many contributors.
Type 'contributors()' for more information and
'citation()' on how to cite R or R packages in publications.

Type 'demo()' for some demos, 'help()' for on-line help, or
'help.start()' for an HTML browser interface to help.
Type 'q()' to quit R.

> library(testthat)
> library(GenomicDataCommons)

Attaching package: 'GenomicDataCommons'

The following object is masked from 'package:stats':

    filter

> 
> test_check("GenomicDataCommons")
[ FAIL 1 | WARN 0 | SKIP 0 | PASS 45 ]

══ Failed tests ════════════════════════════════════════════════════════════════
── Failure ('test_clinical.R:17:5'): clinical data is structured properly ──────
vapply(clinical_data, nrow, integer(1L)) not identical to c(...).
3/5 mismatches (average diff: 3)
[2] 3 - 2 == 1
[3] 3 - 0 == 3
[4] 5 - 0 == 5

[ FAIL 1 | WARN 0 | SKIP 0 | PASS 45 ]
Error: Test failures
Execution halted

Example timings

GenomicDataCommons.Rcheck/GenomicDataCommons-Ex.timings

nameusersystemelapsed
aggregations0.1330.0170.764
available_expand0.0180.0000.080
available_fields0.0420.0010.141
available_values0.0580.0000.527
constants0.0010.0000.001
count0.1170.0000.403
default_fields0.0540.0010.155
entity_name0.0740.0020.197
expand0.1510.0010.366
faceting0.0850.0010.220
field_description0.2560.0100.583
filtering0.7280.0101.802
gdc_cache0.0010.0000.001
gdc_client0.0000.0040.003
gdc_clinical0.6460.0021.148
gdc_token0.0010.0000.001
gdcdata0.2300.0040.654
grep_fields0.0250.0010.062
id_field0.0360.0010.082
ids0.2440.0170.923
manifest0.1480.0120.335
mapping0.0130.0020.047
query0.0700.0140.173
readDNAcopy0.1990.0430.241
readHTSeqFile0.0510.0080.059
response0.0490.0000.200
results0.0640.0000.209
results_all0.0990.0010.356
select0.2180.0030.490
slicing000
status0.0140.0000.054
transfer000
write_manifest0.1140.0030.325