Back to Multiple platform build/check report for BioC 3.20:   simplified   long
ABCDEFGH[I]JKLMNOPQRSTUVWXYZ

This page was generated on 2024-11-20 12:07 -0500 (Wed, 20 Nov 2024).

HostnameOSArch (*)R versionInstalled pkgs
teran2Linux (Ubuntu 24.04.1 LTS)x86_644.4.2 (2024-10-31) -- "Pile of Leaves" 4481
nebbiolo2Linux (Ubuntu 24.04.1 LTS)x86_644.4.2 (2024-10-31) -- "Pile of Leaves" 4479
palomino8Windows Server 2022 Datacenterx644.4.2 (2024-10-31 ucrt) -- "Pile of Leaves" 4359
lconwaymacOS 12.7.1 Montereyx86_644.4.1 (2024-06-14) -- "Race for Your Life" 4539
kunpeng2Linux (openEuler 22.03 LTS-SP1)aarch644.4.1 (2024-06-14) -- "Race for Your Life" 4493
Click on any hostname to see more info about the system (e.g. compilers)      (*) as reported by 'uname -p', except on Windows and Mac OS X

Package 1033/2289HostnameOS / ArchINSTALLBUILDCHECKBUILD BIN
INSPEcT 1.36.0  (landing page)
Stefano de Pretis
Snapshot Date: 2024-11-19 13:40 -0500 (Tue, 19 Nov 2024)
git_url: https://git.bioconductor.org/packages/INSPEcT
git_branch: RELEASE_3_20
git_last_commit: ce54116
git_last_commit_date: 2024-10-29 10:02:14 -0500 (Tue, 29 Oct 2024)
teran2Linux (Ubuntu 24.04.1 LTS) / x86_64  OK    OK    OK  UNNEEDED, same version is already published
nebbiolo2Linux (Ubuntu 24.04.1 LTS) / x86_64  OK    OK    OK  
palomino8Windows Server 2022 Datacenter / x64  OK    OK    OK    OK  UNNEEDED, same version is already published
lconwaymacOS 12.7.1 Monterey / x86_64  OK    OK    OK    OK  UNNEEDED, same version is already published
kunpeng2Linux (openEuler 22.03 LTS-SP1) / aarch64  OK    OK    OK  


CHECK results for INSPEcT on kunpeng2

To the developers/maintainers of the INSPEcT package:
- Allow up to 24 hours (and sometimes 48 hours) for your latest push to git@git.bioconductor.org:packages/INSPEcT.git to reflect on this report. See Troubleshooting Build Report for more information.
- Use the following Renviron settings to reproduce errors and warnings.
- If 'R CMD check' started to fail recently on the Linux builder(s) over a missing dependency, add the missing dependency to 'Suggests:' in your DESCRIPTION file. See Renviron.bioc for more information.
- See Martin Grigorov's blog post for how to debug Linux ARM64 related issues on a x86_64 host.

raw results


Summary

Package: INSPEcT
Version: 1.36.0
Command: /home/biocbuild/R/R/bin/R CMD check --install=check:INSPEcT.install-out.txt --library=/home/biocbuild/R/R/site-library --no-vignettes --timings INSPEcT_1.36.0.tar.gz
StartedAt: 2024-11-20 09:01:50 -0000 (Wed, 20 Nov 2024)
EndedAt: 2024-11-20 09:18:36 -0000 (Wed, 20 Nov 2024)
EllapsedTime: 1005.8 seconds
RetCode: 0
Status:   OK  
CheckDir: INSPEcT.Rcheck
Warnings: 0

Command output

##############################################################################
##############################################################################
###
### Running command:
###
###   /home/biocbuild/R/R/bin/R CMD check --install=check:INSPEcT.install-out.txt --library=/home/biocbuild/R/R/site-library --no-vignettes --timings INSPEcT_1.36.0.tar.gz
###
##############################################################################
##############################################################################


* using log directory ‘/home/biocbuild/bbs-3.20-bioc/meat/INSPEcT.Rcheck’
* using R version 4.4.1 (2024-06-14)
* using platform: aarch64-unknown-linux-gnu
* R was compiled by
    gcc (GCC) 12.2.1 20220819 (openEuler 12.2.1-14)
    GNU Fortran (GCC) 10.3.1
* running under: openEuler 22.03 (LTS-SP1)
* using session charset: UTF-8
* using option ‘--no-vignettes’
* checking for file ‘INSPEcT/DESCRIPTION’ ... OK
* checking extension type ... Package
* this is package ‘INSPEcT’ version ‘1.36.0’
* checking package namespace information ... OK
* checking package dependencies ... OK
* checking if this is a source package ... OK
* checking if there is a namespace ... OK
* checking for hidden files and directories ... OK
* checking for portable file names ... OK
* checking for sufficient/correct file permissions ... OK
* checking whether package ‘INSPEcT’ can be installed ... OK
* checking installed package size ... NOTE
  installed size is  7.1Mb
  sub-directories of 1Mb or more:
    R      1.8Mb
    data   2.8Mb
* checking package directory ... OK
* checking ‘build’ directory ... OK
* checking DESCRIPTION meta-information ... OK
* checking top-level files ... OK
* checking for left-over files ... OK
* checking index information ... OK
* checking package subdirectories ... OK
* checking code files for non-ASCII characters ... OK
* checking R files for syntax errors ... OK
* checking whether the package can be loaded ... OK
* checking whether the package can be loaded with stated dependencies ... OK
* checking whether the package can be unloaded cleanly ... OK
* checking whether the namespace can be loaded with stated dependencies ... OK
* checking whether the namespace can be unloaded cleanly ... OK
* checking loading without being on the library search path ... OK
* checking dependencies in R code ... OK
* checking S3 generic/method consistency ... OK
* checking replacement functions ... OK
* checking foreign function calls ... OK
* checking R code for possible problems ... NOTE
output_pars: no visible global function definition for ‘plot.new’
plotSingleRNADynamic: no visible global function definition for ‘lines’
Undefined global functions or variables:
  lines plot.new
Consider adding
  importFrom("graphics", "lines", "plot.new")
to your NAMESPACE file.
* checking Rd files ... OK
* checking Rd metadata ... OK
* checking Rd cross-references ... OK
* checking for missing documentation entries ... OK
* checking for code/documentation mismatches ... OK
* checking Rd \usage sections ... OK
* checking Rd contents ... OK
* checking for unstated dependencies in examples ... OK
* checking contents of ‘data’ directory ... OK
* checking data for non-ASCII characters ... OK
* checking data for ASCII and uncompressed saves ... OK
* checking files in ‘vignettes’ ... OK
* checking examples ... OK
Examples with CPU (user + system) or elapsed time > 5s
                                   user system elapsed
makeSimDataset                  119.668  0.379 120.281
quantifyExpressionsFromBAMs      50.539  0.304  51.756
INSPEcT_diffsteady-class         44.292  0.352  42.234
rocThresholds                    41.321  0.268  41.823
makeSimModel                     40.450  0.120  40.644
rocCurve                         40.220  0.056  40.351
plotMA                           38.710  0.028  36.319
compareSteady                    38.105  0.167  35.862
modelRates                       24.526  0.092  24.663
quantifyExpressionsFromTrCounts  24.010  0.155  21.712
newINSPEcT                       22.373  0.131  21.308
processingDelay                  21.476  0.056  19.083
makeOscillatorySimModel          10.717  0.128  10.868
compareSteadyNoNascent            8.770  0.044   7.596
inspectFromPCR                    5.033  0.016   5.061
* checking for unstated dependencies in vignettes ... OK
* checking package vignettes ... OK
* checking running R code from vignettes ... SKIPPED
* checking re-building of vignette outputs ... SKIPPED
* checking PDF version of manual ... OK
* DONE

Status: 2 NOTEs
See
  ‘/home/biocbuild/bbs-3.20-bioc/meat/INSPEcT.Rcheck/00check.log’
for details.


Installation output

INSPEcT.Rcheck/00install.out

##############################################################################
##############################################################################
###
### Running command:
###
###   /home/biocbuild/R/R/bin/R CMD INSTALL INSPEcT
###
##############################################################################
##############################################################################


* installing to library ‘/home/biocbuild/R/R-4.4.1/site-library’
* installing *source* package ‘INSPEcT’ ...
** using staged installation
** R
** data
** inst
** byte-compile and prepare package for lazy loading
** help
*** installing help indices
** building package indices
** installing vignettes
** testing if installed package can be loaded from temporary location
** testing if installed package can be loaded from final location
** testing if installed package keeps a record of temporary installation path
* DONE (INSPEcT)

Tests output


Example timings

INSPEcT.Rcheck/INSPEcT-Ex.timings

nameusersystemelapsed
AIC-INSPEcT-method0.2340.0000.236
Extract0.4550.0040.459
INSPEcT_diffsteady-class44.292 0.35242.234
calculateRatePvals0.2730.0000.274
chisqmodel0.2010.0000.201
chisqtest0.1960.0040.201
combine0.4520.0040.457
compareSteady38.105 0.16735.862
compareSteadyNoNascent8.7700.0447.596
convergence0.1970.0030.200
geneClass0.2780.0000.279
inHeatmap0.2420.0040.247
inspectFromPCR5.0330.0165.061
labeledSF0.1980.0040.202
logLik0.1990.0000.204
makeModelRates0.2570.0040.262
makeOscillatorySimModel10.717 0.12810.868
makeSimDataset119.668 0.379120.281
makeSimModel40.450 0.12040.644
modelRates24.526 0.09224.663
modelRatesNF1.8420.0321.877
modelSelection0.2000.0000.201
modelingParams0.1970.0000.199
nGenes0.1990.0000.200
nTpts0.1980.0000.199
newINSPEcT22.373 0.13121.308
plotGene0.2560.0000.257
plotMA38.710 0.02836.319
processingDelay21.476 0.05619.083
quantifyExpressionsFromBAMs50.539 0.30451.756
quantifyExpressionsFromTrCounts24.010 0.15521.712
ratePvals0.2000.0000.199
ratesFirstGuess0.20.00.2
ratesFirstGuessVar0.1990.0000.200
removeModel0.3470.0000.347
rocCurve40.220 0.05640.351
rocThresholds41.321 0.26841.823
split0.3280.0080.337
tpts0.1940.0040.197
viewConfidenceIntervals0.20.00.2
viewModelRates0.1940.0040.199