Back to Multiple platform build/check report for BioC 3.20:   simplified   long
ABCDEFGH[I]JKLMNOPQRSTUVWXYZ

This page was generated on 2025-02-06 12:11 -0500 (Thu, 06 Feb 2025).

HostnameOSArch (*)R versionInstalled pkgs
nebbiolo2Linux (Ubuntu 24.04.1 LTS)x86_644.4.2 (2024-10-31) -- "Pile of Leaves" 4753
palomino8Windows Server 2022 Datacenterx644.4.2 (2024-10-31 ucrt) -- "Pile of Leaves" 4501
merida1macOS 12.7.5 Montereyx86_644.4.2 (2024-10-31) -- "Pile of Leaves" 4524
kjohnson1macOS 13.6.6 Venturaarm644.4.2 (2024-10-31) -- "Pile of Leaves" 4476
taishanLinux (openEuler 24.03 LTS)aarch644.4.2 (2024-10-31) -- "Pile of Leaves" 4407
Click on any hostname to see more info about the system (e.g. compilers)      (*) as reported by 'uname -p', except on Windows and Mac OS X

Package 1043/2289HostnameOS / ArchINSTALLBUILDCHECKBUILD BIN
IntEREst 1.30.0  (landing page)
Ali Oghabian
Snapshot Date: 2025-02-03 13:00 -0500 (Mon, 03 Feb 2025)
git_url: https://git.bioconductor.org/packages/IntEREst
git_branch: RELEASE_3_20
git_last_commit: 806b1f1
git_last_commit_date: 2024-10-29 10:17:53 -0500 (Tue, 29 Oct 2024)
nebbiolo2Linux (Ubuntu 24.04.1 LTS) / x86_64  OK    OK    OK  UNNEEDED, same version is already published
palomino8Windows Server 2022 Datacenter / x64  OK    OK    OK    OK  UNNEEDED, same version is already published
merida1macOS 12.7.5 Monterey / x86_64  OK    OK    OK    OK  UNNEEDED, same version is already published
kjohnson1macOS 13.6.6 Ventura / arm64  OK    OK    OK    OK  UNNEEDED, same version is already published
taishanLinux (openEuler 24.03 LTS) / aarch64  OK    OK    OK  


CHECK results for IntEREst on taishan

To the developers/maintainers of the IntEREst package:
- Allow up to 24 hours (and sometimes 48 hours) for your latest push to git@git.bioconductor.org:packages/IntEREst.git to reflect on this report. See Troubleshooting Build Report for more information.
- Use the following Renviron settings to reproduce errors and warnings.
- If 'R CMD check' started to fail recently on the Linux builder(s) over a missing dependency, add the missing dependency to 'Suggests:' in your DESCRIPTION file. See Renviron.bioc for more information.
- See Martin Grigorov's blog post for how to debug Linux ARM64 related issues on a x86_64 host.

raw results


Summary

Package: IntEREst
Version: 1.30.0
Command: /home/biocbuild/R/R/bin/R CMD check --install=check:IntEREst.install-out.txt --library=/home/biocbuild/R/R/site-library --no-vignettes --timings IntEREst_1.30.0.tar.gz
StartedAt: 2025-02-04 08:05:27 -0000 (Tue, 04 Feb 2025)
EndedAt: 2025-02-04 08:12:33 -0000 (Tue, 04 Feb 2025)
EllapsedTime: 426.4 seconds
RetCode: 0
Status:   OK  
CheckDir: IntEREst.Rcheck
Warnings: 0

Command output

##############################################################################
##############################################################################
###
### Running command:
###
###   /home/biocbuild/R/R/bin/R CMD check --install=check:IntEREst.install-out.txt --library=/home/biocbuild/R/R/site-library --no-vignettes --timings IntEREst_1.30.0.tar.gz
###
##############################################################################
##############################################################################


* using log directory ‘/home/biocbuild/bbs-3.20-bioc/meat/IntEREst.Rcheck’
* using R version 4.4.2 (2024-10-31)
* using platform: aarch64-unknown-linux-gnu
* R was compiled by
    aarch64-unknown-linux-gnu-gcc (GCC) 14.2.0
    GNU Fortran (GCC) 12.3.1 (openEuler 12.3.1-36.oe2403)
* running under: openEuler 24.03 (LTS)
* using session charset: UTF-8
* using option ‘--no-vignettes’
* checking for file ‘IntEREst/DESCRIPTION’ ... OK
* this is package ‘IntEREst’ version ‘1.30.0’
* checking package namespace information ... OK
* checking package dependencies ... NOTE
Depends: includes the non-default packages:
  'GenomicRanges', 'Rsamtools', 'SummarizedExperiment', 'edgeR',
  'S4Vectors', 'GenomicFiles'
Adding so many packages to the search path is excessive and importing
selectively is preferable.
* checking if this is a source package ... OK
* checking if there is a namespace ... OK
* checking for hidden files and directories ... OK
* checking for portable file names ... OK
* checking for sufficient/correct file permissions ... OK
* checking whether package ‘IntEREst’ can be installed ... OK
* checking installed package size ... OK
* checking package directory ... OK
* checking ‘build’ directory ... OK
* checking DESCRIPTION meta-information ... OK
* checking top-level files ... OK
* checking for left-over files ... OK
* checking index information ... OK
* checking package subdirectories ... OK
* checking code files for non-ASCII characters ... OK
* checking R files for syntax errors ... OK
* checking whether the package can be loaded ... OK
* checking whether the package can be loaded with stated dependencies ... OK
* checking whether the package can be unloaded cleanly ... OK
* checking whether the namespace can be loaded with stated dependencies ... OK
* checking whether the namespace can be unloaded cleanly ... OK
* checking loading without being on the library search path ... OK
* checking dependencies in R code ... OK
* checking S3 generic/method consistency ... OK
* checking replacement functions ... OK
* checking foreign function calls ... OK
* checking R code for possible problems ... NOTE
interestIntExAnalyseSingleStranded: no visible global function
  definition for ‘bamFlagAsBitMatrix’
Undefined global functions or variables:
  bamFlagAsBitMatrix
* checking Rd files ... NOTE
checkRd: (-1) interest.Rd:105: Lost braces; missing escapes or markup?
   105 | regions to a different region defined in {limitRanges}. It is useful to ignore 
       |                                          ^
checkRd: (-1) interest.sequential.Rd:103: Lost braces; missing escapes or markup?
   103 | regions to a different region defined in {limitRanges}. It is useful to ignore 
       |                                          ^
* checking Rd metadata ... OK
* checking Rd cross-references ... OK
* checking for missing documentation entries ... OK
* checking for code/documentation mismatches ... OK
* checking Rd \usage sections ... OK
* checking Rd contents ... OK
* checking for unstated dependencies in examples ... OK
* checking contents of ‘data’ directory ... OK
* checking data for non-ASCII characters ... OK
* checking LazyData ... OK
* checking data for ASCII and uncompressed saves ... OK
* checking files in ‘vignettes’ ... OK
* checking examples ... OK
Examples with CPU (user + system) or elapsed time > 5s
                 user system elapsed
DEXSeqIntEREst 21.813  0.543  22.407
deseqInterest   5.392  0.111   5.519
* checking for unstated dependencies in vignettes ... OK
* checking package vignettes ... OK
* checking running R code from vignettes ... SKIPPED
* checking re-building of vignette outputs ... SKIPPED
* checking PDF version of manual ... OK
* DONE

Status: 3 NOTEs
See
  ‘/home/biocbuild/bbs-3.20-bioc/meat/IntEREst.Rcheck/00check.log’
for details.


Installation output

IntEREst.Rcheck/00install.out

##############################################################################
##############################################################################
###
### Running command:
###
###   /home/biocbuild/R/R/bin/R CMD INSTALL IntEREst
###
##############################################################################
##############################################################################


* installing to library ‘/home/biocbuild/R/R-4.4.2/site-library’
* installing *source* package ‘IntEREst’ ...
** using staged installation
** R
** data
*** moving datasets to lazyload DB
** inst
** byte-compile and prepare package for lazy loading
** help
*** installing help indices
** building package indices
** installing vignettes
** testing if installed package can be loaded from temporary location
** testing if installed package can be loaded from final location
** testing if installed package keeps a record of temporary installation path
* DONE (IntEREst)

Tests output


Example timings

IntEREst.Rcheck/IntEREst-Ex.timings

nameusersystemelapsed
DEXSeqIntEREst21.813 0.54322.407
addAnnotation0.0350.0040.040
annotateU122.6730.0762.757
applyOverlap0.2150.0040.219
attributes0.0280.0000.029
boxplot-method0.0640.0000.065
buildSsTypePwms000
counts-method0.0340.0000.033
deseqInterest5.3920.1115.519
exactTestInterest0.1040.0040.108
getRepeatTable000
glmInterest0.1250.0000.125
interest1.7900.0401.837
interest.sequential1.6310.0081.643
interestResult0.0220.0000.022
interestResultIntEx0.2110.0000.211
intexIndex0.0030.0000.003
lfc0.2730.0040.278
mergeInterestResult0.0790.0000.078
plot-method0.4040.0000.405
psi0.9520.0120.967
qlfInterest0.1650.0000.166
readInterestResults0.0370.0000.037
referencePrepare1.3600.0121.376
subInterestResult0.0400.0000.039
treatInterest0.1290.0000.129
u12Boxplot0.0660.0040.071
u12BoxplotNb0.0870.0000.087
u12DensityPlot0.3150.0120.328
u12Index0.0050.0000.006
u12NbIndex0.0560.0000.056
unionRefTr0.0130.0040.016
updateRowDataCol0.0520.0000.053