Back to Multiple platform build/check report for BioC 3.20:   simplified   long
ABCDEFGH[I]JKLMNOPQRSTUVWXYZ

This page was generated on 2025-02-06 12:11 -0500 (Thu, 06 Feb 2025).

HostnameOSArch (*)R versionInstalled pkgs
nebbiolo2Linux (Ubuntu 24.04.1 LTS)x86_644.4.2 (2024-10-31) -- "Pile of Leaves" 4753
palomino8Windows Server 2022 Datacenterx644.4.2 (2024-10-31 ucrt) -- "Pile of Leaves" 4501
merida1macOS 12.7.5 Montereyx86_644.4.2 (2024-10-31) -- "Pile of Leaves" 4524
kjohnson1macOS 13.6.6 Venturaarm644.4.2 (2024-10-31) -- "Pile of Leaves" 4476
taishanLinux (openEuler 24.03 LTS)aarch644.4.2 (2024-10-31) -- "Pile of Leaves" 4407
Click on any hostname to see more info about the system (e.g. compilers)      (*) as reported by 'uname -p', except on Windows and Mac OS X

Package 1067/2289HostnameOS / ArchINSTALLBUILDCHECKBUILD BIN
IsoformSwitchAnalyzeR 2.6.0  (landing page)
Kristoffer Vitting-Seerup
Snapshot Date: 2025-02-03 13:00 -0500 (Mon, 03 Feb 2025)
git_url: https://git.bioconductor.org/packages/IsoformSwitchAnalyzeR
git_branch: RELEASE_3_20
git_last_commit: f466631
git_last_commit_date: 2024-10-29 10:19:54 -0500 (Tue, 29 Oct 2024)
nebbiolo2Linux (Ubuntu 24.04.1 LTS) / x86_64  OK    OK    OK  UNNEEDED, same version is already published
palomino8Windows Server 2022 Datacenter / x64  OK    OK    OK    OK  UNNEEDED, same version is already published
merida1macOS 12.7.5 Monterey / x86_64  OK    OK    OK    OK  UNNEEDED, same version is already published
kjohnson1macOS 13.6.6 Ventura / arm64  OK    OK    OK    OK  UNNEEDED, same version is already published
taishanLinux (openEuler 24.03 LTS) / aarch64  OK    OK    OK  


CHECK results for IsoformSwitchAnalyzeR on taishan

To the developers/maintainers of the IsoformSwitchAnalyzeR package:
- Allow up to 24 hours (and sometimes 48 hours) for your latest push to git@git.bioconductor.org:packages/IsoformSwitchAnalyzeR.git to reflect on this report. See Troubleshooting Build Report for more information.
- Use the following Renviron settings to reproduce errors and warnings.
- If 'R CMD check' started to fail recently on the Linux builder(s) over a missing dependency, add the missing dependency to 'Suggests:' in your DESCRIPTION file. See Renviron.bioc for more information.
- See Martin Grigorov's blog post for how to debug Linux ARM64 related issues on a x86_64 host.

raw results


Summary

Package: IsoformSwitchAnalyzeR
Version: 2.6.0
Command: /home/biocbuild/R/R/bin/R CMD check --install=check:IsoformSwitchAnalyzeR.install-out.txt --library=/home/biocbuild/R/R/site-library --no-vignettes --timings IsoformSwitchAnalyzeR_2.6.0.tar.gz
StartedAt: 2025-02-04 08:11:47 -0000 (Tue, 04 Feb 2025)
EndedAt: 2025-02-04 08:25:42 -0000 (Tue, 04 Feb 2025)
EllapsedTime: 834.3 seconds
RetCode: 0
Status:   OK  
CheckDir: IsoformSwitchAnalyzeR.Rcheck
Warnings: 0

Command output

##############################################################################
##############################################################################
###
### Running command:
###
###   /home/biocbuild/R/R/bin/R CMD check --install=check:IsoformSwitchAnalyzeR.install-out.txt --library=/home/biocbuild/R/R/site-library --no-vignettes --timings IsoformSwitchAnalyzeR_2.6.0.tar.gz
###
##############################################################################
##############################################################################


* using log directory ‘/home/biocbuild/bbs-3.20-bioc/meat/IsoformSwitchAnalyzeR.Rcheck’
* using R version 4.4.2 (2024-10-31)
* using platform: aarch64-unknown-linux-gnu
* R was compiled by
    aarch64-unknown-linux-gnu-gcc (GCC) 14.2.0
    GNU Fortran (GCC) 12.3.1 (openEuler 12.3.1-36.oe2403)
* running under: openEuler 24.03 (LTS)
* using session charset: UTF-8
* using option ‘--no-vignettes’
* checking for file ‘IsoformSwitchAnalyzeR/DESCRIPTION’ ... OK
* checking extension type ... Package
* this is package ‘IsoformSwitchAnalyzeR’ version ‘2.6.0’
* checking package namespace information ... OK
* checking package dependencies ... NOTE
Depends: includes the non-default packages:
  'limma', 'DEXSeq', 'satuRn', 'sva', 'ggplot2', 'pfamAnalyzeR'
Adding so many packages to the search path is excessive and importing
selectively is preferable.
* checking if this is a source package ... OK
* checking if there is a namespace ... OK
* checking for hidden files and directories ... OK
* checking for portable file names ... OK
* checking for sufficient/correct file permissions ... OK
* checking whether package ‘IsoformSwitchAnalyzeR’ can be installed ... OK
* used C compiler: ‘aarch64-unknown-linux-gnu-gcc (GCC) 14.2.0’
* checking installed package size ... NOTE
  installed size is  7.0Mb
  sub-directories of 1Mb or more:
    R         1.0Mb
    data      1.1Mb
    extdata   4.4Mb
* checking package directory ... OK
* checking ‘build’ directory ... OK
* checking DESCRIPTION meta-information ... OK
* checking top-level files ... OK
* checking for left-over files ... OK
* checking index information ... OK
* checking package subdirectories ... OK
* checking code files for non-ASCII characters ... OK
* checking R files for syntax errors ... OK
* checking whether the package can be loaded ... OK
* checking whether the package can be loaded with stated dependencies ... OK
* checking whether the package can be unloaded cleanly ... OK
* checking whether the namespace can be loaded with stated dependencies ... OK
* checking whether the namespace can be unloaded cleanly ... OK
* checking loading without being on the library search path ... OK
* checking dependencies in R code ... OK
* checking S3 generic/method consistency ... OK
* checking replacement functions ... OK
* checking foreign function calls ... OK
* checking R code for possible problems ... NOTE
analyzeNovelIsoformORF: no visible binding for global variable
  'orf_origin'
analyzeNovelIsoformORF: no visible binding for global variable
  'orfStartGenomic'
analyzeNovelIsoformORF: no visible binding for global variable
  'isoform_id'
analyzeNovelIsoformORF: no visible binding for global variable
  'orfEndGenomic'
expressionAnalysisPlot: no visible binding for global variable
  'Condition'
expressionAnalysisPlot: no visible binding for global variable
  'gene_expression'
expressionAnalysisPlot: no visible binding for global variable 'CI_up'
expressionAnalysisPlot: no visible binding for global variable
  'CI_down'
expressionAnalysisPlot: no visible binding for global variable
  'sigLevelPos'
expressionAnalysisPlot: no visible binding for global variable
  'sigLevel'
expressionAnalysisPlot: no visible binding for global variable 'CI_hi'
expressionAnalysisPlot: no visible binding for global variable 'CI_low'
expressionAnalysisPlot: no visible binding for global variable 'ymax'
expressionAnalysisPlot: no visible binding for global variable
  'sigEval'
expressionAnalysisPlot: no visible binding for global variable 'idNr'
expressionAnalysisPlot: no visible binding for global variable 'IF'
extractConsequenceEnrichment: no visible binding for global variable
  'feature2'
extractConsequenceEnrichment: no visible binding for global variable
  'propOfRelevantEvents'
extractConsequenceEnrichment: no visible binding for global variable
  'Significant'
extractConsequenceEnrichment: no visible binding for global variable
  'propCiLo'
extractConsequenceEnrichment: no visible binding for global variable
  'propCiHi'
extractConsequenceEnrichment: no visible binding for global variable
  'nTot'
extractConsequenceEnrichmentComparison: no visible binding for global
  variable 'Comparison'
extractConsequenceEnrichmentComparison: no visible binding for global
  variable 'propOfRelevantEvents'
extractConsequenceEnrichmentComparison: no visible binding for global
  variable 'Significant'
extractConsequenceEnrichmentComparison: no visible binding for global
  variable 'nTot'
extractConsequenceEnrichmentComparison: no visible binding for global
  variable 'propCiHi'
extractConsequenceEnrichmentComparison: no visible binding for global
  variable 'propCiLo'
extractConsequenceGenomeWide: no visible binding for global variable
  'isoform_feature'
extractConsequenceGenomeWide: no visible binding for global variable
  'value'
extractConsequenceGenomeWide: no visible binding for global variable
  'variable'
extractConsequenceGenomeWide: no visible binding for global variable
  'ymax'
extractConsequenceGenomeWide: no visible binding for global variable
  'significance'
extractConsequenceGenomeWide: no visible binding for global variable
  'idNr'
extractConsequenceSummary: no visible binding for global variable
  'switchConsequence'
extractConsequenceSummary: no visible binding for global variable
  'geneFraction'
extractConsequenceSummary: no visible binding for global variable
  'nrGenesWithConsequences'
extractConsequenceSummary: no visible binding for global variable
  'isoFraction'
extractConsequenceSummary: no visible binding for global variable
  'nrIsoWithConsequences'
extractSplicingEnrichment: no visible binding for global variable
  'AStype'
extractSplicingEnrichment: no visible binding for global variable
  'propUp'
extractSplicingEnrichment: no visible binding for global variable
  'Significant'
extractSplicingEnrichment: no visible binding for global variable
  'nTot'
extractSplicingEnrichment: no visible binding for global variable
  'propUpCiHi'
extractSplicingEnrichment: no visible binding for global variable
  'propUpCiLo'
extractSplicingEnrichmentComparison: no visible binding for global
  variable 'Comparison'
extractSplicingEnrichmentComparison: no visible binding for global
  variable 'propUp'
extractSplicingEnrichmentComparison: no visible binding for global
  variable 'Significant'
extractSplicingEnrichmentComparison: no visible binding for global
  variable 'nTot'
extractSplicingEnrichmentComparison: no visible binding for global
  variable 'propUpCiHi'
extractSplicingEnrichmentComparison: no visible binding for global
  variable 'propUpCiLo'
extractSplicingGenomeWide: no visible binding for global variable
  'isoform_feature'
extractSplicingGenomeWide: no visible binding for global variable
  'value'
extractSplicingGenomeWide: no visible binding for global variable
  'variable'
extractSplicingGenomeWide: no visible binding for global variable
  'ymax'
extractSplicingGenomeWide: no visible binding for global variable
  'significance'
extractSplicingGenomeWide: no visible binding for global variable
  'idNr'
extractSplicingSummary: no visible binding for global variable
  'splicingResult'
extractSplicingSummary: no visible binding for global variable
  'geneFraction'
extractSplicingSummary: no visible binding for global variable
  'nrGenesWithConsequences'
extractSplicingSummary: no visible binding for global variable
  'isoFraction'
extractSplicingSummary: no visible binding for global variable
  'nrIsoWithConsequences'
extractSubCellShifts: no visible binding for global variable 'gene_ref'
extractSubCellShifts: no visible binding for global variable 'gene_id'
extractSubCellShifts: no visible binding for global variable
  'condition_1'
extractSubCellShifts: no visible binding for global variable
  'condition_2'
extractSubCellShifts: no visible binding for global variable
  'isoformUpregulated'
extractSubCellShifts: no visible binding for global variable
  'isoformDownregulated'
extractSubCellShifts: no visible binding for global variable
  'featureCompared'
extractSubCellShifts: no visible binding for global variable
  'isoformsDifferent'
extractSubCellShifts: no visible binding for global variable
  'isoform_id'
extractSubCellShifts: no visible binding for global variable
  'Localizations'
extractSubCellShifts: no visible binding for global variable
  'location_gain'
extractSubCellShifts: no visible binding for global variable
  'location_loss'
extractSubCellShifts: no visible binding for global variable 'n_genes'
extractSubCellShifts: no visible binding for global variable 'n_switch'
extractSubCellShifts: no visible binding for global variable 'Genes'
extractSubCellShifts: no visible binding for global variable 'Switch'
importGTF: no visible binding for global variable 'gene_id'
importGTF: no visible binding for global variable 'gene_name'
importRdata: no visible binding for global variable 'isoform_id'
importRdata: no visible binding for global variable 'gene_id'
importRdata: no visible binding for global variable 'ref_gene_id'
importRdata: no visible binding for global variable 'n_ref_gene_ids'
importRdata: no visible binding for global variable 'n_iso_na'
importRdata: no visible binding for global variable 'novel_iso'
importRdata: no visible binding for global variable 'known_ref_gene_id'
importRdata: no visible binding for global variable 'nt_overlap'
importRdata: no visible binding for global variable 'frac_overlap'
importRdata: no visible binding for global variable
  'log2_overlap_ratio'
importRdata: no visible binding for global variable 'has_ref_gene_id'
importRdata: no visible binding for global variable 'has_novel_iso'
importRdata: no visible binding for global variable 'gene_name'
importRdata: no visible binding for global variable 'n_ref'
isoformToGeneExp: no visible binding for global variable 'gene_id'
isoformToGeneExp: no visible binding for global variable 'gene_name'
preFilter: no visible global function definition for 'setdff'
switchPlotTranscript: no visible binding for global variable 'topology'
switchPlotTranscript: no visible binding for global variable 'idNr'
switchPlotTranscript: no visible binding for global variable 'Topology'
switchPlotTranscript: no visible binding for global variable 'topGroup'
switchPlotTranscript: no visible binding for global variable 'y'
switchPlotTranscript: no visible binding for global variable 'yend'
switchPlotTranscript: no visible binding for global variable 'x'
switchPlotTranscript: no visible binding for global variable 'ymin'
switchPlotTranscript: no visible binding for global variable 'xmin'
switchPlotTranscript: no visible binding for global variable 'ymax'
switchPlotTranscript: no visible binding for global variable 'xmax'
switchPlotTranscript: no visible binding for global variable 'Domain'
switchPlotTranscript: no visible binding for global variable 'value'
Undefined global functions or variables:
  AStype CI_down CI_hi CI_low CI_up Comparison Condition Domain Genes
  IF Localizations Significant Switch Topology condition_1 condition_2
  feature2 featureCompared frac_overlap geneFraction gene_expression
  gene_id gene_name gene_ref has_novel_iso has_ref_gene_id idNr
  isoFraction isoformDownregulated isoformUpregulated isoform_feature
  isoform_id isoformsDifferent known_ref_gene_id location_gain
  location_loss log2_overlap_ratio nTot n_genes n_iso_na n_ref
  n_ref_gene_ids n_switch novel_iso nrGenesWithConsequences
  nrIsoWithConsequences nt_overlap orfEndGenomic orfStartGenomic
  orf_origin propCiHi propCiLo propOfRelevantEvents propUp propUpCiHi
  propUpCiLo ref_gene_id setdff sigEval sigLevel sigLevelPos
  significance splicingResult switchConsequence topGroup topology value
  variable x xmax xmin y yend ymax ymin
* checking Rd files ... NOTE
checkRd: (-1) isoformToGeneExp.Rd:22: Lost braces; missing escapes or markup?
    22 |     \item{Using the {isoformGeneAnnotation} argument}.
       |                     ^
checkRd: (-1) isoformToIsoformFraction.Rd:23: Lost braces; missing escapes or markup?
    23 |     \item{Using the {isoformGeneAnnotation} argument}.
       |                     ^
* checking Rd metadata ... OK
* checking Rd cross-references ... OK
* checking for missing documentation entries ... OK
* checking for code/documentation mismatches ... OK
* checking Rd \usage sections ... OK
* checking Rd contents ... OK
* checking for unstated dependencies in examples ... OK
* checking contents of ‘data’ directory ... OK
* checking data for non-ASCII characters ... OK
* checking data for ASCII and uncompressed saves ... OK
* checking line endings in C/C++/Fortran sources/headers ... OK
* checking compiled code ... NOTE
Note: information on .o files is not available
* checking files in ‘vignettes’ ... OK
* checking examples ... OK
Examples with CPU (user + system) or elapsed time > 5s
                                user system elapsed
IsoformSwitchTestDEXSeq       89.669  1.250  91.261
isoformSwitchAnalysisCombined 55.996  0.726  56.876
importSalmonData              36.991  0.621  85.578
prepareSalmonFilesDataFrame   17.480  0.846  33.192
extractSequence               12.981  0.060  13.074
analyzeORF                    12.306  0.060  12.397
extractSwitchSummary          11.203  0.020  11.254
extractTopSwitches            11.072  0.020  11.121
isoformSwitchAnalysisPart1    10.789  0.064  10.879
analyzeAlternativSplicing     10.020  0.124  10.170
extractGenomeWideAnalysis      5.632  0.088   5.736
* checking for unstated dependencies in vignettes ... OK
* checking package vignettes ... OK
* checking running R code from vignettes ... SKIPPED
* checking re-building of vignette outputs ... SKIPPED
* checking PDF version of manual ... OK
* DONE

Status: 5 NOTEs
See
  ‘/home/biocbuild/bbs-3.20-bioc/meat/IsoformSwitchAnalyzeR.Rcheck/00check.log’
for details.


Installation output

IsoformSwitchAnalyzeR.Rcheck/00install.out

##############################################################################
##############################################################################
###
### Running command:
###
###   /home/biocbuild/R/R/bin/R CMD INSTALL IsoformSwitchAnalyzeR
###
##############################################################################
##############################################################################


* installing to library ‘/home/biocbuild/R/R-4.4.2/site-library’
* installing *source* package ‘IsoformSwitchAnalyzeR’ ...
** using staged installation
** libs
using C compiler: ‘aarch64-unknown-linux-gnu-gcc (GCC) 14.2.0’
/opt/ohpc/pub/compiler/gcc/14.2.0/bin/aarch64-unknown-linux-gnu-gcc -I"/home/biocbuild/R/R/include" -DNDEBUG   -I/usr/local/include    -fPIC  -g -O2  -Wall -Werror=format-security -c utils.c -o utils.o
/opt/ohpc/pub/compiler/gcc/14.2.0/bin/aarch64-unknown-linux-gnu-gcc -shared -L/home/biocbuild/R/R/lib -L/usr/local/lib -o IsoformSwitchAnalyzeR.so utils.o -L/home/biocbuild/R/R/lib -lR
installing to /home/biocbuild/R/R-4.4.2/site-library/00LOCK-IsoformSwitchAnalyzeR/00new/IsoformSwitchAnalyzeR/libs
** R
** data
** inst
** byte-compile and prepare package for lazy loading
** help
*** installing help indices
** building package indices
** installing vignettes
** testing if installed package can be loaded from temporary location
** checking absolute paths in shared objects and dynamic libraries
** testing if installed package can be loaded from final location
** testing if installed package keeps a record of temporary installation path
* DONE (IsoformSwitchAnalyzeR)

Tests output


Example timings

IsoformSwitchAnalyzeR.Rcheck/IsoformSwitchAnalyzeR-Ex.timings

nameusersystemelapsed
IsoformSwitchTestDEXSeq89.669 1.25091.261
IsoformSwitchTestSatuRn3.8550.0913.958
addORFfromGTF1.0760.0041.083
analyzeAlternativSplicing10.020 0.12410.170
analyzeCPAT0.0650.0000.067
analyzeCPC20.0610.0000.062
analyzeDeepLoc20.2850.0160.304
analyzeDeepTMHMM0.7250.0000.729
analyzeIUPred2A3.4800.0323.522
analyzeNovelIsoformORF0.9080.0080.919
analyzeORF12.306 0.06012.397
analyzePFAM0.6650.0040.673
analyzeSignalP0.1120.0030.118
analyzeSwitchConsequences1.3720.0201.395
expressionAnalysisPlots1.5530.0041.561
extractConsequenceEnrichment0.5870.0040.592
extractConsequenceEnrichmentComparison0.9540.0040.961
extractConsequenceSummary1.0760.0121.090
extractGeneExpression0.050.000.05
extractGenomeWideAnalysis5.6320.0885.736
extractGenomeWideSplicingAnalysis4.8670.0484.928
extractSequence12.981 0.06013.074
extractSplicingEnrichment1.5700.0041.581
extractSplicingEnrichmentComparison1.7920.0001.798
extractSplicingSummary1.4860.0001.491
extractSwitchOverlap0.4170.0000.419
extractSwitchSummary11.203 0.02011.254
extractTopSwitches11.072 0.02011.121
importCufflinksGalaxyData0.0010.0000.001
importGTF1.0590.0121.074
importIsoformExpression0.7730.0790.856
importRdata3.4590.0873.569
importSalmonData36.991 0.62185.578
isoformSwitchAnalysisCombined55.996 0.72656.876
isoformSwitchAnalysisPart110.789 0.06410.879
isoformSwitchAnalysisPart24.5520.0324.593
isoformToGeneExp4.1320.1524.292
isoformToIsoformFraction0.2370.0390.279
preFilter0.0290.0000.029
prepareSalmonFilesDataFrame17.480 0.84633.192
subsetSwitchAnalyzeRlist0.0280.0000.027
switchAnalyzeRlist3.5790.1513.739
switchPlot4.4940.1554.660
switchPlotTranscript2.4630.0282.497
testData0.0150.0000.014