Back to Multiple platform build/check report for BioC 3.20: simplified long |
|
This page was generated on 2025-02-03 12:11 -0500 (Mon, 03 Feb 2025).
Hostname | OS | Arch (*) | R version | Installed pkgs |
---|---|---|---|---|
nebbiolo2 | Linux (Ubuntu 24.04.1 LTS) | x86_64 | 4.4.2 (2024-10-31) -- "Pile of Leaves" | 4746 |
palomino8 | Windows Server 2022 Datacenter | x64 | 4.4.2 (2024-10-31 ucrt) -- "Pile of Leaves" | 4494 |
merida1 | macOS 12.7.5 Monterey | x86_64 | 4.4.2 (2024-10-31) -- "Pile of Leaves" | 4517 |
kjohnson1 | macOS 13.6.6 Ventura | arm64 | 4.4.2 (2024-10-31) -- "Pile of Leaves" | 4469 |
taishan | Linux (openEuler 24.03 LTS) | aarch64 | 4.4.2 (2024-10-31) -- "Pile of Leaves" | 4400 |
Click on any hostname to see more info about the system (e.g. compilers) (*) as reported by 'uname -p', except on Windows and Mac OS X |
Package 1128/2289 | Hostname | OS / Arch | INSTALL | BUILD | CHECK | BUILD BIN | ||||||||
M3Drop 1.32.0 (landing page) Tallulah Andrews
| nebbiolo2 | Linux (Ubuntu 24.04.1 LTS) / x86_64 | OK | OK | OK | |||||||||
palomino8 | Windows Server 2022 Datacenter / x64 | OK | OK | OK | OK | |||||||||
merida1 | macOS 12.7.5 Monterey / x86_64 | OK | OK | OK | OK | |||||||||
kjohnson1 | macOS 13.6.6 Ventura / arm64 | OK | OK | OK | OK | |||||||||
taishan | Linux (openEuler 24.03 LTS) / aarch64 | OK | OK | OK | ||||||||||
To the developers/maintainers of the M3Drop package: - Allow up to 24 hours (and sometimes 48 hours) for your latest push to git@git.bioconductor.org:packages/M3Drop.git to reflect on this report. See Troubleshooting Build Report for more information. - Use the following Renviron settings to reproduce errors and warnings. - If 'R CMD check' started to fail recently on the Linux builder(s) over a missing dependency, add the missing dependency to 'Suggests:' in your DESCRIPTION file. See Renviron.bioc for more information. - See Martin Grigorov's blog post for how to debug Linux ARM64 related issues on a x86_64 host. |
Package: M3Drop |
Version: 1.32.0 |
Command: /home/biocbuild/R/R/bin/R CMD check --install=check:M3Drop.install-out.txt --library=/home/biocbuild/R/R/site-library --no-vignettes --timings M3Drop_1.32.0.tar.gz |
StartedAt: 2025-01-31 07:40:39 -0000 (Fri, 31 Jan 2025) |
EndedAt: 2025-01-31 07:48:12 -0000 (Fri, 31 Jan 2025) |
EllapsedTime: 452.7 seconds |
RetCode: 0 |
Status: OK |
CheckDir: M3Drop.Rcheck |
Warnings: 0 |
############################################################################## ############################################################################## ### ### Running command: ### ### /home/biocbuild/R/R/bin/R CMD check --install=check:M3Drop.install-out.txt --library=/home/biocbuild/R/R/site-library --no-vignettes --timings M3Drop_1.32.0.tar.gz ### ############################################################################## ############################################################################## * using log directory ‘/home/biocbuild/bbs-3.20-bioc/meat/M3Drop.Rcheck’ * using R version 4.4.2 (2024-10-31) * using platform: aarch64-unknown-linux-gnu * R was compiled by aarch64-unknown-linux-gnu-gcc (GCC) 14.2.0 GNU Fortran (GCC) 12.3.1 (openEuler 12.3.1-36.oe2403) * running under: openEuler 24.03 (LTS) * using session charset: UTF-8 * using option ‘--no-vignettes’ * checking for file ‘M3Drop/DESCRIPTION’ ... OK * this is package ‘M3Drop’ version ‘1.32.0’ * checking package namespace information ... OK * checking package dependencies ... OK * checking if this is a source package ... OK * checking if there is a namespace ... OK * checking for hidden files and directories ... OK * checking for portable file names ... OK * checking for sufficient/correct file permissions ... OK * checking whether package ‘M3Drop’ can be installed ... OK * checking installed package size ... OK * checking package directory ... OK * checking ‘build’ directory ... OK * checking DESCRIPTION meta-information ... OK * checking top-level files ... OK * checking for left-over files ... OK * checking index information ... OK * checking package subdirectories ... OK * checking code files for non-ASCII characters ... OK * checking R files for syntax errors ... OK * checking whether the package can be loaded ... OK * checking whether the package can be loaded with stated dependencies ... OK * checking whether the package can be unloaded cleanly ... OK * checking whether the namespace can be loaded with stated dependencies ... OK * checking whether the namespace can be unloaded cleanly ... OK * checking loading without being on the library search path ... OK * checking dependencies in R code ... NOTE Namespace in Imports field not imported from: ‘scater’ All declared Imports should be used. * checking S3 generic/method consistency ... OK * checking replacement functions ... OK * checking foreign function calls ... OK * checking R code for possible problems ... NOTE M3DropConvertData: no visible global function definition for ‘assays’ NBumiConvertData: no visible global function definition for ‘assays’ bg__filter_cells: no visible binding for global variable ‘x’ bg__get_extreme_residuals: no visible binding for global variable ‘x’ Undefined global functions or variables: assays x * checking Rd files ... NOTE prepare_Rd: NBumi_FSOther.Rd:8-10: Dropping empty section \usage prepare_Rd: NBumi_TradDE.Rd:7-8: Dropping empty section \usage * checking Rd metadata ... OK * checking Rd cross-references ... OK * checking for missing documentation entries ... OK * checking for code/documentation mismatches ... OK * checking Rd \usage sections ... OK * checking Rd contents ... OK * checking for unstated dependencies in examples ... OK * checking files in ‘vignettes’ ... OK * checking examples ... OK Examples with CPU (user + system) or elapsed time > 5s user system elapsed NewSimulations 151.584 0.907 152.924 Imputation 79.207 0.119 79.477 M3D_getmarkers 47.349 0.239 47.705 M3D_ConverData 6.632 0.112 6.762 * checking for unstated dependencies in vignettes ... OK * checking package vignettes ... OK * checking running R code from vignettes ... SKIPPED * checking re-building of vignette outputs ... SKIPPED * checking PDF version of manual ... OK * DONE Status: 3 NOTEs See ‘/home/biocbuild/bbs-3.20-bioc/meat/M3Drop.Rcheck/00check.log’ for details.
M3Drop.Rcheck/00install.out
############################################################################## ############################################################################## ### ### Running command: ### ### /home/biocbuild/R/R/bin/R CMD INSTALL M3Drop ### ############################################################################## ############################################################################## * installing to library ‘/home/biocbuild/R/R-4.4.2/site-library’ * installing *source* package ‘M3Drop’ ... ** using staged installation ** R ** inst ** byte-compile and prepare package for lazy loading ** help *** installing help indices ** building package indices ** installing vignettes ** testing if installed package can be loaded from temporary location ** testing if installed package can be loaded from final location ** testing if installed package keeps a record of temporary installation path * DONE (M3Drop)
M3Drop.Rcheck/M3Drop-Ex.timings
name | user | system | elapsed | |
Brennecke_getVariableGenes | 4.627 | 0.100 | 4.750 | |
Consensus_FS | 1.721 | 0.008 | 1.732 | |
Fitting_Dropout_Models | 0 | 0 | 0 | |
Imputation | 79.207 | 0.119 | 79.477 | |
M3D_Clean_Data | 2.510 | 0.032 | 2.548 | |
M3D_ConverData | 6.632 | 0.112 | 6.762 | |
M3D_Differential_Expression | 1.921 | 0.040 | 1.964 | |
M3D_Dropout_Models | 1.840 | 0.028 | 1.871 | |
M3D_Expression_Heatmap | 0.57 | 0.00 | 0.57 | |
M3D_Get_Extremes | 2.544 | 0.020 | 2.567 | |
M3D_Get_Heatmap_Cell_Clusters | 0.548 | 0.004 | 0.552 | |
M3D_Simulations | 0 | 0 | 0 | |
M3D_Test_Shift | 1.269 | 0.000 | 1.271 | |
M3D_ThreeSet_Venn | 0.379 | 0.004 | 0.383 | |
M3D_TraditionalDE | 0.013 | 0.000 | 0.013 | |
M3D_getmarkers | 47.349 | 0.239 | 47.705 | |
M3D_horz_res | 0 | 0 | 0 | |
NBumi_CheckFit | 2.330 | 0.040 | 2.374 | |
NBumi_CoExpression | 2.150 | 0.040 | 2.196 | |
NBumi_CompareModels | 4.385 | 0.028 | 4.423 | |
NBumi_ConvertToInteger | 0 | 0 | 0 | |
NBumi_ConvrtData | 0.314 | 0.000 | 0.315 | |
NBumi_FSDrop | 2.412 | 0.000 | 2.418 | |
NBumi_FSHighVar | 1.508 | 0.000 | 1.510 | |
NBumi_FSOther | 0.008 | 0.004 | 0.013 | |
NBumi_FitDisp | 0 | 0 | 0 | |
NBumi_FitDispVsMean | 1.256 | 0.000 | 1.259 | |
NBumi_FitModel | 2.019 | 0.004 | 2.027 | |
NBumi_HVG | 1.683 | 0.007 | 1.693 | |
NBumi_PearsonResiduals | 2.180 | 0.020 | 2.204 | |
NBumi_TradDE | 0 | 0 | 0 | |
NewSimulations | 151.584 | 0.907 | 152.924 | |
Other_FS | 2.575 | 0.012 | 2.592 | |
PoissonUMIFeatureSelectionDropouts | 2.154 | 0.028 | 2.189 | |
bg__fit_gamma | 0.000 | 0.000 | 0.001 | |
bg__get_stats | 0 | 0 | 0 | |
bg__mean2disp | 0.000 | 0.000 | 0.001 | |
bg__shift_size | 0 | 0 | 0 | |
bg__var_vs_drop | 0.000 | 0.000 | 0.001 | |