Back to Multiple platform build/check report for BioC 3.20: simplified long |
|
This page was generated on 2025-02-03 12:12 -0500 (Mon, 03 Feb 2025).
Hostname | OS | Arch (*) | R version | Installed pkgs |
---|---|---|---|---|
nebbiolo2 | Linux (Ubuntu 24.04.1 LTS) | x86_64 | 4.4.2 (2024-10-31) -- "Pile of Leaves" | 4746 |
palomino8 | Windows Server 2022 Datacenter | x64 | 4.4.2 (2024-10-31 ucrt) -- "Pile of Leaves" | 4494 |
merida1 | macOS 12.7.5 Monterey | x86_64 | 4.4.2 (2024-10-31) -- "Pile of Leaves" | 4517 |
kjohnson1 | macOS 13.6.6 Ventura | arm64 | 4.4.2 (2024-10-31) -- "Pile of Leaves" | 4469 |
taishan | Linux (openEuler 24.03 LTS) | aarch64 | 4.4.2 (2024-10-31) -- "Pile of Leaves" | 4400 |
Click on any hostname to see more info about the system (e.g. compilers) (*) as reported by 'uname -p', except on Windows and Mac OS X |
Package 1311/2289 | Hostname | OS / Arch | INSTALL | BUILD | CHECK | BUILD BIN | ||||||||
MOSClip 1.0.0 (landing page) Paolo Martini
| nebbiolo2 | Linux (Ubuntu 24.04.1 LTS) / x86_64 | OK | OK | OK | |||||||||
palomino8 | Windows Server 2022 Datacenter / x64 | OK | OK | OK | OK | |||||||||
merida1 | macOS 12.7.5 Monterey / x86_64 | OK | OK | OK | OK | |||||||||
kjohnson1 | macOS 13.6.6 Ventura / arm64 | OK | OK | OK | OK | |||||||||
taishan | Linux (openEuler 24.03 LTS) / aarch64 | OK | OK | OK | ||||||||||
To the developers/maintainers of the MOSClip package: - Allow up to 24 hours (and sometimes 48 hours) for your latest push to git@git.bioconductor.org:packages/MOSClip.git to reflect on this report. See Troubleshooting Build Report for more information. - Use the following Renviron settings to reproduce errors and warnings. - If 'R CMD check' started to fail recently on the Linux builder(s) over a missing dependency, add the missing dependency to 'Suggests:' in your DESCRIPTION file. See Renviron.bioc for more information. - See Martin Grigorov's blog post for how to debug Linux ARM64 related issues on a x86_64 host. |
Package: MOSClip |
Version: 1.0.0 |
Command: /home/biocbuild/R/R/bin/R CMD check --install=check:MOSClip.install-out.txt --library=/home/biocbuild/R/R/site-library --no-vignettes --timings MOSClip_1.0.0.tar.gz |
StartedAt: 2025-01-31 08:17:35 -0000 (Fri, 31 Jan 2025) |
EndedAt: 2025-01-31 08:26:54 -0000 (Fri, 31 Jan 2025) |
EllapsedTime: 558.7 seconds |
RetCode: 0 |
Status: OK |
CheckDir: MOSClip.Rcheck |
Warnings: 0 |
############################################################################## ############################################################################## ### ### Running command: ### ### /home/biocbuild/R/R/bin/R CMD check --install=check:MOSClip.install-out.txt --library=/home/biocbuild/R/R/site-library --no-vignettes --timings MOSClip_1.0.0.tar.gz ### ############################################################################## ############################################################################## * using log directory ‘/home/biocbuild/bbs-3.20-bioc/meat/MOSClip.Rcheck’ * using R version 4.4.2 (2024-10-31) * using platform: aarch64-unknown-linux-gnu * R was compiled by aarch64-unknown-linux-gnu-gcc (GCC) 14.2.0 GNU Fortran (GCC) 12.3.1 (openEuler 12.3.1-36.oe2403) * running under: openEuler 24.03 (LTS) * using session charset: UTF-8 * using option ‘--no-vignettes’ * checking for file ‘MOSClip/DESCRIPTION’ ... OK * this is package ‘MOSClip’ version ‘1.0.0’ * package encoding: UTF-8 * checking package namespace information ... OK * checking package dependencies ... OK * checking if this is a source package ... OK * checking if there is a namespace ... OK * checking for hidden files and directories ... OK * checking for portable file names ... OK * checking for sufficient/correct file permissions ... OK * checking whether package ‘MOSClip’ can be installed ... OK * checking installed package size ... OK * checking package directory ... OK * checking ‘build’ directory ... OK * checking DESCRIPTION meta-information ... OK * checking top-level files ... OK * checking for left-over files ... OK * checking index information ... OK * checking package subdirectories ... OK * checking code files for non-ASCII characters ... OK * checking R files for syntax errors ... OK * checking whether the package can be loaded ... OK * checking whether the package can be loaded with stated dependencies ... OK * checking whether the package can be unloaded cleanly ... OK * checking whether the namespace can be loaded with stated dependencies ... OK * checking whether the namespace can be unloaded cleanly ... OK * checking loading without being on the library search path ... OK * checking dependencies in R code ... OK * checking S3 generic/method consistency ... OK * checking replacement functions ... OK * checking foreign function calls ... OK * checking R code for possible problems ... OK * checking Rd files ... OK * checking Rd metadata ... OK * checking Rd cross-references ... OK * checking for missing documentation entries ... OK * checking for code/documentation mismatches ... OK * checking Rd \usage sections ... OK * checking Rd contents ... OK * checking for unstated dependencies in examples ... OK * checking contents of ‘data’ directory ... OK * checking data for non-ASCII characters ... OK * checking data for ASCII and uncompressed saves ... OK * checking files in ‘vignettes’ ... OK * checking examples ... OK Examples with CPU (user + system) or elapsed time > 5s user system elapsed evaluateResampling 7.898 0.020 7.976 annotePathwayToFather 7.245 0.136 7.420 plotModuleReport 6.863 0.008 6.900 resampling-TwoClass 6.256 0.004 6.278 resampling-Survival 6.193 0.052 6.264 plotModuleHeat 5.927 0.048 6.030 multiPathwayModuleReport 5.314 0.016 5.346 * checking for unstated dependencies in ‘tests’ ... OK * checking tests ... Running ‘testthat.R’ OK * checking for unstated dependencies in vignettes ... OK * checking package vignettes ... OK * checking running R code from vignettes ... SKIPPED * checking re-building of vignette outputs ... SKIPPED * checking PDF version of manual ... OK * DONE Status: OK
MOSClip.Rcheck/00install.out
############################################################################## ############################################################################## ### ### Running command: ### ### /home/biocbuild/R/R/bin/R CMD INSTALL MOSClip ### ############################################################################## ############################################################################## * installing to library ‘/home/biocbuild/R/R-4.4.2/site-library’ * installing *source* package ‘MOSClip’ ... ** using staged installation ** R ** data ** inst ** byte-compile and prepare package for lazy loading ** help *** installing help indices *** copying figures ** building package indices ** installing vignettes ** testing if installed package can be loaded from temporary location ** testing if installed package can be loaded from final location ** testing if installed package keeps a record of temporary installation path * DONE (MOSClip)
MOSClip.Rcheck/tests/testthat.Rout
R version 4.4.2 (2024-10-31) -- "Pile of Leaves" Copyright (C) 2024 The R Foundation for Statistical Computing Platform: aarch64-unknown-linux-gnu R is free software and comes with ABSOLUTELY NO WARRANTY. You are welcome to redistribute it under certain conditions. Type 'license()' or 'licence()' for distribution details. R is a collaborative project with many contributors. Type 'contributors()' for more information and 'citation()' on how to cite R or R packages in publications. Type 'demo()' for some demos, 'help()' for on-line help, or 'help.start()' for an HTML browser interface to help. Type 'q()' to quit R. > library(testthat) > library(MOSClip) > > test_check("MOSClip") [ FAIL 0 | WARN 0 | SKIP 0 | PASS 198 ] > > proc.time() user system elapsed 98.507 1.586 109.547
MOSClip.Rcheck/MOSClip-Ex.timings
name | user | system | elapsed | |
annotePathwayToFather | 7.245 | 0.136 | 7.420 | |
availableOmicMethods | 0.000 | 0.000 | 0.001 | |
computeFreqs | 0.002 | 0.000 | 0.003 | |
computeOmicsIntersections | 0.004 | 0.000 | 0.004 | |
downloadPathwayRelationFromReactome | 0.057 | 0.004 | 0.060 | |
evaluateResampling | 7.898 | 0.020 | 7.976 | |
makeOmics | 0.257 | 0.000 | 0.259 | |
minOrNA | 0 | 0 | 0 | |
multiOmicsSurvivalModuleTest | 2.010 | 0.004 | 2.019 | |
multiOmicsSurvivalPathwayTest | 0.397 | 0.004 | 0.401 | |
multiOmicsTwoClassModuleTest | 2.057 | 0.000 | 2.134 | |
multiOmicsTwoClassPathwayTest | 0.399 | 0.004 | 0.404 | |
multiPathwayModuleReport | 5.314 | 0.016 | 5.346 | |
multiPathwayReport | 0.832 | 0.000 | 0.835 | |
plotFrequencies | 0.442 | 0.003 | 0.448 | |
plotModuleHeat | 5.927 | 0.048 | 6.030 | |
plotModuleInGraph | 2.691 | 0.008 | 2.708 | |
plotModuleKM | 3.818 | 0.032 | 4.402 | |
plotModuleReport | 6.863 | 0.008 | 6.900 | |
plotMultiPathwayReport | 1.820 | 0.000 | 1.825 | |
plotPathwayHeat | 2.582 | 0.032 | 2.622 | |
plotPathwayKM | 1.645 | 0.000 | 1.650 | |
resampling-Survival | 6.193 | 0.052 | 6.264 | |
resampling-TwoClass | 6.256 | 0.004 | 6.278 | |
runSupertest | 0.164 | 0.000 | 0.164 | |
showMOSpalette | 0.02 | 0.00 | 0.02 | |
showModule | 3.054 | 0.087 | 3.160 | |
showOmics | 0.045 | 0.000 | 0.046 | |
showPathway | 0.419 | 0.015 | 0.436 | |
stripModulesFromPathways | 0 | 0 | 0 | |
summarizeOmicsResByMinPvalue | 0 | 0 | 0 | |