Back to Multiple platform build/check report for BioC 3.20:   simplified   long
ABCDEFGHIJKL[M]NOPQRSTUVWXYZ

This page was generated on 2025-02-06 12:08 -0500 (Thu, 06 Feb 2025).

HostnameOSArch (*)R versionInstalled pkgs
nebbiolo2Linux (Ubuntu 24.04.1 LTS)x86_644.4.2 (2024-10-31) -- "Pile of Leaves" 4753
palomino8Windows Server 2022 Datacenterx644.4.2 (2024-10-31 ucrt) -- "Pile of Leaves" 4501
merida1macOS 12.7.5 Montereyx86_644.4.2 (2024-10-31) -- "Pile of Leaves" 4524
kjohnson1macOS 13.6.6 Venturaarm644.4.2 (2024-10-31) -- "Pile of Leaves" 4476
taishanLinux (openEuler 24.03 LTS)aarch644.4.2 (2024-10-31) -- "Pile of Leaves" 4407
Click on any hostname to see more info about the system (e.g. compilers)      (*) as reported by 'uname -p', except on Windows and Mac OS X

Package 1191/2289HostnameOS / ArchINSTALLBUILDCHECKBUILD BIN
Mergeomics 1.34.0  (landing page)
Zeyneb Kurt
Snapshot Date: 2025-02-03 13:00 -0500 (Mon, 03 Feb 2025)
git_url: https://git.bioconductor.org/packages/Mergeomics
git_branch: RELEASE_3_20
git_last_commit: ec59426
git_last_commit_date: 2024-10-29 10:07:07 -0500 (Tue, 29 Oct 2024)
nebbiolo2Linux (Ubuntu 24.04.1 LTS) / x86_64  OK    OK    OK  UNNEEDED, same version is already published
palomino8Windows Server 2022 Datacenter / x64  OK    OK    OK    OK  UNNEEDED, same version is already published
merida1macOS 12.7.5 Monterey / x86_64  OK    OK    OK    OK  UNNEEDED, same version is already published
kjohnson1macOS 13.6.6 Ventura / arm64  OK    OK    OK    OK  UNNEEDED, same version is already published
taishanLinux (openEuler 24.03 LTS) / aarch64  OK    OK    OK  


CHECK results for Mergeomics on merida1

To the developers/maintainers of the Mergeomics package:
- Allow up to 24 hours (and sometimes 48 hours) for your latest push to git@git.bioconductor.org:packages/Mergeomics.git to reflect on this report. See Troubleshooting Build Report for more information.
- Use the following Renviron settings to reproduce errors and warnings.
- If 'R CMD check' started to fail recently on the Linux builder(s) over a missing dependency, add the missing dependency to 'Suggests:' in your DESCRIPTION file. See Renviron.bioc for more information.

raw results


Summary

Package: Mergeomics
Version: 1.34.0
Command: /Library/Frameworks/R.framework/Resources/bin/R CMD check --install=check:Mergeomics.install-out.txt --library=/Library/Frameworks/R.framework/Resources/library --no-vignettes --timings Mergeomics_1.34.0.tar.gz
StartedAt: 2025-02-04 06:00:28 -0500 (Tue, 04 Feb 2025)
EndedAt: 2025-02-04 06:17:53 -0500 (Tue, 04 Feb 2025)
EllapsedTime: 1045.1 seconds
RetCode: 0
Status:   OK  
CheckDir: Mergeomics.Rcheck
Warnings: 0

Command output

##############################################################################
##############################################################################
###
### Running command:
###
###   /Library/Frameworks/R.framework/Resources/bin/R CMD check --install=check:Mergeomics.install-out.txt --library=/Library/Frameworks/R.framework/Resources/library --no-vignettes --timings Mergeomics_1.34.0.tar.gz
###
##############################################################################
##############################################################################


* using log directory ‘/Users/biocbuild/bbs-3.20-bioc/meat/Mergeomics.Rcheck’
* using R version 4.4.2 (2024-10-31)
* using platform: x86_64-apple-darwin20
* R was compiled by
    Apple clang version 14.0.0 (clang-1400.0.29.202)
    GNU Fortran (GCC) 12.2.0
* running under: macOS Monterey 12.7.6
* using session charset: UTF-8
* using option ‘--no-vignettes’
* checking for file ‘Mergeomics/DESCRIPTION’ ... OK
* checking extension type ... Package
* this is package ‘Mergeomics’ version ‘1.34.0’
* checking package namespace information ... OK
* checking package dependencies ... OK
* checking if this is a source package ... OK
* checking if there is a namespace ... OK
* checking for hidden files and directories ... OK
* checking for portable file names ... OK
* checking for sufficient/correct file permissions ... OK
* checking whether package ‘Mergeomics’ can be installed ... OK
* checking installed package size ... NOTE
  installed size is  8.3Mb
  sub-directories of 1Mb or more:
    extdata   7.5Mb
* checking package directory ... OK
* checking ‘build’ directory ... OK
* checking DESCRIPTION meta-information ... OK
* checking top-level files ... OK
* checking for left-over files ... OK
* checking index information ... OK
* checking package subdirectories ... OK
* checking code files for non-ASCII characters ... OK
* checking R files for syntax errors ... OK
* checking whether the package can be loaded ... OK
* checking whether the package can be loaded with stated dependencies ... OK
* checking whether the package can be unloaded cleanly ... OK
* checking whether the namespace can be loaded with stated dependencies ... OK
* checking whether the namespace can be unloaded cleanly ... OK
* checking dependencies in R code ... OK
* checking S3 generic/method consistency ... OK
* checking replacement functions ... OK
* checking foreign function calls ... OK
* checking R code for possible problems ... NOTE
kda.analyze: no visible global function definition for ‘p.adjust’
kda.analyze.exec: no visible global function definition for ‘pnorm’
kda.analyze.simulate: no visible global function definition for ‘rnorm’
kda.prepare: no visible global function definition for ‘quantile’
kda.prepare: no visible global function definition for ‘object.size’
kda.prepare.screen: no visible global function definition for
  ‘quantile’
kda.prepare.screen: no visible global function definition for ‘median’
kda.start: no visible global function definition for ‘object.size’
kda2cytoscape: no visible global function definition for ‘write.table’
kda2cytoscape.colormap: no visible global function definition for
  ‘rainbow’
kda2cytoscape.colormap: no visible global function definition for
  ‘col2rgb’
kda2himmeli: no visible global function definition for ‘quantile’
kda2himmeli: no visible global function definition for ‘write.table’
kda2himmeli.colormap: no visible global function definition for
  ‘rainbow’
kda2himmeli.colormap: no visible global function definition for
  ‘col2rgb’
ssea.analyze: no visible global function definition for ‘qnorm’
ssea.analyze: no visible global function definition for ‘approx’
ssea.analyze: no visible global function definition for ‘pnorm’
ssea.analyze.simulate: no visible global function definition for
  ‘quantile’
ssea.control: no visible global function definition for ‘median’
ssea.control: no visible global function definition for ‘object.size’
ssea.meta: no visible global function definition for ‘qnorm’
ssea.meta: no visible global function definition for ‘quantile’
ssea.meta: no visible global function definition for ‘pnorm’
ssea.meta: no visible global function definition for ‘median’
ssea.meta: no visible global function definition for ‘na.omit’
ssea.prepare: no visible global function definition for ‘median’
ssea.prepare: no visible global function definition for ‘object.size’
ssea.start: no visible global function definition for ‘na.omit’
ssea.start: no visible global function definition for ‘object.size’
ssea.start.configure: no visible global function definition for
  ‘write.table’
ssea2kda: no visible global function definition for ‘na.omit’
ssea2kda.import: no visible global function definition for ‘na.omit’
tool.aggregate: no visible global function definition for ‘na.omit’
tool.cluster: no visible global function definition for ‘as.dist’
tool.cluster: no visible global function definition for ‘hclust’
tool.fdr.bh: no visible global function definition for ‘qnorm’
tool.fdr.bh: no visible global function definition for ‘p.adjust’
tool.fdr.bh: no visible global function definition for ‘approx’
tool.fdr.empirical: no visible global function definition for ‘qnorm’
tool.fdr.empirical: no visible global function definition for ‘approx’
tool.metap: no visible global function definition for ‘qnorm’
tool.metap: no visible global function definition for ‘pnorm’
tool.normalize: no visible global function definition for ‘sd’
tool.normalize: no visible global function definition for ‘median’
tool.normalize: no visible global function definition for ‘optim’
tool.normalize: no visible global function definition for ‘ks.test’
tool.normalize.quality: no visible global function definition for ‘sd’
tool.normalize.quality: no visible global function definition for
  ‘ks.test’
tool.overlap: no visible global function definition for ‘phyper’
tool.read: no visible global function definition for ‘read.delim’
tool.read: no visible global function definition for ‘na.omit’
tool.save: no visible global function definition for ‘write.table’
tool.unify: no visible global function definition for ‘sd’
tool.unify: no visible global function definition for ‘quantile’
tool.unify: no visible global function definition for ‘approx’
Undefined global functions or variables:
  approx as.dist col2rgb hclust ks.test median na.omit object.size
  optim p.adjust phyper pnorm qnorm quantile rainbow read.delim rnorm
  sd write.table
Consider adding
  importFrom("grDevices", "col2rgb", "rainbow")
  importFrom("stats", "approx", "as.dist", "hclust", "ks.test", "median",
             "na.omit", "optim", "p.adjust", "phyper", "pnorm", "qnorm",
             "quantile", "rnorm", "sd")
  importFrom("utils", "object.size", "read.delim", "write.table")
to your NAMESPACE file.
* checking Rd files ... OK
* checking Rd metadata ... OK
* checking Rd cross-references ... OK
* checking for missing documentation entries ... OK
* checking for code/documentation mismatches ... OK
* checking Rd \usage sections ... OK
* checking Rd contents ... OK
* checking for unstated dependencies in examples ... OK
* checking contents of ‘data’ directory ... OK
* checking data for non-ASCII characters ... OK
* checking data for ASCII and uncompressed saves ... OK
* checking sizes of PDF files under ‘inst/doc’ ... OK
* checking files in ‘vignettes’ ... OK
* checking examples ... OK
Examples with CPU (user + system) or elapsed time > 5s
                         user system elapsed
kda.analyze.exec       16.803  0.369  17.327
kda.prepare            16.785  0.287  17.432
kda.analyze.simulate   16.518  0.264  16.831
kda.analyze.test       16.350  0.256  16.644
ssea2kda               11.779  0.348  12.304
ssea2kda.analyze       11.715  0.330  12.145
ssea.meta               9.954  0.207  10.498
ssea2kda.import         9.531  0.192  10.505
ssea.finish.details     9.525  0.195   9.767
ssea.finish.genes       9.454  0.196   9.859
ssea.finish             9.321  0.246   9.839
ssea.analyze            9.222  0.306   9.719
ssea.finish.fdr         9.100  0.190   9.345
ssea.analyze.simulate   8.780  0.216   9.287
ssea.prepare            7.477  0.076   7.863
ssea.analyze.randgenes  7.403  0.074   7.807
ssea.analyze.randloci   7.157  0.074   7.517
ssea.control            7.070  0.062   7.243
ssea.analyze.observe    7.009  0.076   7.225
ssea.prepare.counts     7.009  0.073   7.487
ssea.start.relabel      6.842  0.070   7.089
ssea.start              6.815  0.060   6.969
ssea.prepare.structure  6.704  0.064   6.905
* checking for unstated dependencies in ‘tests’ ... OK
* checking tests ...
  Running ‘runTests.R’
 OK
* checking for unstated dependencies in vignettes ... OK
* checking package vignettes ... OK
* checking running R code from vignettes ... SKIPPED
* checking re-building of vignette outputs ... SKIPPED
* checking PDF version of manual ... OK
* DONE

Status: 2 NOTEs
See
  ‘/Users/biocbuild/bbs-3.20-bioc/meat/Mergeomics.Rcheck/00check.log’
for details.


Installation output

Mergeomics.Rcheck/00install.out

##############################################################################
##############################################################################
###
### Running command:
###
###   /Library/Frameworks/R.framework/Resources/bin/R CMD INSTALL Mergeomics
###
##############################################################################
##############################################################################


* installing to library ‘/Library/Frameworks/R.framework/Versions/4.4-x86_64/Resources/library’
* installing *source* package ‘Mergeomics’ ...
** using staged installation
** R
** data
** inst
** byte-compile and prepare package for lazy loading
** help
*** installing help indices
** building package indices
** installing vignettes
** testing if installed package can be loaded from temporary location
** testing if installed package can be loaded from final location
** testing if installed package keeps a record of temporary installation path
* DONE (Mergeomics)

Tests output

Mergeomics.Rcheck/tests/runTests.Rout


R version 4.4.2 (2024-10-31) -- "Pile of Leaves"
Copyright (C) 2024 The R Foundation for Statistical Computing
Platform: x86_64-apple-darwin20

R is free software and comes with ABSOLUTELY NO WARRANTY.
You are welcome to redistribute it under certain conditions.
Type 'license()' or 'licence()' for distribution details.

R is a collaborative project with many contributors.
Type 'contributors()' for more information and
'citation()' on how to cite R or R packages in publications.

Type 'demo()' for some demos, 'help()' for on-line help, or
'help.start()' for an HTML browser interface to help.
Type 'q()' to quit R.

> BiocGenerics:::testPackage("Mergeomics")

KDA Version:12.7.2015

Parameters:
  Search depth: 1
  Search direction: 1
  Maximum overlap: 0.33
  Minimum module size: 20
  Minimum degree: automatic
  Maximum degree: automatic
  Edge factor: 0
  Random seed: 1

Importing edges...
     TAIL               HEAD               WEIGHT 
 Length:140663      Length:140663      Min.   :1  
 Class :character   Class :character   1st Qu.:1  
 Mode  :character   Mode  :character   Median :1  
                                       Mean   :1  
                                       3rd Qu.:1  
                                       Max.   :1  

Importing modules...
    MODULE              NODE          
 Length:1643        Length:1643       
 Class :character   Class :character  
 Mode  :character   Mode  :character  
Graph: 7.694687 Mb

Minimum degree set to 20 

Maximum degree set to 278 

Collecting hubs...
4798 hubs (18820 nodes)
4876 hubs (25.21%)
Graph: 13.28768 Mb

Analyzing network...
6675: Dhcr7, n=114, p=2.24e-17
6648: Cit, n=20, p=7.89e-01
6643: Pbx4, n=23, p=2.32e-05
5582: Sypl, n=319, p=2.02e-02
4746: Tcf7l2, n=73, p=2.63e-02
4708: Tpte, n=86, p=5.05e-02
4511: Pzp, n=160, p=8.85e-03
4464: Tsc22d3, n=487, p=4.28e-13
4407: Dntt, n=93, p=2.40e-20
4360: Amica1, n=132, p=1.06e-06
4588,..: Lrg1, n=86, p=5.76e-12

MSEA Version:01.04.2016

Parameters:
  Permutation type: gene
  Permutations: 100
  Random seed: 1
  Minimum gene count: 10
  Maximum gene count: 500
  Maximum overlap between genes: 0.33

Importing modules...
    MODULE             DESCR          
 Length:20          Length:20         
 Class :character   Class :character  
 Mode  :character   Mode  :character  
    MODULE              GENE          
 Length:2906        Length:2906       
 Class :character   Class :character  
 Mode  :character   Mode  :character  

Importing marker values...
    MARKER              VALUE         
 Length:76866       Min.   :  0.8094  
 Class :character   1st Qu.:  0.9450  
 Mode  :character   Median :  1.1374  
                    Mean   :  1.3944  
                    3rd Qu.:  1.4688  
                    Max.   :323.0100  

Importing mapping data...
     GENE              MARKER         
 Length:132705      Length:132705     
 Class :character   Class :character  
 Mode  :character   Mode  :character  

Merging genes containing shared markers...
WARNING! Limited overlap analysis due to large number of groups.

60039/1673535 
115193/1673535 
174180/1673535 
235139/1673535 
297156/1673535 
359532/1673535 
423246/1673535 
484577/1673535 
542675/1673535 
601329/1673535 
660216/1673535 
723692/1673535 
786957/1673535 
851560/1673535 
914962/1673535 
978156/1673535 
1041468/1673535 
1103577/1673535 
1165909/1673535 
1231217/1673535 
1295630/1673535 
1359648/1673535 
1423938/1673535 
1488717/1673535 
1552921/1673535 
1619468/1673535 
1673535 comparisons

21115 comparisons

13861 comparisons

12880 comparisons
Job: 11.66892 Mb

Preparing data structures...
Job: 17.11777 Mb

Adding positive controls...
Job: 17.42039 Mb

Estimating enrichment...
100/100 cycles

Normalizing scores...


RUNIT TEST PROTOCOL -- Tue Feb  4 06:17:30 2025 
*********************************************** 
Number of test functions: 2 
Number of errors: 0 
Number of failures: 0 

 
1 Test Suite : 
Mergeomics RUnit Tests - 2 test functions, 0 errors, 0 failures
Number of test functions: 2 
Number of errors: 0 
Number of failures: 0 
> 
> proc.time()
   user  system elapsed 
680.874  18.507 720.586 

Example timings

Mergeomics.Rcheck/Mergeomics-Ex.timings

nameusersystemelapsed
MSEA.KDA.onestep0.0050.0040.009
job.kda0.0280.0080.037
kda.analyze0.0160.0060.022
kda.analyze.exec16.803 0.36917.327
kda.analyze.simulate16.518 0.26416.831
kda.analyze.test16.350 0.25616.644
kda.configure0.0010.0010.003
kda.finish0.2240.0150.241
kda.finish.estimate0.1280.0040.133
kda.finish.save0.1310.0030.134
kda.finish.summarize0.1310.0040.135
kda.finish.trim0.1240.0040.129
kda.prepare16.785 0.28717.432
kda.prepare.overlap0.0010.0020.003
kda.prepare.screen0.0010.0010.002
kda.start2.2720.0942.386
kda.start.edges0.0030.0020.005
kda.start.identify0.0090.0020.010
kda.start.modules0.0030.0030.006
kda2cytoscape0.6890.0210.741
kda2cytoscape.colorize0.0010.0000.001
kda2cytoscape.colormap0.0010.0010.001
kda2cytoscape.drivers0.2320.0120.245
kda2cytoscape.edges0.2220.0110.272
kda2cytoscape.exec0.2760.0120.289
kda2cytoscape.identify0.0080.0020.009
kda2himmeli0.6960.0180.718
kda2himmeli.colorize0.0000.0010.001
kda2himmeli.colormap0.0010.0010.002
kda2himmeli.drivers0.2280.0130.323
kda2himmeli.edges0.2310.0100.241
kda2himmeli.exec0.4260.0230.450
kda2himmeli.identify0.0070.0010.009
ssea.analyze9.2220.3069.719
ssea.analyze.observe7.0090.0767.225
ssea.analyze.randgenes7.4030.0747.807
ssea.analyze.randloci7.1570.0747.517
ssea.analyze.simulate8.7800.2169.287
ssea.analyze.statistic0.0000.0010.001
ssea.control7.0700.0627.243
ssea.finish9.3210.2469.839
ssea.finish.details9.5250.1959.767
ssea.finish.fdr9.1000.1909.345
ssea.finish.genes9.4540.1969.859
ssea.meta 9.954 0.20710.498
ssea.prepare7.4770.0767.863
ssea.prepare.counts7.0090.0737.487
ssea.prepare.structure6.7040.0646.905
ssea.start6.8150.0606.969
ssea.start.configure0.5700.0240.598
ssea.start.identify0.0070.0010.008
ssea.start.relabel6.8420.0707.089
ssea2kda11.779 0.34812.304
ssea2kda.analyze11.715 0.33012.145
ssea2kda.import 9.531 0.19210.505
tool.aggregate0.0020.0020.004
tool.cluster0.0330.0020.035
tool.cluster.static0.0010.0010.002
tool.coalesce0.0870.0030.095
tool.coalesce.exec0.2540.0020.269
tool.coalesce.find0.2530.0030.295
tool.coalesce.merge0.2490.0030.264
tool.fdr0.0010.0010.002
tool.fdr.bh0.0010.0010.001
tool.fdr.empirical0.0010.0010.002
tool.graph2.1660.0562.365
tool.graph.degree2.3610.0812.629
tool.graph.list2.2000.0682.354
tool.metap0.0060.0010.008
tool.normalize0.0260.0020.028
tool.normalize.quality0.0190.0010.019
tool.overlap0.0120.0020.014
tool.read0.3990.0120.413
tool.save0.0020.0010.004
tool.subgraph0.1380.0030.142
tool.subgraph.find0.1340.0040.139
tool.subgraph.search0.1400.0040.146
tool.subgraph.stats0.1680.0040.175
tool.translate0.0590.0030.062
tool.unify0.0020.0010.002