Back to Multiple platform build/check report for BioC 3.20:   simplified   long
ABCDEFGHIJKLM[N]OPQRSTUVWXYZ

This page was generated on 2025-02-06 12:12 -0500 (Thu, 06 Feb 2025).

HostnameOSArch (*)R versionInstalled pkgs
nebbiolo2Linux (Ubuntu 24.04.1 LTS)x86_644.4.2 (2024-10-31) -- "Pile of Leaves" 4753
palomino8Windows Server 2022 Datacenterx644.4.2 (2024-10-31 ucrt) -- "Pile of Leaves" 4501
merida1macOS 12.7.5 Montereyx86_644.4.2 (2024-10-31) -- "Pile of Leaves" 4524
kjohnson1macOS 13.6.6 Venturaarm644.4.2 (2024-10-31) -- "Pile of Leaves" 4476
taishanLinux (openEuler 24.03 LTS)aarch644.4.2 (2024-10-31) -- "Pile of Leaves" 4407
Click on any hostname to see more info about the system (e.g. compilers)      (*) as reported by 'uname -p', except on Windows and Mac OS X

Package 1409/2289HostnameOS / ArchINSTALLBUILDCHECKBUILD BIN
NetPathMiner 1.42.0  (landing page)
Ahmed Mohamed
Snapshot Date: 2025-02-03 13:00 -0500 (Mon, 03 Feb 2025)
git_url: https://git.bioconductor.org/packages/NetPathMiner
git_branch: RELEASE_3_20
git_last_commit: 97bf773
git_last_commit_date: 2024-10-29 11:34:22 -0500 (Tue, 29 Oct 2024)
nebbiolo2Linux (Ubuntu 24.04.1 LTS) / x86_64  OK    OK    OK  UNNEEDED, same version is already published
palomino8Windows Server 2022 Datacenter / x64... NOT SUPPORTED ...
merida1macOS 12.7.5 Monterey / x86_64  OK    OK    OK    OK  UNNEEDED, same version is already published
kjohnson1macOS 13.6.6 Ventura / arm64  OK    OK    OK    OK  UNNEEDED, same version is already published
taishanLinux (openEuler 24.03 LTS) / aarch64  OK    OK    OK  


CHECK results for NetPathMiner on taishan

To the developers/maintainers of the NetPathMiner package:
- Allow up to 24 hours (and sometimes 48 hours) for your latest push to git@git.bioconductor.org:packages/NetPathMiner.git to reflect on this report. See Troubleshooting Build Report for more information.
- Use the following Renviron settings to reproduce errors and warnings.
- If 'R CMD check' started to fail recently on the Linux builder(s) over a missing dependency, add the missing dependency to 'Suggests:' in your DESCRIPTION file. See Renviron.bioc for more information.
- See Martin Grigorov's blog post for how to debug Linux ARM64 related issues on a x86_64 host.

raw results


Summary

Package: NetPathMiner
Version: 1.42.0
Command: /home/biocbuild/R/R/bin/R CMD check --install=check:NetPathMiner.install-out.txt --library=/home/biocbuild/R/R/site-library --no-vignettes --timings NetPathMiner_1.42.0.tar.gz
StartedAt: 2025-02-04 09:20:51 -0000 (Tue, 04 Feb 2025)
EndedAt: 2025-02-04 09:21:58 -0000 (Tue, 04 Feb 2025)
EllapsedTime: 67.1 seconds
RetCode: 0
Status:   OK  
CheckDir: NetPathMiner.Rcheck
Warnings: 0

Command output

##############################################################################
##############################################################################
###
### Running command:
###
###   /home/biocbuild/R/R/bin/R CMD check --install=check:NetPathMiner.install-out.txt --library=/home/biocbuild/R/R/site-library --no-vignettes --timings NetPathMiner_1.42.0.tar.gz
###
##############################################################################
##############################################################################


* using log directory ‘/home/biocbuild/bbs-3.20-bioc/meat/NetPathMiner.Rcheck’
* using R version 4.4.2 (2024-10-31)
* using platform: aarch64-unknown-linux-gnu
* R was compiled by
    aarch64-unknown-linux-gnu-gcc (GCC) 14.2.0
    GNU Fortran (GCC) 12.3.1 (openEuler 12.3.1-36.oe2403)
* running under: openEuler 24.03 (LTS)
* using session charset: UTF-8
* using option ‘--no-vignettes’
* checking for file ‘NetPathMiner/DESCRIPTION’ ... OK
* this is package ‘NetPathMiner’ version ‘1.42.0’
* package encoding: UTF-8
* checking package namespace information ... OK
* checking package dependencies ... OK
* checking if this is a source package ... OK
* checking if there is a namespace ... OK
* checking for hidden files and directories ... OK
* checking for portable file names ... OK
* checking for sufficient/correct file permissions ... OK
* checking whether package ‘NetPathMiner’ can be installed ... OK
* used C compiler: ‘aarch64-unknown-linux-gnu-gcc (GCC) 14.2.0’
* used C++ compiler: ‘aarch64-unknown-linux-gnu-g++ (GCC) 14.2.0’
* checking installed package size ... OK
* checking package directory ... OK
* checking ‘build’ directory ... OK
* checking DESCRIPTION meta-information ... OK
* checking top-level files ... OK
* checking for left-over files ... OK
* checking index information ... OK
* checking package subdirectories ... OK
* checking code files for non-ASCII characters ... OK
* checking R files for syntax errors ... OK
* checking whether the package can be loaded ... OK
* checking whether the package can be loaded with stated dependencies ... OK
* checking whether the package can be unloaded cleanly ... OK
* checking whether the namespace can be loaded with stated dependencies ... OK
* checking whether the namespace can be unloaded cleanly ... OK
* checking loading without being on the library search path ... OK
* checking whether startup messages can be suppressed ... OK
* checking dependencies in R code ... NOTE
package 'methods' is used but not declared
* checking S3 generic/method consistency ... OK
* checking replacement functions ... OK
* checking foreign function calls ... OK
* checking R code for possible problems ... NOTE
alpha: no visible global function definition for ‘col2rgb’
alpha: no visible global function definition for ‘rgb’
assignEdgeWeights : wt.func: no visible global function definition for
  ‘median’
assignEdgeWeights: no visible global function definition for
  ‘complete.cases’
assignEdgeWeights: no visible global function definition for ‘na.omit’
assignEdgeWeights : <anonymous>: no visible global function definition
  for ‘na.omit’
bpGetAnnFromXRef: no visible global function definition for ‘na.omit’
bpGetReferences: no visible global function definition for ‘setNames’
bpMetabolicL2: no visible global function definition for ‘setNames’
bpMetabolicL3: no visible global function definition for ‘setNames’
bpSignalingL3: no visible global function definition for ‘na.omit’
bpSplitComplex: no visible global function definition for ‘na.omit’
colorVertexByAttr: no visible global function definition for ‘palette’
colorVertexByAttr: no visible global function definition for
  ‘colorRampPalette’
drawLegend: no visible global function definition for ‘par’
drawLegend: no visible global function definition for ‘plot.new’
drawLegend: no visible global function definition for ‘strwidth’
drawLegend: no visible global function definition for ‘legend’
fetchAttribute: no visible global function definition for ‘na.omit’
fetchAttribute: no visible global function definition for ‘URLencode’
fetchAttribute: no visible global function definition for ‘setNames’
fetchAttribute : <anonymous>: no visible global function definition for
  ‘read.table’
getGeneSetNetworks: no visible global function definition for
  ‘setClass’
getGeneSetNetworks: no visible global function definition for
  ‘representation’
getPaths : <anonymous>: no visible global function definition for
  ‘head’
getPaths: no visible global function definition for ‘tail’
graph.sizes: no visible global function definition for ‘par’
makeReactionNetwork: no visible global function definition for
  ‘complete.cases’
pathClassifier: no visible binding for global variable ‘sd’
pathClassifier: no visible global function definition for ‘aggregate’
pathCluster: no visible binding for global variable ‘sd’
pathCluster: no visible global function definition for ‘aggregate’
plotAllNetworks: no visible global function definition for ‘palette’
plotAllNetworks: no visible global function definition for ‘par’
plotAllNetworks: no visible global function definition for
  ‘colorRampPalette’
plotClassifierROC: no visible global function definition for ‘palette’
plotClassifierROC: no visible global function definition for ‘layout’
plotClassifierROC: no visible global function definition for ‘na.omit’
plotClusterMatrix: no visible global function definition for ‘rainbow’
plotClusterMatrix: no visible global function definition for ‘image’
plotClusterMatrix: no visible global function definition for ‘axis’
plotClusterProbs: no visible global function definition for ‘rainbow’
plotClusterProbs: no visible global function definition for ‘matplot’
plotClusters: no visible global function definition for ‘rainbow’
plotClusters: no visible global function definition for ‘strwidth’
plotClusters: no visible global function definition for ‘layout’
plotClusters: no visible global function definition for ‘par’
plotClusters: no visible global function definition for ‘legend’
plotCytoscapeGML : col2hex: no visible global function definition for
  ‘rgb’
plotCytoscapeGML : col2hex: no visible global function definition for
  ‘col2rgb’
plotCytoscapeGML: no visible global function definition for
  ‘packageVersion’
plotNetwork: no visible global function definition for ‘palette’
plotNetwork: no visible global function definition for ‘par’
plotNetwork_internal: no visible global function definition for
  ‘palette’
plotNetwork_internal: no visible global function definition for
  ‘setNames’
plotPathClassifier: no visible global function definition for ‘palette’
plotPathClassifier: no visible global function definition for ‘par’
plotPathClassifier: no visible global function definition for ‘layout’
plotPathClassifier: no visible global function definition for ‘barplot’
plotPathClassifier: no visible global function definition for ‘abline’
plotPathClassifier: no visible global function definition for ‘points’
plotPathClassifier: no visible global function definition for ‘axis’
plotPathClassifier: no visible global function definition for ‘image’
plotPathClassifier: no visible global function definition for
  ‘cm.colors’
plotPathClassifier: no visible global function definition for ‘mtext’
plotPathClassifier: no visible global function definition for ‘lines’
plotPathCluster: no visible global function definition for ‘par’
plotPathCluster: no visible global function definition for ‘layout’
plotPathCluster: no visible global function definition for ‘barplot’
plotPathCluster: no visible global function definition for ‘abline’
plotPathCluster: no visible global function definition for ‘axis’
plotPathCluster: no visible global function definition for ‘image’
plotPathCluster: no visible global function definition for ‘cm.colors’
plotPathCluster: no visible global function definition for ‘mtext’
plotPathROC: no visible global function definition for ‘palette’
plotPathROC: no visible global function definition for ‘lines’
plotPathROC: no visible global function definition for ‘axis’
plotPathROC: no visible global function definition for ‘mtext’
plotPathROC: no visible global function definition for ‘legend’
plotPaths: no visible global function definition for ‘palette’
plotPaths: no visible global function definition for ‘par’
process.color: no visible global function definition for
  ‘colorRampPalette’
process.color: no visible global function definition for ‘setNames’
process.layout: no visible global function definition for ‘par’
processNetwork : <anonymous>: no visible global function definition for
  ‘ecdf’
reindexNetwork: no visible binding for global variable ‘head’
stdAttrNames : <anonymous>: no visible global function definition for
  ‘head’
stdAttrNames : <anonymous>: no visible global function definition for
  ‘setNames’
Undefined global functions or variables:
  URLencode abline aggregate axis barplot cm.colors col2rgb
  colorRampPalette complete.cases ecdf head image layout legend lines
  matplot median mtext na.omit packageVersion palette par plot.new
  points rainbow read.table representation rgb sd setClass setNames
  strwidth tail
Consider adding
  importFrom("grDevices", "cm.colors", "col2rgb", "colorRampPalette",
             "palette", "rainbow", "rgb")
  importFrom("graphics", "abline", "axis", "barplot", "image", "layout",
             "legend", "lines", "matplot", "mtext", "par", "plot.new",
             "points", "strwidth")
  importFrom("methods", "representation", "setClass")
  importFrom("stats", "aggregate", "complete.cases", "ecdf", "median",
             "na.omit", "sd", "setNames")
  importFrom("utils", "URLencode", "head", "packageVersion",
             "read.table", "tail")
to your NAMESPACE file (and ensure that your DESCRIPTION Imports field
contains 'methods').
* checking Rd files ... NOTE
checkRd: (-1) plotClassifierROC.Rd:14: Lost braces
    14 | item{Top}{ROC curves for the posterior probabilities (\code{mix\$posterior.probs})
       |     ^
checkRd: (-1) plotClassifierROC.Rd:14-17: Lost braces
    14 | item{Top}{ROC curves for the posterior probabilities (\code{mix\$posterior.probs})
       |          ^
checkRd: (-1) plotClassifierROC.Rd:18: Lost braces
    18 | item{Bottom}{The likelihood convergence history for the HME3M model.  If the parameters
       |     ^
checkRd: (-1) plotClassifierROC.Rd:18-19: Lost braces
    18 | item{Bottom}{The likelihood convergence history for the HME3M model.  If the parameters
       |             ^
* checking Rd metadata ... OK
* checking Rd cross-references ... OK
* checking for missing documentation entries ... OK
* checking for code/documentation mismatches ... OK
* checking Rd \usage sections ... OK
* checking Rd contents ... OK
* checking for unstated dependencies in examples ... OK
* checking contents of ‘data’ directory ... OK
* checking data for non-ASCII characters ... OK
* checking data for ASCII and uncompressed saves ... OK
* checking line endings in shell scripts ... OK
* checking line endings in C/C++/Fortran sources/headers ... OK
* checking line endings in Makefiles ... OK
* checking compilation flags in Makevars ... OK
* checking for GNU extensions in Makefiles ... OK
* checking for portable use of $(BLAS_LIBS) and $(LAPACK_LIBS) ... OK
* checking use of PKG_*FLAGS in Makefiles ... OK
* checking compiled code ... NOTE
Note: information on .o files is not available
* checking files in ‘vignettes’ ... OK
* checking examples ... OK
Examples with CPU (user + system) or elapsed time > 5s
                 user system elapsed
plotPaths       8.233  0.028   8.273
plotAllNetworks 5.385  0.088   5.483
* checking for unstated dependencies in vignettes ... OK
* checking package vignettes ... OK
* checking running R code from vignettes ... SKIPPED
* checking re-building of vignette outputs ... SKIPPED
* checking PDF version of manual ... OK
* DONE

Status: 4 NOTEs
See
  ‘/home/biocbuild/bbs-3.20-bioc/meat/NetPathMiner.Rcheck/00check.log’
for details.


Installation output

NetPathMiner.Rcheck/00install.out

##############################################################################
##############################################################################
###
### Running command:
###
###   /home/biocbuild/R/R/bin/R CMD INSTALL NetPathMiner
###
##############################################################################
##############################################################################


* installing to library ‘/home/biocbuild/R/R-4.4.2/site-library’
* installing *source* package ‘NetPathMiner’ ...
** using staged installation
'config' variable 'CPP' is defunct
checking for gcc... /opt/ohpc/pub/compiler/gcc/14.2.0/bin/aarch64-unknown-linux-gnu-gcc
checking whether the C compiler works... yes
checking for C compiler default output file name... a.out
checking for suffix of executables... 
checking whether we are cross compiling... no
checking for suffix of object files... o
checking whether we are using the GNU C compiler... yes
checking whether /opt/ohpc/pub/compiler/gcc/14.2.0/bin/aarch64-unknown-linux-gnu-gcc accepts -g... yes
checking for /opt/ohpc/pub/compiler/gcc/14.2.0/bin/aarch64-unknown-linux-gnu-gcc option to accept ISO C89... none needed
checking how to run the C preprocessor... /opt/ohpc/pub/compiler/gcc/14.2.0/bin/aarch64-unknown-linux-gnu-gcc -E
checking for xmlParseFile in -lxml2... yes
checking for readSBML in -lsbml... no
SBML not found.
libXML2 found
checking for xml2-config... /usr/bin/xml2-config
configure: creating ./config.status
config.status: creating src/Makevars
** libs
using C compiler: ‘aarch64-unknown-linux-gnu-gcc (GCC) 14.2.0’
using C++ compiler: ‘aarch64-unknown-linux-gnu-g++ (GCC) 14.2.0’
/opt/ohpc/pub/compiler/gcc/14.2.0/bin/aarch64-unknown-linux-gnu-gcc -I"/home/biocbuild/R/R/include" -DNDEBUG -I/usr/local/include -DHAVE_XML -I/usr/include/libxml2  -I/usr/local/include    -fPIC  -g -O2  -Wall -Werror=format-security -c handlesegfault.c -o handlesegfault.o
/opt/ohpc/pub/compiler/gcc/14.2.0/bin/aarch64-unknown-linux-gnu-gcc -I"/home/biocbuild/R/R/include" -DNDEBUG -I/usr/local/include -DHAVE_XML -I/usr/include/libxml2  -I/usr/local/include    -fPIC  -g -O2  -Wall -Werror=format-security -c hme3m.c -o hme3m.o
/opt/ohpc/pub/compiler/gcc/14.2.0/bin/aarch64-unknown-linux-gnu-gcc -I"/home/biocbuild/R/R/include" -DNDEBUG -I/usr/local/include -DHAVE_XML -I/usr/include/libxml2  -I/usr/local/include    -fPIC  -g -O2  -Wall -Werror=format-security -c init.c -o init.o
/opt/ohpc/pub/compiler/gcc/14.2.0/bin/aarch64-unknown-linux-gnu-g++ -std=gnu++17 -I"/home/biocbuild/R/R/include" -DNDEBUG -I/usr/local/include -DHAVE_XML -I/usr/include/libxml2  -I/usr/local/include    -fPIC  -g -O2  -Wall -Werror=format-security  -c kgml_interface.cpp -o kgml_interface.o
/opt/ohpc/pub/compiler/gcc/14.2.0/bin/aarch64-unknown-linux-gnu-g++ -std=gnu++17 -I"/home/biocbuild/R/R/include" -DNDEBUG -I/usr/local/include -DHAVE_XML -I/usr/include/libxml2  -I/usr/local/include    -fPIC  -g -O2  -Wall -Werror=format-security  -c methods.cpp -o methods.o
/opt/ohpc/pub/compiler/gcc/14.2.0/bin/aarch64-unknown-linux-gnu-g++ -std=gnu++17 -I"/home/biocbuild/R/R/include" -DNDEBUG -I/usr/local/include -DHAVE_XML -I/usr/include/libxml2  -I/usr/local/include    -fPIC  -g -O2  -Wall -Werror=format-security  -c sbml_interface.cpp -o sbml_interface.o
/opt/ohpc/pub/compiler/gcc/14.2.0/bin/aarch64-unknown-linux-gnu-g++ -std=gnu++17 -shared -L/home/biocbuild/R/R/lib -L/usr/local/lib -o NetPathMiner.so handlesegfault.o hme3m.o init.o kgml_interface.o methods.o sbml_interface.o -lxml2 -lxml2 -lz -llzma -lm -lopenblas -L/usr/lib/gcc/aarch64-openEuler-linux/12 -lgfortran -lm -L/home/biocbuild/R/R/lib -lR
installing to /home/biocbuild/R/R-4.4.2/site-library/00LOCK-NetPathMiner/00new/NetPathMiner/libs
** R
** data
** inst
** byte-compile and prepare package for lazy loading
** help
*** installing help indices
** building package indices
** installing vignettes
** testing if installed package can be loaded from temporary location
** checking absolute paths in shared objects and dynamic libraries
** testing if installed package can be loaded from final location
** testing if installed package keeps a record of temporary installation path
* DONE (NetPathMiner)

Tests output


Example timings

NetPathMiner.Rcheck/NetPathMiner-Ex.timings

nameusersystemelapsed
KGML2igraph0.3450.0080.354
MIRIAM0.1320.0200.152
NPMdefaults0.0020.0040.006
SBML2igraph0.0010.0000.001
assignEdgeWeights0.4130.0000.414
biopax2igraph0.4740.0160.493
colorVertexByAttr0.1900.0160.206
ex_biopax0.0180.0000.018
ex_kgml_sig0.2430.0030.248
ex_microarray0.0030.0000.004
ex_sbml1.3590.0031.365
extractPathNetwork1.8190.0041.828
getAttr0.0350.0040.039
getGeneSetNetworks0.0310.0000.031
getGeneSets0.0910.0000.092
getPathsAsEIDs1.8210.0281.853
layoutVertexByAttr0.4400.0000.444
makeGeneNetwork0.2460.0000.246
makeMetaboliteNetwork0.1000.0040.104
makeReactionNetwork0.1490.0000.150
pathClassifier1.0470.0801.130
pathCluster0.4240.0040.429
pathRanker0.8260.0040.832
pathsToBinary0.9030.0000.906
plotAllNetworks5.3850.0885.483
plotClusters1.1010.0001.103
plotCytoscape0.4070.0000.408
plotNetwork0.6130.0240.639
plotPathClassifier1.1720.0161.190
plotPathCluster0.4120.0000.413
plotPaths8.2330.0288.273
predictPathClassifier0.9510.0160.968
predictPathCluster0.4370.0040.442
reindexNetwork0.2380.0000.239
rmSmallCompounds0.0890.0000.089
simplifyReactionNetwork0.1780.0000.178
toGraphNEL0.4790.0000.480
vertexDeleteReconnect0.1900.0040.194