Back to Multiple platform build/check report for BioC 3.20: simplified long |
|
This page was generated on 2025-02-03 12:05 -0500 (Mon, 03 Feb 2025).
Hostname | OS | Arch (*) | R version | Installed pkgs |
---|---|---|---|---|
nebbiolo2 | Linux (Ubuntu 24.04.1 LTS) | x86_64 | 4.4.2 (2024-10-31) -- "Pile of Leaves" | 4746 |
palomino8 | Windows Server 2022 Datacenter | x64 | 4.4.2 (2024-10-31 ucrt) -- "Pile of Leaves" | 4494 |
merida1 | macOS 12.7.5 Monterey | x86_64 | 4.4.2 (2024-10-31) -- "Pile of Leaves" | 4517 |
kjohnson1 | macOS 13.6.6 Ventura | arm64 | 4.4.2 (2024-10-31) -- "Pile of Leaves" | 4469 |
taishan | Linux (openEuler 24.03 LTS) | aarch64 | 4.4.2 (2024-10-31) -- "Pile of Leaves" | 4400 |
Click on any hostname to see more info about the system (e.g. compilers) (*) as reported by 'uname -p', except on Windows and Mac OS X |
Package 1483/2289 | Hostname | OS / Arch | INSTALL | BUILD | CHECK | BUILD BIN | ||||||||
OUTRIDER 1.24.0 (landing page) Christian Mertes
| nebbiolo2 | Linux (Ubuntu 24.04.1 LTS) / x86_64 | OK | OK | OK | |||||||||
palomino8 | Windows Server 2022 Datacenter / x64 | OK | OK | OK | OK | |||||||||
merida1 | macOS 12.7.5 Monterey / x86_64 | OK | OK | OK | OK | |||||||||
kjohnson1 | macOS 13.6.6 Ventura / arm64 | OK | OK | OK | OK | |||||||||
taishan | Linux (openEuler 24.03 LTS) / aarch64 | OK | OK | OK | ||||||||||
To the developers/maintainers of the OUTRIDER package: - Allow up to 24 hours (and sometimes 48 hours) for your latest push to git@git.bioconductor.org:packages/OUTRIDER.git to reflect on this report. See Troubleshooting Build Report for more information. - Use the following Renviron settings to reproduce errors and warnings. - If 'R CMD check' started to fail recently on the Linux builder(s) over a missing dependency, add the missing dependency to 'Suggests:' in your DESCRIPTION file. See Renviron.bioc for more information. |
Package: OUTRIDER |
Version: 1.24.0 |
Command: /home/biocbuild/bbs-3.20-bioc/R/bin/R CMD check --install=check:OUTRIDER.install-out.txt --library=/home/biocbuild/bbs-3.20-bioc/R/site-library --timings OUTRIDER_1.24.0.tar.gz |
StartedAt: 2025-01-31 00:46:48 -0500 (Fri, 31 Jan 2025) |
EndedAt: 2025-01-31 01:01:21 -0500 (Fri, 31 Jan 2025) |
EllapsedTime: 873.2 seconds |
RetCode: 0 |
Status: OK |
CheckDir: OUTRIDER.Rcheck |
Warnings: 0 |
############################################################################## ############################################################################## ### ### Running command: ### ### /home/biocbuild/bbs-3.20-bioc/R/bin/R CMD check --install=check:OUTRIDER.install-out.txt --library=/home/biocbuild/bbs-3.20-bioc/R/site-library --timings OUTRIDER_1.24.0.tar.gz ### ############################################################################## ############################################################################## * using log directory ‘/home/biocbuild/bbs-3.20-bioc/meat/OUTRIDER.Rcheck’ * using R version 4.4.2 (2024-10-31) * using platform: x86_64-pc-linux-gnu * R was compiled by gcc (Ubuntu 13.2.0-23ubuntu4) 13.2.0 GNU Fortran (Ubuntu 13.2.0-23ubuntu4) 13.2.0 * running under: Ubuntu 24.04.1 LTS * using session charset: UTF-8 * checking for file ‘OUTRIDER/DESCRIPTION’ ... OK * checking extension type ... Package * this is package ‘OUTRIDER’ version ‘1.24.0’ * package encoding: UTF-8 * checking package namespace information ... OK * checking package dependencies ... OK * checking if this is a source package ... OK * checking if there is a namespace ... OK * checking for hidden files and directories ... OK * checking for portable file names ... OK * checking for sufficient/correct file permissions ... OK * checking whether package ‘OUTRIDER’ can be installed ... OK * used C++ compiler: ‘g++ (Ubuntu 13.3.0-6ubuntu2~24.04) 13.3.0’ * checking C++ specification ... NOTE Specified C++11: please drop specification unless essential * checking installed package size ... OK * checking package directory ... OK * checking ‘build’ directory ... OK * checking DESCRIPTION meta-information ... NOTE License stub is invalid DCF. * checking top-level files ... OK * checking for left-over files ... OK * checking index information ... OK * checking package subdirectories ... OK * checking code files for non-ASCII characters ... OK * checking R files for syntax errors ... OK * checking whether the package can be loaded ... OK * checking whether the package can be loaded with stated dependencies ... OK * checking whether the package can be unloaded cleanly ... OK * checking whether the namespace can be loaded with stated dependencies ... OK * checking whether the namespace can be unloaded cleanly ... OK * checking loading without being on the library search path ... OK * checking dependencies in R code ... NOTE Unexported object imported by a ':::' call: 'ggbio:::.buildFacetsFromArgs' See the note in ?`:::` about the use of this operator. * checking S3 generic/method consistency ... OK * checking replacement functions ... OK * checking foreign function calls ... OK * checking R code for possible problems ... OK * checking Rd files ... NOTE checkRd: (-1) results.Rd:48-50: Lost braces in \itemize; \value handles \item{}{} directly checkRd: (-1) results.Rd:51-52: Lost braces in \itemize; \value handles \item{}{} directly checkRd: (-1) results.Rd:53-54: Lost braces in \itemize; \value handles \item{}{} directly checkRd: (-1) results.Rd:55: Lost braces in \itemize; \value handles \item{}{} directly checkRd: (-1) results.Rd:56-57: Lost braces in \itemize; \value handles \item{}{} directly checkRd: (-1) results.Rd:58-60: Lost braces in \itemize; \value handles \item{}{} directly checkRd: (-1) results.Rd:61-62: Lost braces in \itemize; \value handles \item{}{} directly checkRd: (-1) results.Rd:63-64: Lost braces in \itemize; \value handles \item{}{} directly checkRd: (-1) results.Rd:65-66: Lost braces in \itemize; \value handles \item{}{} directly checkRd: (-1) results.Rd:67: Lost braces in \itemize; \value handles \item{}{} directly checkRd: (-1) results.Rd:68-71: Lost braces in \itemize; \value handles \item{}{} directly * checking Rd metadata ... OK * checking Rd cross-references ... OK * checking for missing documentation entries ... OK * checking for code/documentation mismatches ... OK * checking Rd \usage sections ... OK * checking Rd contents ... OK * checking for unstated dependencies in examples ... OK * checking line endings in C/C++/Fortran sources/headers ... OK * checking line endings in Makefiles ... OK * checking compilation flags in Makevars ... OK * checking for GNU extensions in Makefiles ... OK * checking for portable use of $(BLAS_LIBS) and $(LAPACK_LIBS) ... OK * checking use of PKG_*FLAGS in Makefiles ... OK * checking compiled code ... NOTE Note: information on .o files is not available * checking files in ‘vignettes’ ... OK * checking examples ... OK Examples with CPU (user + system) or elapsed time > 5s user system elapsed plotFunctions 19.814 0.701 21.339 OUTRIDER 11.239 3.598 13.195 findEncodingDim 13.408 0.722 14.442 computePvalues 2.896 4.338 4.330 results 6.918 0.306 7.225 getter_setter_functions 6.155 0.221 6.423 * checking for unstated dependencies in ‘tests’ ... OK * checking tests ... Running ‘testthat.R’ OK * checking for unstated dependencies in vignettes ... OK * checking package vignettes ... OK * checking re-building of vignette outputs ... OK * checking PDF version of manual ... OK * DONE Status: 5 NOTEs See ‘/home/biocbuild/bbs-3.20-bioc/meat/OUTRIDER.Rcheck/00check.log’ for details.
OUTRIDER.Rcheck/00install.out
############################################################################## ############################################################################## ### ### Running command: ### ### /home/biocbuild/bbs-3.20-bioc/R/bin/R CMD INSTALL OUTRIDER ### ############################################################################## ############################################################################## * installing to library ‘/home/biocbuild/bbs-3.20-bioc/R/site-library’ * installing *source* package ‘OUTRIDER’ ... ** using staged installation ** libs using C++ compiler: ‘g++ (Ubuntu 13.3.0-6ubuntu2~24.04) 13.3.0’ using C++11 g++ -std=gnu++11 -I"/home/biocbuild/bbs-3.20-bioc/R/include" -DNDEBUG -I'/home/biocbuild/bbs-3.20-bioc/R/site-library/Rcpp/include' -I'/home/biocbuild/bbs-3.20-bioc/R/site-library/RcppArmadillo/include' -I/usr/local/include -fopenmp -DARMA_DONT_USE_OPENMP -fpic -g -O2 -Wall -c RcppExports.cpp -o RcppExports.o g++ -std=gnu++11 -I"/home/biocbuild/bbs-3.20-bioc/R/include" -DNDEBUG -I'/home/biocbuild/bbs-3.20-bioc/R/site-library/Rcpp/include' -I'/home/biocbuild/bbs-3.20-bioc/R/site-library/RcppArmadillo/include' -I/usr/local/include -fopenmp -DARMA_DONT_USE_OPENMP -fpic -g -O2 -Wall -c loss_n_gradient_functions.cpp -o loss_n_gradient_functions.o g++ -std=gnu++11 -shared -L/home/biocbuild/bbs-3.20-bioc/R/lib -L/usr/local/lib -o OUTRIDER.so RcppExports.o loss_n_gradient_functions.o -fopenmp -llapack -L/home/biocbuild/bbs-3.20-bioc/R/lib -lRblas -lgfortran -lm -lquadmath -L/home/biocbuild/bbs-3.20-bioc/R/lib -lR installing to /home/biocbuild/bbs-3.20-bioc/R/site-library/00LOCK-OUTRIDER/00new/OUTRIDER/libs ** R ** inst ** byte-compile and prepare package for lazy loading ** help *** installing help indices ** building package indices ** installing vignettes ** testing if installed package can be loaded from temporary location ** checking absolute paths in shared objects and dynamic libraries ** testing if installed package can be loaded from final location ** testing if installed package keeps a record of temporary installation path * DONE (OUTRIDER)
OUTRIDER.Rcheck/tests/testthat.Rout
R version 4.4.2 (2024-10-31) -- "Pile of Leaves" Copyright (C) 2024 The R Foundation for Statistical Computing Platform: x86_64-pc-linux-gnu R is free software and comes with ABSOLUTELY NO WARRANTY. You are welcome to redistribute it under certain conditions. Type 'license()' or 'licence()' for distribution details. R is a collaborative project with many contributors. Type 'contributors()' for more information and 'citation()' on how to cite R or R packages in publications. Type 'demo()' for some demos, 'help()' for on-line help, or 'help.start()' for an HTML browser interface to help. Type 'q()' to quit R. > library(testthat) > library(OUTRIDER) Loading required package: BiocParallel Loading required package: GenomicFeatures Loading required package: BiocGenerics Attaching package: 'BiocGenerics' The following objects are masked from 'package:stats': IQR, mad, sd, var, xtabs The following objects are masked from 'package:base': Filter, Find, Map, Position, Reduce, anyDuplicated, aperm, append, as.data.frame, basename, cbind, colnames, dirname, do.call, duplicated, eval, evalq, get, grep, grepl, intersect, is.unsorted, lapply, mapply, match, mget, order, paste, pmax, pmax.int, pmin, pmin.int, rank, rbind, rownames, sapply, saveRDS, setdiff, table, tapply, union, unique, unsplit, which.max, which.min Loading required package: S4Vectors Loading required package: stats4 Attaching package: 'S4Vectors' The following object is masked from 'package:utils': findMatches The following objects are masked from 'package:base': I, expand.grid, unname Loading required package: IRanges Loading required package: GenomeInfoDb Loading required package: GenomicRanges Loading required package: AnnotationDbi Loading required package: Biobase Welcome to Bioconductor Vignettes contain introductory material; view with 'browseVignettes()'. To cite Bioconductor, see 'citation("Biobase")', and for packages 'citation("pkgname")'. Loading required package: SummarizedExperiment Loading required package: MatrixGenerics Loading required package: matrixStats Attaching package: 'matrixStats' The following objects are masked from 'package:Biobase': anyMissing, rowMedians Attaching package: 'MatrixGenerics' The following objects are masked from 'package:matrixStats': colAlls, colAnyNAs, colAnys, colAvgsPerRowSet, colCollapse, colCounts, colCummaxs, colCummins, colCumprods, colCumsums, colDiffs, colIQRDiffs, colIQRs, colLogSumExps, colMadDiffs, colMads, colMaxs, colMeans2, colMedians, colMins, colOrderStats, colProds, colQuantiles, colRanges, colRanks, colSdDiffs, colSds, colSums2, colTabulates, colVarDiffs, colVars, colWeightedMads, colWeightedMeans, colWeightedMedians, colWeightedSds, colWeightedVars, rowAlls, rowAnyNAs, rowAnys, rowAvgsPerColSet, rowCollapse, rowCounts, rowCummaxs, rowCummins, rowCumprods, rowCumsums, rowDiffs, rowIQRDiffs, rowIQRs, rowLogSumExps, rowMadDiffs, rowMads, rowMaxs, rowMeans2, rowMedians, rowMins, rowOrderStats, rowProds, rowQuantiles, rowRanges, rowRanks, rowSdDiffs, rowSds, rowSums2, rowTabulates, rowVarDiffs, rowVars, rowWeightedMads, rowWeightedMeans, rowWeightedMedians, rowWeightedSds, rowWeightedVars The following object is masked from 'package:Biobase': rowMedians Loading required package: data.table Attaching package: 'data.table' The following object is masked from 'package:SummarizedExperiment': shift The following object is masked from 'package:GenomicRanges': shift The following object is masked from 'package:IRanges': shift The following objects are masked from 'package:S4Vectors': first, second > > register(SerialParam()) > > test_check("OUTRIDER") [1] "Fri Jan 31 00:56:30 2025: Initial PCA loss: 6.59675370006978" [1] "Fri Jan 31 00:56:31 2025: Iteration: 1 loss: 4.7889648870468" [1] "Fri Jan 31 00:56:32 2025: Iteration: 2 loss: 4.70354742601638" [1] "Fri Jan 31 00:56:33 2025: Iteration: 3 loss: 4.67945526742628" [1] "Fri Jan 31 00:56:33 2025: Iteration: 4 loss: 4.66509342251222" [1] "Fri Jan 31 00:56:34 2025: Iteration: 5 loss: 4.65923338362639" [1] "Fri Jan 31 00:56:35 2025: Iteration: 6 loss: 4.65826227884581" Time difference of 3.683067 secs [1] "Fri Jan 31 00:56:35 2025: 6 Final nb-AE loss: 4.65826227884581" [1] "Fri Jan 31 00:56:36 2025: Initial PCA loss: 6.59675370006978" [1] "Fri Jan 31 00:56:37 2025: Iteration: 1 loss: 4.7889648870468" [1] "Fri Jan 31 00:56:37 2025: Iteration: 2 loss: 4.70354742601638" [1] "Fri Jan 31 00:56:38 2025: Iteration: 3 loss: 4.67945526742628" [1] "Fri Jan 31 00:56:38 2025: Iteration: 4 loss: 4.66509342251222" [1] "Fri Jan 31 00:56:39 2025: Iteration: 5 loss: 4.65923338362639" [1] "Fri Jan 31 00:56:40 2025: Iteration: 6 loss: 4.65826227884581" Time difference of 3.549098 secs [1] "Fri Jan 31 00:56:40 2025: 6 Final nb-AE loss: 4.65826227884581" class: OutriderDataSet class: RangedSummarizedExperiment dim: 100 50 metadata(1): version assays(1): counts rownames(100): ENSG00000223972.4 ENSG00000227232.4 ... ENSG00000107404.13 ENSG00000162576.12 rowData names(0): colnames(50): GTEX.UPK5.0426.SM.3GAEK GTEX.WFG7.2026.SM.3GIL7 ... GTEX.11UD2.2526.SM.5CVNU GTEX.13O61.1426.SM.5KM3D colData names(1): sampleID [1] "Fri Jan 31 00:56:53 2025: Initial PCA loss: 4.49484176663649" [1] "Fri Jan 31 00:56:54 2025: Iteration: 1 loss: 4.16716652607044" [1] "Fri Jan 31 00:56:55 2025: Iteration: 2 loss: 4.15898264511958" Time difference of 1.162677 secs [1] "Fri Jan 31 00:56:55 2025: 2 Final nb-AE loss: 4.15898264511958" [1] "Evaluation loss: 0.48887871039985 for q=3" [1] "Fri Jan 31 00:56:55 2025: Initial PCA loss: 4.46364224623313" [1] "Fri Jan 31 00:56:56 2025: Iteration: 1 loss: 4.07329826546043" [1] "Fri Jan 31 00:56:57 2025: Iteration: 2 loss: 4.0607740926473" Time difference of 1.177235 secs [1] "Fri Jan 31 00:56:57 2025: 2 Final nb-AE loss: 4.0607740926473" [1] "Evaluation loss: 0.343941671953889 for q=4" [1] "Fri Jan 31 00:56:58 2025: Initial PCA loss: 4.43735468420166" [1] "Fri Jan 31 00:56:59 2025: Iteration: 1 loss: 3.99452065120658" [1] "Fri Jan 31 00:57:00 2025: Iteration: 2 loss: 3.96716212665301" Time difference of 1.253411 secs [1] "Fri Jan 31 00:57:00 2025: 2 Final nb-AE loss: 3.96716212665301" [1] "Evaluation loss: 0.386646170901672 for q=5" [1] "Fri Jan 31 00:57:07 2025: Initial PCA loss: 7.16457134714849" [1] "Fri Jan 31 00:57:08 2025: Iteration: 1 loss: 6.82915922411761" [1] "Fri Jan 31 00:57:09 2025: Iteration: 2 loss: 6.82750047452709" Time difference of 1.384646 secs [1] "Fri Jan 31 00:57:09 2025: 2 Final nb-AE loss: 6.82750047452709" [ FAIL 0 | WARN 10 | SKIP 0 | PASS 115 ] [ FAIL 0 | WARN 10 | SKIP 0 | PASS 115 ] > > proc.time() user system elapsed 79.701 2.578 84.700
OUTRIDER.Rcheck/OUTRIDER-Ex.timings
name | user | system | elapsed | |
OUTRIDER | 11.239 | 3.598 | 13.195 | |
OutriderDataSet-class | 0.771 | 0.115 | 0.886 | |
aberrant | 1.864 | 1.272 | 1.972 | |
computeGeneLength | 1.634 | 0.278 | 2.086 | |
computeLatentSpace | 0.718 | 0.037 | 0.756 | |
computePvalues | 2.896 | 4.338 | 4.330 | |
computeZscores | 1.739 | 0.161 | 1.919 | |
controlForConfounders | 2.245 | 0.213 | 3.124 | |
counts | 0.854 | 0.030 | 0.884 | |
estimateBestQ | 0.613 | 0.018 | 0.632 | |
filterExpression | 2.493 | 0.207 | 2.701 | |
findEncodingDim | 13.408 | 0.722 | 14.442 | |
fit | 0.853 | 0.042 | 0.895 | |
fpkm | 0.807 | 0.013 | 0.820 | |
getter_setter_functions | 6.155 | 0.221 | 6.423 | |
makeExampleOutriderDataSet | 2.034 | 0.038 | 2.074 | |
normalizationFactors | 0.993 | 0.013 | 1.006 | |
plotFunctions | 19.814 | 0.701 | 21.339 | |
results | 6.918 | 0.306 | 7.225 | |
sampleExclusionMask | 0.604 | 0.004 | 0.608 | |
sizeFactors | 0.584 | 0.071 | 0.655 | |