Back to Multiple platform build/check report for BioC 3.20:   simplified   long
ABCDEFGHIJKLMN[O]PQRSTUVWXYZ

This page was generated on 2025-02-06 12:08 -0500 (Thu, 06 Feb 2025).

HostnameOSArch (*)R versionInstalled pkgs
nebbiolo2Linux (Ubuntu 24.04.1 LTS)x86_644.4.2 (2024-10-31) -- "Pile of Leaves" 4753
palomino8Windows Server 2022 Datacenterx644.4.2 (2024-10-31 ucrt) -- "Pile of Leaves" 4501
merida1macOS 12.7.5 Montereyx86_644.4.2 (2024-10-31) -- "Pile of Leaves" 4524
kjohnson1macOS 13.6.6 Venturaarm644.4.2 (2024-10-31) -- "Pile of Leaves" 4476
taishanLinux (openEuler 24.03 LTS)aarch644.4.2 (2024-10-31) -- "Pile of Leaves" 4407
Click on any hostname to see more info about the system (e.g. compilers)      (*) as reported by 'uname -p', except on Windows and Mac OS X

Package 1462/2289HostnameOS / ArchINSTALLBUILDCHECKBUILD BIN
OncoSimulR 4.8.0  (landing page)
Ramon Diaz-Uriarte
Snapshot Date: 2025-02-03 13:00 -0500 (Mon, 03 Feb 2025)
git_url: https://git.bioconductor.org/packages/OncoSimulR
git_branch: RELEASE_3_20
git_last_commit: 52cb97a
git_last_commit_date: 2024-10-29 09:53:24 -0500 (Tue, 29 Oct 2024)
nebbiolo2Linux (Ubuntu 24.04.1 LTS) / x86_64  OK    OK    OK  UNNEEDED, same version is already published
palomino8Windows Server 2022 Datacenter / x64  OK    OK    OK    OK  UNNEEDED, same version is already published
merida1macOS 12.7.5 Monterey / x86_64  OK    OK    OK    OK  UNNEEDED, same version is already published
kjohnson1macOS 13.6.6 Ventura / arm64... NOT SUPPORTED ...
taishanLinux (openEuler 24.03 LTS) / aarch64  OK    OK    OK  


CHECK results for OncoSimulR on merida1

To the developers/maintainers of the OncoSimulR package:
- Allow up to 24 hours (and sometimes 48 hours) for your latest push to git@git.bioconductor.org:packages/OncoSimulR.git to reflect on this report. See Troubleshooting Build Report for more information.
- Use the following Renviron settings to reproduce errors and warnings.
- If 'R CMD check' started to fail recently on the Linux builder(s) over a missing dependency, add the missing dependency to 'Suggests:' in your DESCRIPTION file. See Renviron.bioc for more information.

raw results


Summary

Package: OncoSimulR
Version: 4.8.0
Command: /Library/Frameworks/R.framework/Resources/bin/R CMD check --install=check:OncoSimulR.install-out.txt --library=/Library/Frameworks/R.framework/Resources/library --no-vignettes --timings OncoSimulR_4.8.0.tar.gz
StartedAt: 2025-02-04 07:29:48 -0500 (Tue, 04 Feb 2025)
EndedAt: 2025-02-04 07:40:00 -0500 (Tue, 04 Feb 2025)
EllapsedTime: 612.1 seconds
RetCode: 0
Status:   OK  
CheckDir: OncoSimulR.Rcheck
Warnings: 0

Command output

##############################################################################
##############################################################################
###
### Running command:
###
###   /Library/Frameworks/R.framework/Resources/bin/R CMD check --install=check:OncoSimulR.install-out.txt --library=/Library/Frameworks/R.framework/Resources/library --no-vignettes --timings OncoSimulR_4.8.0.tar.gz
###
##############################################################################
##############################################################################


* using log directory ‘/Users/biocbuild/bbs-3.20-bioc/meat/OncoSimulR.Rcheck’
* using R version 4.4.2 (2024-10-31)
* using platform: x86_64-apple-darwin20
* R was compiled by
    Apple clang version 14.0.0 (clang-1400.0.29.202)
    GNU Fortran (GCC) 12.2.0
* running under: macOS Monterey 12.7.6
* using session charset: UTF-8
* using option ‘--no-vignettes’
* checking for file ‘OncoSimulR/DESCRIPTION’ ... OK
* checking extension type ... Package
* this is package ‘OncoSimulR’ version ‘4.8.0’
* checking package namespace information ... OK
* checking package dependencies ... OK
* checking if this is a source package ... OK
* checking if there is a namespace ... OK
* checking for hidden files and directories ... NOTE
Found the following hidden files and directories:
  .BBSoptions
These were most likely included in error. See section ‘Package
structure’ in the ‘Writing R Extensions’ manual.
* checking for portable file names ... OK
* checking for sufficient/correct file permissions ... OK
* checking whether package ‘OncoSimulR’ can be installed ... OK
* used C compiler: ‘Apple clang version 14.0.0 (clang-1400.0.29.202)’
* used C++ compiler: ‘Apple clang version 14.0.0 (clang-1400.0.29.202)’
* used SDK: ‘MacOSX11.3.sdk’
* checking installed package size ... NOTE
  installed size is  9.4Mb
  sub-directories of 1Mb or more:
    libs   7.9Mb
* checking package directory ... OK
* checking ‘build’ directory ... OK
* checking DESCRIPTION meta-information ... OK
* checking top-level files ... OK
* checking for left-over files ... OK
* checking index information ... OK
* checking package subdirectories ... OK
* checking code files for non-ASCII characters ... OK
* checking R files for syntax errors ... OK
* checking whether the package can be loaded ... OK
* checking whether the package can be loaded with stated dependencies ... OK
* checking whether the package can be unloaded cleanly ... OK
* checking whether the namespace can be loaded with stated dependencies ... OK
* checking whether the namespace can be unloaded cleanly ... OK
* checking whether startup messages can be suppressed ... OK
* checking dependencies in R code ... OK
* checking S3 generic/method consistency ... OK
* checking replacement functions ... OK
* checking foreign function calls ... OK
* checking R code for possible problems ... OK
* checking Rd files ... OK
* checking Rd metadata ... OK
* checking Rd cross-references ... OK
* checking for missing documentation entries ... OK
* checking for code/documentation mismatches ... OK
* checking Rd \usage sections ... OK
* checking Rd contents ... OK
* checking for unstated dependencies in examples ... OK
* checking contents of ‘data’ directory ... OK
* checking data for non-ASCII characters ... OK
* checking data for ASCII and uncompressed saves ... OK
* checking line endings in C/C++/Fortran sources/headers ... OK
* checking line endings in Makefiles ... OK
* checking compilation flags in Makevars ... OK
* checking for GNU extensions in Makefiles ... OK
* checking for portable use of $(BLAS_LIBS) and $(LAPACK_LIBS) ... OK
* checking use of PKG_*FLAGS in Makefiles ... OK
* checking include directives in Makefiles ... OK
* checking compiled code ... NOTE
Note: information on .o files is not available
* checking files in ‘vignettes’ ... OK
* checking examples ... OK
* checking for unstated dependencies in ‘tests’ ... OK
* checking tests ...
  Running ‘testthat.R’
 OK
* checking for unstated dependencies in vignettes ... OK
* checking package vignettes ... OK
* checking running R code from vignettes ... SKIPPED
* checking re-building of vignette outputs ... SKIPPED
* checking PDF version of manual ... OK
* DONE

Status: 3 NOTEs
See
  ‘/Users/biocbuild/bbs-3.20-bioc/meat/OncoSimulR.Rcheck/00check.log’
for details.


Installation output

OncoSimulR.Rcheck/00install.out

##############################################################################
##############################################################################
###
### Running command:
###
###   /Library/Frameworks/R.framework/Resources/bin/R CMD INSTALL OncoSimulR
###
##############################################################################
##############################################################################


* installing to library ‘/Library/Frameworks/R.framework/Versions/4.4-x86_64/Resources/library’
* installing *source* package ‘OncoSimulR’ ...
** using staged installation
** libs
using C compiler: ‘Apple clang version 14.0.0 (clang-1400.0.29.202)’
using C++ compiler: ‘Apple clang version 14.0.0 (clang-1400.0.29.202)’
using SDK: ‘MacOSX11.3.sdk’
clang -arch x86_64 -I"/Library/Frameworks/R.framework/Resources/include" -DNDEBUG  -I'/Library/Frameworks/R.framework/Versions/4.4-x86_64/Resources/library/Rcpp/include' -I/opt/R/x86_64/include    -fPIC  -falign-functions=64 -Wall -g -O2  -c FitnessLandscape/gamma.c -o FitnessLandscape/gamma.o
clang -arch x86_64 -I"/Library/Frameworks/R.framework/Resources/include" -DNDEBUG  -I'/Library/Frameworks/R.framework/Versions/4.4-x86_64/Resources/library/Rcpp/include' -I/opt/R/x86_64/include    -fPIC  -falign-functions=64 -Wall -g -O2  -c FitnessLandscape/landscape.c -o FitnessLandscape/landscape.o
clang -arch x86_64 -I"/Library/Frameworks/R.framework/Resources/include" -DNDEBUG  -I'/Library/Frameworks/R.framework/Versions/4.4-x86_64/Resources/library/Rcpp/include' -I/opt/R/x86_64/include    -fPIC  -falign-functions=64 -Wall -g -O2  -c FitnessLandscape/random.c -o FitnessLandscape/random.o
clang -arch x86_64 -I"/Library/Frameworks/R.framework/Resources/include" -DNDEBUG  -I'/Library/Frameworks/R.framework/Versions/4.4-x86_64/Resources/library/Rcpp/include' -I/opt/R/x86_64/include    -fPIC  -falign-functions=64 -Wall -g -O2  -c FitnessLandscape/sort.c -o FitnessLandscape/sort.o
clang -arch x86_64 -I"/Library/Frameworks/R.framework/Resources/include" -DNDEBUG  -I'/Library/Frameworks/R.framework/Versions/4.4-x86_64/Resources/library/Rcpp/include' -I/opt/R/x86_64/include    -fPIC  -falign-functions=64 -Wall -g -O2  -c FitnessLandscape/chain.c -o FitnessLandscape/chain.o
clang -arch x86_64 -I"/Library/Frameworks/R.framework/Resources/include" -DNDEBUG  -I'/Library/Frameworks/R.framework/Versions/4.4-x86_64/Resources/library/Rcpp/include' -I/opt/R/x86_64/include    -fPIC  -falign-functions=64 -Wall -g -O2  -c FitnessLandscape/input.c -o FitnessLandscape/input.o
clang -arch x86_64 -I"/Library/Frameworks/R.framework/Resources/include" -DNDEBUG  -I'/Library/Frameworks/R.framework/Versions/4.4-x86_64/Resources/library/Rcpp/include' -I/opt/R/x86_64/include    -fPIC  -falign-functions=64 -Wall -g -O2  -c FitnessLandscape/genotypes.c -o FitnessLandscape/genotypes.o
clang -arch x86_64 -I"/Library/Frameworks/R.framework/Resources/include" -DNDEBUG  -I'/Library/Frameworks/R.framework/Versions/4.4-x86_64/Resources/library/Rcpp/include' -I/opt/R/x86_64/include    -fPIC  -falign-functions=64 -Wall -g -O2  -c FitnessLandscape/ordered_pairs.c -o FitnessLandscape/ordered_pairs.o
FitnessLandscape/ordered_pairs.c:138:6: warning: variable 'tot_pairs' set but not used [-Wunused-but-set-variable]
        int tot_pairs=0;
            ^
1 warning generated.
clang -arch x86_64 -I"/Library/Frameworks/R.framework/Resources/include" -DNDEBUG  -I'/Library/Frameworks/R.framework/Versions/4.4-x86_64/Resources/library/Rcpp/include' -I/opt/R/x86_64/include    -fPIC  -falign-functions=64 -Wall -g -O2  -c FitnessLandscape/calculus.c -o FitnessLandscape/calculus.o
clang -arch x86_64 -I"/Library/Frameworks/R.framework/Resources/include" -DNDEBUG  -I'/Library/Frameworks/R.framework/Versions/4.4-x86_64/Resources/library/Rcpp/include' -I/opt/R/x86_64/include    -fPIC  -falign-functions=64 -Wall -g -O2  -c FitnessLandscape/vector.c -o FitnessLandscape/vector.o
clang -arch x86_64 -I"/Library/Frameworks/R.framework/Resources/include" -DNDEBUG  -I'/Library/Frameworks/R.framework/Versions/4.4-x86_64/Resources/library/Rcpp/include' -I/opt/R/x86_64/include    -fPIC  -falign-functions=64 -Wall -g -O2  -c FitnessLandscape/generalized_chain.c -o FitnessLandscape/generalized_chain.o
clang -arch x86_64 -I"/Library/Frameworks/R.framework/Resources/include" -DNDEBUG  -I'/Library/Frameworks/R.framework/Versions/4.4-x86_64/Resources/library/Rcpp/include' -I/opt/R/x86_64/include    -fPIC  -falign-functions=64 -Wall -g -O2  -c FitnessLandscape/LinearAlgebra.c -o FitnessLandscape/LinearAlgebra.o
clang -arch x86_64 -I"/Library/Frameworks/R.framework/Resources/include" -DNDEBUG  -I'/Library/Frameworks/R.framework/Versions/4.4-x86_64/Resources/library/Rcpp/include' -I/opt/R/x86_64/include    -fPIC  -falign-functions=64 -Wall -g -O2  -c FitnessLandscape/summary_statistics.c -o FitnessLandscape/summary_statistics.o
FitnessLandscape/summary_statistics.c:515:9: warning: variable 'meanVarianceNumberOfStepsFL' set but not used [-Wunused-but-set-variable]
        double meanVarianceNumberOfStepsFL = 0;
               ^
1 warning generated.
clang -arch x86_64 -I"/Library/Frameworks/R.framework/Resources/include" -DNDEBUG  -I'/Library/Frameworks/R.framework/Versions/4.4-x86_64/Resources/library/Rcpp/include' -I/opt/R/x86_64/include    -fPIC  -falign-functions=64 -Wall -g -O2  -c FitnessLandscape/epistasis_type.c -o FitnessLandscape/epistasis_type.o
clang -arch x86_64 -I"/Library/Frameworks/R.framework/Resources/include" -DNDEBUG  -I'/Library/Frameworks/R.framework/Versions/4.4-x86_64/Resources/library/Rcpp/include' -I/opt/R/x86_64/include    -fPIC  -falign-functions=64 -Wall -g -O2  -c FitnessLandscape/decomposition.c -o FitnessLandscape/decomposition.o
clang -arch x86_64 -I"/Library/Frameworks/R.framework/Resources/include" -DNDEBUG  -I'/Library/Frameworks/R.framework/Versions/4.4-x86_64/Resources/library/Rcpp/include' -I/opt/R/x86_64/include    -fPIC  -falign-functions=64 -Wall -g -O2  -c FitnessLandscape/models.c -o FitnessLandscape/models.o
clang -arch x86_64 -I"/Library/Frameworks/R.framework/Resources/include" -DNDEBUG  -I'/Library/Frameworks/R.framework/Versions/4.4-x86_64/Resources/library/Rcpp/include' -I/opt/R/x86_64/include    -fPIC  -falign-functions=64 -Wall -g -O2  -c FitnessLandscape/verbose.c -o FitnessLandscape/verbose.o
ar -r liblandscape.a FitnessLandscape/gamma.o FitnessLandscape/landscape.o FitnessLandscape/random.o FitnessLandscape/sort.o FitnessLandscape/chain.o FitnessLandscape/input.o FitnessLandscape/genotypes.o FitnessLandscape/ordered_pairs.o FitnessLandscape/calculus.o FitnessLandscape/vector.o FitnessLandscape/generalized_chain.o FitnessLandscape/LinearAlgebra.o FitnessLandscape/summary_statistics.o FitnessLandscape/epistasis_type.o FitnessLandscape/decomposition.o FitnessLandscape/models.o FitnessLandscape/verbose.o ;
ar: creating archive liblandscape.a
ranlib liblandscape.a;
clang -arch x86_64 -O -Wall -o fl_statistics -I/FitnessLandscape/. -L. FitnessLandscape/main_fl_statistics.c -llandscape -lm;
clang -arch x86_64 -O -Wall -o fl_generate -I/FitnessLandscape/. -L. FitnessLandscape/main_fl_generate.c -llandscape -lm;
clang -arch x86_64 -I"/Library/Frameworks/R.framework/Resources/include" -DNDEBUG  -I'/Library/Frameworks/R.framework/Versions/4.4-x86_64/Resources/library/Rcpp/include' -I/opt/R/x86_64/include    -fPIC  -falign-functions=64 -Wall -g -O2  -c OncoSimulR_init.c -o OncoSimulR_init.o
clang++ -arch x86_64 -std=gnu++17 -I"/Library/Frameworks/R.framework/Resources/include" -DNDEBUG  -I'/Library/Frameworks/R.framework/Versions/4.4-x86_64/Resources/library/Rcpp/include' -I/opt/R/x86_64/include    -fPIC  -falign-functions=64 -Wall -g -O2   -c RcppExports.cpp -o RcppExports.o
clang++ -arch x86_64 -std=gnu++17 -I"/Library/Frameworks/R.framework/Resources/include" -DNDEBUG  -I'/Library/Frameworks/R.framework/Versions/4.4-x86_64/Resources/library/Rcpp/include' -I/opt/R/x86_64/include    -fPIC  -falign-functions=64 -Wall -g -O2   -c unity_osimul.cpp -o unity_osimul.o
In file included from unity_osimul.cpp:10:
./UnityOncoSimul/intervention_private_2.cpp:17:10: warning: variable 'totalPop' set but not used [-Wunused-but-set-variable]
  double totalPop = 0.0;
         ^
1 warning generated.
clang++ -arch x86_64 -std=gnu++17 -dynamiclib -Wl,-headerpad_max_install_names -undefined dynamic_lookup -L/Library/Frameworks/R.framework/Resources/lib -L/opt/R/x86_64/lib -o OncoSimulR.so OncoSimulR_init.o RcppExports.o unity_osimul.o -F/Library/Frameworks/R.framework/.. -framework R -Wl,-framework -Wl,CoreFoundation
installing via 'install.libs.R' to /Library/Frameworks/R.framework/Versions/4.4-x86_64/Resources/library/00LOCK-OncoSimulR/00new/OncoSimulR
[1] ""
Installing fl_statistics fl_generate to /Library/Frameworks/R.framework/Versions/4.4-x86_64/Resources/library/00LOCK-OncoSimulR/00new/OncoSimulR/exec
Installing library OncoSimulR.so to /Library/Frameworks/R.framework/Versions/4.4-x86_64/Resources/library/00LOCK-OncoSimulR/00new/OncoSimulR/libs
** R
** data
** inst
** byte-compile and prepare package for lazy loading
** help
*** installing help indices
** building package indices
** installing vignettes
** testing if installed package can be loaded from temporary location
** checking absolute paths in shared objects and dynamic libraries
** testing if installed package can be loaded from final location
** testing if installed package keeps a record of temporary installation path
* DONE (OncoSimulR)

Tests output

OncoSimulR.Rcheck/tests/testthat.Rout


R version 4.4.2 (2024-10-31) -- "Pile of Leaves"
Copyright (C) 2024 The R Foundation for Statistical Computing
Platform: x86_64-apple-darwin20

R is free software and comes with ABSOLUTELY NO WARRANTY.
You are welcome to redistribute it under certain conditions.
Type 'license()' or 'licence()' for distribution details.

R is a collaborative project with many contributors.
Type 'contributors()' for more information and
'citation()' on how to cite R or R packages in publications.

Type 'demo()' for some demos, 'help()' for on-line help, or
'help.start()' for an HTML browser interface to help.
Type 'q()' to quit R.

> library(testthat)
> library(OncoSimulR)
This is package OncoSimulR. If you are running it on an aarch64 (arm64) platform with a MacOS note that the package fails some tests in that platform + OS that I have no way of debugging. Please read file README_tests_kjohnson3_aarch64-apple-darwin20.txt in the tests directory. As of 2024-10-09, this platform is unsupported until we can properly debug it.
> 
> test_check("OncoSimulR")

 Starting FDF-letter-fitness-order Tue Feb  4 07:32:24 2025 

exprtk parser error: 

Error[00] Position: 00 Type: [  Syntax Error] Msg: ERR202 - Undefined symbol: 'n_2_3' Expression: n_2_3

exprtk parser error: 

Error[00] Position: 00 Type: [  Syntax Error] Msg: ERR202 - Undefined symbol: 'f_2_3' Expression: f_2_3

 Ending FDF-small-fitness-specs Tue Feb  4 07:32:25 2025 
  Took  0.98 


 Starting LOD_POM at Tue Feb  4 07:32:25 2025 

 Ending LOD_POM at Tue Feb  4 07:32:52 2025 
  Took  26.82 


 Starting test.Z-all-fitness at Tue Feb  4 07:32:52 2025 

 Ending test.Z-all-fitness at Tue Feb  4 07:32:52 2025 
  Took  0.23 


 Starting test.Z-driver-counts at Tue Feb  4 07:32:52 2025 

 Ending test.Z-driver-counts at Tue Feb  4 07:32:53 2025 
  Took  0.27 


 Starting test.Z-fixation at Tue Feb  4 07:32:53 2025 

 Ending test.Z-fixation at Tue Feb  4 07:32:53 2025 
  Took  0.6 


 Starting test.Z-magellan at Tue Feb  4 07:32:53 2025 

 Ended test.Z-magellan at Tue Feb  4 07:32:57 2025 

 Starting test.Z-mutator at Tue Feb  4 07:32:57 2025 

 Ending test.Z-mutator at Tue Feb  4 07:32:57 2025 
  Took  0.74 


 Starting test.Z-mutatorFDF at Tue Feb  4 07:32:57 2025 

 Ending test.Z-mutatorFDF at Tue Feb  4 07:32:58 2025 
  Took  0.23 


 Starting test.Z-oncoSimulIndiv at Tue Feb  4 07:32:58 2025 

 Ending test.Z-oncoSimulIndiv at Tue Feb  4 07:32:59 2025 
  Took  1.07 


 Starting test.Z-oncoSimulIndivConstant at Tue Feb  4 07:32:59 2025 

 Ending test.Z-oncoSimulIndivConstant at Tue Feb  4 07:33:03 2025 
  Took  4.52 


 Starting test.Z-oncoSimulIndivDeath at Tue Feb  4 07:33:03 2025 


 Ending test.Z-oncoSimulIndivDeath at Tue Feb  4 07:33:05 2025 
  Took  1.68 


 Starting test.Z-oncoSimulIndivFDF at Tue Feb  4 07:33:05 2025 

 Hitted wall time. Exiting.
 Hitting wall time is regarded as an error. 

 Ending test.Z-oncoSimulIndivFDF at Tue Feb  4 07:33:06 2025 
  Took  0.62 


 Starting test.Z-rfitness-landscape at Tue Feb  4 07:33:06 2025 

 Ending test.Z-rfitness-landscape at Tue Feb  4 07:33:06 2025 
  Took  0.45 


 Starting Z-sample-only-last tests Tue Feb  4 07:33:06 2025 

 Ending Z-sample-only-last tests Tue Feb  4 07:33:06 2025 
  Took  0 


 Starting Z-total-present-drivers tests Tue Feb  4 07:33:06 2025 

 Ending Z-total-present-drivers tests Tue Feb  4 07:33:08 2025 
  Took  1.59 


 Dummy empty test  Tue Feb  4 07:33:08 2025 

 Starting accessible_genotypes at Tue Feb  4 07:33:08 2025 

 Ending accessible_genotypes at Tue Feb  4 07:33:25 2025 
  Took  16.87 


 Starting all fitness at Tue Feb  4 07:33:25 2025
 Ending all-fitness at Tue Feb  4 07:33:37 2025 
  Took  11.93 


 Starting test.allFitnessEffectsFDF at Tue Feb  4 07:33:37 2025 

 Ending test.allFitnessEffectsFDF at Tue Feb  4 07:33:37 2025 
  Took  0.29 


 Starting test.allFitnessEffectsDeath at Tue Feb  4 07:33:37 2025 

 Ending test.allFitnessEffectsDeath at Tue Feb  4 07:33:38 2025 
  Took  0.86 


 Starting test.allFitnessEffectsFDF at Tue Feb  4 07:33:38 2025 

 Ending test.allFitnessEffectsFDF at Tue Feb  4 07:33:39 2025 
  Took  0.85 


 Starting driverCounts at Tue Feb  4 07:33:39 2025
 Ending driverCounts at Tue Feb  4 07:33:59 2025 
  Took  20.12 


 Starting epist-order-modules at Tue Feb  4 07:33:59 2025
 Ending epist-order-modules at Tue Feb  4 07:33:59 2025 
  Took  0.13 


 Starting test.evaluatingGenotypesDeath at Tue Feb  4 07:33:59 2025 

 Ending test.evaluatingGenotypesDeath at Tue Feb  4 07:33:59 2025 
  Took  0.41 


 Starting test.evaluatingGenotypesFDF at Tue Feb  4 07:33:59 2025 

 Ending test.evaluatingGenotypesFDF at Tue Feb  4 07:34:00 2025 
  Took  0.43 


 Starting exercise-plotting-code at Tue Feb  4 07:34:00 2025
 Ending exercise-plotting-code at Tue Feb  4 07:34:06 2025 
  Took  6.29 


 Starting exercise-rfitness at Tue Feb  4 07:34:06 2025 

 Ending exercise-rfitness at Tue Feb  4 07:34:27 2025 
  Took  21.54 


 Starting to_Magella at Tue Feb  4 07:34:27 2025 

 Ending to_Magella at Tue Feb  4 07:34:28 2025 
  Took  0.08 


 Starting fitness preds at Tue Feb  4 07:34:28 2025 

 Observed vs expected, case III

 done tries 1 

 Ending fitness preds long at Tue Feb  4 07:34:43 2025 
  Took  15.46 


 Starting fixation  at Tue Feb  4 07:34:43 2025 

 Ending fixation  at Tue Feb  4 07:35:19 2025 
  Took  36.09 


 Starting test.flfast-additional.R test at Tue Feb  4 07:35:19 2025
 DEBUG2: Value of rnb = nan

 DEBUG2: Value of m = 1

 DEBUG2: Value of pe = 0

 DEBUG2: Value of pm = 0.999991

 this is spP

 popSize = 1
 birth = 1
 death = 0
 W = 1.00001
 R = 1.00001
 mutation = 6e-06
 timeLastUpdate = 4.05814
 absfitness = -inf
 numMutablePos = 6

 Unrecoverable exception: Algo 2: retval not finite. Aborting. 

 Ending test.flfast-additional.R test at Tue Feb  4 07:35:22 2025 
  Took  2.94 


 Starting test.flfast-mutator.R test at Tue Feb  4 07:35:22 2025
 Finished test.flfast-mutator.R test at Tue Feb  4 07:35:24 2025 
  Took  2.21 


 Starting genotFitness at Tue Feb  4 07:35:24 2025 

 Ending genotFitness at Tue Feb  4 07:35:25 2025 
  Took  0.38 


 Starting genot_fitness_to_epistasis at Tue Feb  4 07:35:25 2025 

 Ending genot_fitness_to_epistasis at Tue Feb  4 07:35:25 2025 
  Took  0.08 


 Starting init-mutant tests Tue Feb  4 07:35:25 2025 

exprtk parser error: 

Error[00] Position: 18 Type: [  Syntax Error] Msg: ERR202 - Undefined symbol: 'f_2' Expression: 1.1 + 0.7*((f_1 + f_2) > 0.3)

 Ending init-mutant tests Tue Feb  4 07:35:39 2025 
  Took  13.72 


 Starting interventions tests Tue Feb  4 07:35:39 2025 
[1] "Checking intervention: intOverA"
[1] "Checking intervention: intOverA"
[1] "Checking intervention: intOverA"
[1] "Checking intervention: intOverA"
[1] "Checking intervention: intOverMultiplicatesA"
In intervention:intOverMultiplicatesA with WhatHappens: n_1 = n_1 * 2. You cannot intervene to generate more population.[1] "Checking intervention: intOverA"
[1] "Checking intervention: intOverA"
[1] "Checking intervention: intOverTotPop"
[1] 0.76 0.76 0.76
[1] "Checking intervention: intOverTotPop"
[1] "Checking intervention: intOverA"
[1] "Checking intervention: intOverB"
[1] "Checking intervention: intOverC"
[1] "Checking intervention: intOverD"
Init Mutant with birth == 1.0
Init Mutant with birth == 1.0
[1] "Checking intervention: intOverA"
[1] "Checking intervention: intOverB"
[1] "Checking intervention: intOverC"
[1] "Checking intervention: intOverD"
Init Mutant with birth == 1.0
Init Mutant with birth == 1.0
[1] "Checking user variable: user_var_1"
[1] "Checking rule: rule_1"
[1] "Checking rule: rule_2"
[1] "Checking rule: rule_3"
[1] "Checking intervention: intOverTotPop"
[1] "Checking intervention: intOverTotPop2"
[1] "Checking intervention: intOverTotPop3"
[1] "Checking user variable: user_var_1"
[1] "Checking rule: rule_1"
[1] "Checking rule: rule_2"
[1] "Checking rule: rule_3"
[1] "Checking intervention: intOverTotPop"

 Ending interventions tests Tue Feb  4 07:35:46 2025 
  Took  7.81 


 Starting test.magellan at Tue Feb  4 07:35:46 2025 

 Ending test.magellan at Tue Feb  4 07:35:47 2025 
  Took  0.34 


 Starting test.modules-root-no-root at Tue Feb  4 07:35:47 2025 

 Ending test.modules-root-no-root at Tue Feb  4 07:35:47 2025 
  Took  0.19 


 Starting at mutPropGrowth  Tue Feb  4 07:35:47 2025 

 Ended test.mutPropGrowth:  Tue Feb  4 07:36:01 2025 
  Took  13.62 


 Starting test.mutator-oncoSimulSample.R test at Tue Feb  4 07:36:01 2025 

 Finished test.mutator-oncoSimulSample.R test at Tue Feb  4 07:36:18 2025 
  Took  17.37 seconds 


 Starting test.mutator.R test at Tue Feb  4 07:36:18 2025[1] 1.279316e-06
[1] 2.440622e-09

 Finished test.mutator.R test at Tue Feb  4 07:36:52 2025 
  Took  33.82 


 Starting test.mutatorFDF.R test at Tue Feb  4 07:36:52 2025
 Starting test.no-v1 at Tue Feb  4 07:36:53 2025 

 Ending test.no-v1 at Tue Feb  4 07:36:53 2025 
  Took  0.02 


 Starting oncoSimulIndiv-miscell tests Tue Feb  4 07:36:53 2025 

 Ending oncoSimulIndiv-miscell tests Tue Feb  4 07:37:05 2025 
  Took  11.99 


 Starting oncoSimulSample-failures tests Tue Feb  4 07:37:05 2025 

 Ending oncoSimulSample-failures tests Tue Feb  4 07:37:10 2025 
  Took  4.48 


 Starting oncoSimulSample-limits tests Tue Feb  4 07:37:10 2025 

 Ending oncoSimulSample-limits tests Tue Feb  4 07:37:10 2025 
  Took  0.16 


 Starting per-gene-mutation rates at Tue Feb  4 07:37:10 2025 

 Ending per-gene-mutation rates at Tue Feb  4 07:38:15 2025 
  Took  65.01 


 Starting plotFitnessLandscape at Tue Feb  4 07:38:15 2025
 Ending plotFitnessLandscape at Tue Feb  4 07:38:23 2025 
  Took  7.8 


 Starting poset-transformations tests Tue Feb  4 07:38:23 2025 

 Ending poset-transformations tests Tue Feb  4 07:38:48 2025 
  Took  25.08 


 Starting sample-prob Tue Feb  4 07:38:48 2025 
[1] 1.262878e-18
[1] 8.589424e-09
[1] 1.182442e-06
[1] 1.422281e-10
[1] 1.644694e-13
[1] 5.044271e-16
[1] 4.062476e-10
[1] 1.688804e-09
[1] 6.034155e-11
[1] 3.255823e-07
[1] 3.268615e-10
[1] 7.402903e-09

 Ending sample-prob tests Tue Feb  4 07:39:03 2025 
 Took  15.15 



 Starting samplePop tests Tue Feb  4 07:39:03 2025 

 Ending samplePop tests Tue Feb  4 07:39:16 2025 
  Took  13.02 


 Starting simuls-runs-examples tests Tue Feb  4 07:39:16 2025 

 Ending simuls-runs-examples tests Tue Feb  4 07:39:27 2025 
  Took  11.52 


 Starting user variable tests Tue Feb  4 07:39:27 2025 
[1] "Checking user variable: user_var_1"
[1] "Checking rule: rule_1"

 Ending user variable tests Tue Feb  4 07:39:28 2025 
  Took  0.21 


 Starting warning-mutPropGrowth tests Tue Feb  4 07:39:28 2025 

 Ending warning-mutPropGrowth tests Tue Feb  4 07:39:28 2025 
  Took  0.74 


 Starting wide2long tests Tue Feb  4 07:39:28 2025 

 Ending wide2long tests Tue Feb  4 07:39:29 2025 
  Took  0.41 

[ FAIL 0 | WARN 19 | SKIP 7 | PASS 8411 ]

══ Skipped tests (7) ═══════════════════════════════════════════════════════════
• On Mac (2): 'test.Z-magellan.R:664:5', 'test.Z-oncoSimulIndivFDF.R:125:3'
• empty test (5): 'test.FDF-letter-fitness-order.R:376:1',
  'test.ZZ-dummy-skip-warn-test.R:8:1', 'test.ZZ-dummy-skip-warn-test.R:12:1',
  'test.fixation.R:4:1', 'test.init-mutant.R:1099:1'

[ FAIL 0 | WARN 19 | SKIP 7 | PASS 8411 ]
> 
> proc.time()
   user  system elapsed 
481.397  76.621 435.766 

Example timings

OncoSimulR.Rcheck/OncoSimulR-Ex.timings

nameusersystemelapsed
OncoSimulWide2Long0.3700.0080.380
POM1.8940.0981.121
allFitnessEffects3.8760.1484.139
benchmarks0.0210.0140.035
createInterventions0.5240.0140.546
createUserVars0.7770.0130.795
evalAllGenotypes0.4650.0330.501
example-missing-drivers0.5180.0360.558
examplePosets0.5560.0090.572
examplesFitnessEffects0.1760.0090.187
freq-dep-simul-examples0.0170.0040.022
mcfLs0.0010.0010.001
oncoSimulIndiv2.2070.2582.409
plot.fitnessEffects0.4790.0630.547
plot.oncosimul0.8040.0430.854
plotClonePhylog3.1120.1323.257
plotFitnessLandscape2.5610.0512.633
plotPoset0.1910.0120.204
poset0.2180.0130.233
rfitness1.3170.0211.408
samplePop0.1200.1050.177
simOGraph0.1120.0280.141
to_Magellan0.3910.1100.573
vignette_pre_computed0.0130.0060.020