Back to Multiple platform build/check report for BioC 3.20:   simplified   long
ABCDEFGHIJKLMNO[P]QRSTUVWXYZ

This page was generated on 2025-02-06 12:07 -0500 (Thu, 06 Feb 2025).

HostnameOSArch (*)R versionInstalled pkgs
nebbiolo2Linux (Ubuntu 24.04.1 LTS)x86_644.4.2 (2024-10-31) -- "Pile of Leaves" 4753
palomino8Windows Server 2022 Datacenterx644.4.2 (2024-10-31 ucrt) -- "Pile of Leaves" 4501
merida1macOS 12.7.5 Montereyx86_644.4.2 (2024-10-31) -- "Pile of Leaves" 4524
kjohnson1macOS 13.6.6 Venturaarm644.4.2 (2024-10-31) -- "Pile of Leaves" 4476
taishanLinux (openEuler 24.03 LTS)aarch644.4.2 (2024-10-31) -- "Pile of Leaves" 4407
Click on any hostname to see more info about the system (e.g. compilers)      (*) as reported by 'uname -p', except on Windows and Mac OS X

Package 1525/2289HostnameOS / ArchINSTALLBUILDCHECKBUILD BIN
Pedixplorer 1.2.0  (landing page)
Louis Le Nézet
Snapshot Date: 2025-02-03 13:00 -0500 (Mon, 03 Feb 2025)
git_url: https://git.bioconductor.org/packages/Pedixplorer
git_branch: RELEASE_3_20
git_last_commit: 16276b4
git_last_commit_date: 2024-10-29 11:27:43 -0500 (Tue, 29 Oct 2024)
nebbiolo2Linux (Ubuntu 24.04.1 LTS) / x86_64  OK    OK    OK  UNNEEDED, same version is already published
palomino8Windows Server 2022 Datacenter / x64  OK    OK    OK    OK  UNNEEDED, same version is already published
merida1macOS 12.7.5 Monterey / x86_64  OK    OK    OK    OK  UNNEEDED, same version is already published
kjohnson1macOS 13.6.6 Ventura / arm64  OK    OK    OK    OK  UNNEEDED, same version is already published
taishanLinux (openEuler 24.03 LTS) / aarch64  OK    OK    OK  


CHECK results for Pedixplorer on palomino8

To the developers/maintainers of the Pedixplorer package:
- Allow up to 24 hours (and sometimes 48 hours) for your latest push to git@git.bioconductor.org:packages/Pedixplorer.git to reflect on this report. See Troubleshooting Build Report for more information.
- Use the following Renviron settings to reproduce errors and warnings.
- If 'R CMD check' started to fail recently on the Linux builder(s) over a missing dependency, add the missing dependency to 'Suggests:' in your DESCRIPTION file. See Renviron.bioc for more information.

raw results


Summary

Package: Pedixplorer
Version: 1.2.0
Command: F:\biocbuild\bbs-3.20-bioc\R\bin\R.exe CMD check --no-multiarch --install=check:Pedixplorer.install-out.txt --library=F:\biocbuild\bbs-3.20-bioc\R\library --no-vignettes --timings Pedixplorer_1.2.0.tar.gz
StartedAt: 2025-02-04 04:48:52 -0500 (Tue, 04 Feb 2025)
EndedAt: 2025-02-04 04:52:24 -0500 (Tue, 04 Feb 2025)
EllapsedTime: 212.3 seconds
RetCode: 0
Status:   OK  
CheckDir: Pedixplorer.Rcheck
Warnings: 0

Command output

##############################################################################
##############################################################################
###
### Running command:
###
###   F:\biocbuild\bbs-3.20-bioc\R\bin\R.exe CMD check --no-multiarch --install=check:Pedixplorer.install-out.txt --library=F:\biocbuild\bbs-3.20-bioc\R\library --no-vignettes --timings Pedixplorer_1.2.0.tar.gz
###
##############################################################################
##############################################################################


* using log directory 'F:/biocbuild/bbs-3.20-bioc/meat/Pedixplorer.Rcheck'
* using R version 4.4.2 (2024-10-31 ucrt)
* using platform: x86_64-w64-mingw32
* R was compiled by
    gcc.exe (GCC) 13.3.0
    GNU Fortran (GCC) 13.3.0
* running under: Windows Server 2022 x64 (build 20348)
* using session charset: UTF-8
* using option '--no-vignettes'
* checking for file 'Pedixplorer/DESCRIPTION' ... OK
* this is package 'Pedixplorer' version '1.2.0'
* package encoding: UTF-8
* checking package namespace information ... OK
* checking package dependencies ... OK
* checking if this is a source package ... OK
* checking if there is a namespace ... OK
* checking for hidden files and directories ... OK
* checking for portable file names ... OK
* checking whether package 'Pedixplorer' can be installed ... OK
* checking installed package size ... OK
* checking package directory ... OK
* checking 'build' directory ... OK
* checking DESCRIPTION meta-information ... OK
* checking top-level files ... OK
* checking for left-over files ... OK
* checking index information ... OK
* checking package subdirectories ... OK
* checking code files for non-ASCII characters ... OK
* checking R files for syntax errors ... OK
* checking whether the package can be loaded ... OK
* checking whether the package can be loaded with stated dependencies ... OK
* checking whether the package can be unloaded cleanly ... OK
* checking whether the namespace can be loaded with stated dependencies ... OK
* checking whether the namespace can be unloaded cleanly ... OK
* checking dependencies in R code ... OK
* checking S3 generic/method consistency ... OK
* checking replacement functions ... OK
* checking foreign function calls ... OK
* checking R code for possible problems ... OK
* checking Rd files ... OK
* checking Rd metadata ... OK
* checking Rd cross-references ... OK
* checking for missing documentation entries ... OK
* checking for code/documentation mismatches ... OK
* checking Rd \usage sections ... OK
* checking Rd contents ... OK
* checking for unstated dependencies in examples ... OK
* checking contents of 'data' directory ... OK
* checking data for non-ASCII characters ... OK
* checking data for ASCII and uncompressed saves ... OK
* checking files in 'vignettes' ... OK
* checking examples ... OK
Examples with CPU (user + system) or elapsed time > 5s
       user system elapsed
shrink 7.06   0.08    7.17
* checking for unstated dependencies in 'tests' ... OK
* checking tests ...
  Running 'testthat.R'
 OK
* checking for unstated dependencies in vignettes ... OK
* checking package vignettes ... OK
* checking running R code from vignettes ... SKIPPED
* checking re-building of vignette outputs ... SKIPPED
* checking PDF version of manual ... OK
* DONE

Status: OK


Installation output

Pedixplorer.Rcheck/00install.out

##############################################################################
##############################################################################
###
### Running command:
###
###   F:\biocbuild\bbs-3.20-bioc\R\bin\R.exe CMD INSTALL Pedixplorer
###
##############################################################################
##############################################################################


* installing to library 'F:/biocbuild/bbs-3.20-bioc/R/library'
* installing *source* package 'Pedixplorer' ...
** using staged installation
** R
** data
** inst
** byte-compile and prepare package for lazy loading
** help
*** installing help indices
** building package indices
** installing vignettes
** testing if installed package can be loaded from temporary location
** testing if installed package can be loaded from final location
** testing if installed package keeps a record of temporary installation path
* DONE (Pedixplorer)

Tests output

Pedixplorer.Rcheck/tests/testthat.Rout


R version 4.4.2 (2024-10-31 ucrt) -- "Pile of Leaves"
Copyright (C) 2024 The R Foundation for Statistical Computing
Platform: x86_64-w64-mingw32/x64

R is free software and comes with ABSOLUTELY NO WARRANTY.
You are welcome to redistribute it under certain conditions.
Type 'license()' or 'licence()' for distribution details.

R is a collaborative project with many contributors.
Type 'contributors()' for more information and
'citation()' on how to cite R or R packages in publications.

Type 'demo()' for some demos, 'help()' for on-line help, or
'help.start()' for an HTML browser interface to help.
Type 'q()' to quit R.

> # This file is part of the standard setup for testthat.
> # It is recommended that you do not modify it.
> #
> # Where should you do additional test configuration?
> # Learn more about the roles of various files in:
> # * https://r-pkgs.org/tests.html
> # * https://testthat.r-lib.org/reference/test_package.html#special-files
> 
> library(Pedixplorer)
> library(shinytest2)
Loading required package: testthat
> library(R.devices)
R.devices v2.17.2 (2024-01-29 13:30:11 UTC) successfully loaded. See ?R.devices for help.
> 
> ## Clean up any open devices
> all_dev <- dev.list()
> for (devi in all_dev) {
+     dev.off(devi)
+ }
> 
> ## Set up the plotting device
> par_lst <- list(
+     "pin" = c(8, 8), "cex" = 1, "mai" = c(1, 1, 1, 1),
+     "fin" = c(6, 6), "bg" = "white", "family" = "HersheySans",
+     "usr" = c(0, 1, 0, 1), xaxp = c(0, 1, 5), yaxp = c(0, 1, 5),
+     "fig" = c(0, 1, 0, 1), "mar" = c(1, 1, 1, 1), xpd = TRUE,
+     lwd = 0.5
+ )
> R.devices::devNew("pdf",  width = 10, height = 10, par = par_lst)
> plot.new()
> 
> ## Set up the environment
> withr::local_options(width = 150, digits = 8, browser = "firefox")
> withr::local_options(width = 150, digits = 8, browser = "google-chrome")
> options(shiny.testmode = TRUE, shinytest2.load_timeout = 60000)
> Sys.setenv("R_TESTS" = "")
> 
> ## Run the tests
> test_check("Pedixplorer")
Google Chrome was not found. Try setting the `CHROMOTE_CHROME` environment variable to the executable of a Chromium-based browser, such as Google Chrome, Chromium or Brave.
Error in initialize(...) : Invalid path to Chrome
Google Chrome was not found. Try setting the `CHROMOTE_CHROME` environment variable to the executable of a Chromium-based browser, such as Google Chrome, Chromium or Brave.
Error in initialize(...) : Invalid path to Chrome
Google Chrome was not found. Try setting the `CHROMOTE_CHROME` environment variable to the executable of a Chromium-based browser, such as Google Chrome, Chromium or Brave.
Error in initialize(...) : Invalid path to Chrome
Google Chrome was not found. Try setting the `CHROMOTE_CHROME` environment variable to the executable of a Chromium-based browser, such as Google Chrome, Chromium or Brave.
Error in initialize(...) : Invalid path to Chrome
Google Chrome was not found. Try setting the `CHROMOTE_CHROME` environment variable to the executable of a Chromium-based browser, such as Google Chrome, Chromium or Brave.
Error in initialize(...) : Invalid path to Chrome
Google Chrome was not found. Try setting the `CHROMOTE_CHROME` environment variable to the executable of a Chromium-based browser, such as Google Chrome, Chromium or Brave.
Error in initialize(...) : Invalid path to Chrome
Google Chrome was not found. Try setting the `CHROMOTE_CHROME` environment variable to the executable of a Chromium-based browser, such as Google Chrome, Chromium or Brave.
Error in initialize(...) : Invalid path to Chrome
Google Chrome was not found. Try setting the `CHROMOTE_CHROME` environment variable to the executable of a Chromium-based browser, such as Google Chrome, Chromium or Brave.
Error in initialize(...) : Invalid path to Chrome
Google Chrome was not found. Try setting the `CHROMOTE_CHROME` environment variable to the executable of a Chromium-based browser, such as Google Chrome, Chromium or Brave.
Error in initialize(...) : Invalid path to Chrome
Google Chrome was not found. Try setting the `CHROMOTE_CHROME` environment variable to the executable of a Chromium-based browser, such as Google Chrome, Chromium or Brave.
Error in initialize(...) : Invalid path to Chrome
Multiple families present, only plotting family 1
[ FAIL 0 | WARN 0 | SKIP 39 | PASS 221 ]

══ Skipped tests (39) ════════════════════════════════════════════════════════════════════════════════════════════════════════════════════════════════
• On CRAN (29): 'test-align.R:28:5', 'test-align.R:74:5', 'test-align.R:90:5', 'test-class.R:18:5', 'test-class.R:127:5', 'test-class.R:170:5',
  'test-class.R:215:5', 'test-fix_parents.R:5:5', 'test-fix_parents.R:20:5', 'test-fix_parents.R:34:5', 'test-fix_parents.R:50:5',
  'test-ibdmatrix.R:11:5', 'test-is_informative.R:70:5', 'test-kindepth.R:43:5', 'test-kinship.R:127:5', 'test-norm_data.R:24:5',
  'test-norm_data.R:47:5', 'test-ped_to_legdf.R:35:5', 'test-plot.R:28:5', 'test-plot.R:59:5', 'test-plot.R:78:5', 'test-plot.R:101:5',
  'test-plot_fct.R:11:5', 'test-plot_fct.R:79:5', 'test-plot_fct.R:83:5', 'test-shrink.R:20:5', 'test-shrink.R:130:5', 'test-useful_inds.R:39:5',
  'test-utils.R:74:5'
• `shinytest2::AppDriver` can not be initialized as {chromote} can not be started (10): 'test-app.R:2:5', 'test-modules.R:2:5',
  'test-modules.R:18:5', 'test-modules.R:34:5', 'test-modules.R:47:5', 'test-modules.R:72:5', 'test-modules.R:106:5', 'test-modules.R:129:5',
  'test-modules.R:138:5', 'test-modules.R:177:5'

[ FAIL 0 | WARN 0 | SKIP 39 | PASS 221 ]
Deleting unused snapshots:
• align/sampleped-norel.svg
• kindepth/double-marriage.svg
• linux-4.4/app/ped_shiny-001-Ped_F2_K3_T_IAll_SF1.png
• linux-4.4/app/ped_shiny-002-Ped_F1_K2_I1_121-1_131_SF2.csv
• linux-4.4/modules/color_picker-001.json
• linux-4.4/modules/color_picker-001_.png
• linux-4.4/modules/color_picker-002.json
• linux-4.4/modules/color_picker-002_.png
• linux-4.4/modules/data_col_sel-001.json
• linux-4.4/modules/data_col_sel-001_.png
• linux-4.4/modules/data_col_sel-002.json
• linux-4.4/modules/data_col_sel-002_.png
• linux-4.4/modules/data_download-001.download
• linux-4.4/modules/data_import-001.json
• linux-4.4/modules/data_import-001_.png
• linux-4.4/modules/data_import-002.json
• linux-4.4/modules/data_import-002_.png
• linux-4.4/modules/health_sel-001.json
• linux-4.4/modules/health_sel-001_.png
• linux-4.4/modules/health_sel-002.json
• linux-4.4/modules/health_sel-002_.png
• linux-4.4/modules/health_sel-003.json
• linux-4.4/modules/health_sel-003_.png
• linux-4.4/modules/inf_sel-001.json
• linux-4.4/modules/inf_sel-001_.png
• linux-4.4/modules/inf_sel-002.json
• linux-4.4/modules/inf_sel-002_.png
• linux-4.4/modules/inf_sel-003.json
• linux-4.4/modules/inf_sel-003_.png
• linux-4.4/modules/ped_avaf_infos-001.json
• linux-4.4/modules/ped_avaf_infos-001_.png
• ped_to_legdf/legend-alone.svg
• ped_to_legdf/plot-with-legend.svg
• plot/ped-2-affections-ggplot.svg
• plot/ped-simple-affection-ggplot.svg
• plot/ped1reorder.svg
• plot_fct/subregion.svg
• shrink/pedigree-shrink-2.svg
• shrink/shrinked-ped.svg
• windows-4.3/app/ped_shiny-001-Ped_F2_K3_T_IAll_SF1.png
• windows-4.3/app/ped_shiny-002-Ped_F1_K2_I1_121-1_131_SF2.csv
• windows-4.3/modules/color_picker-001.json
• windows-4.3/modules/color_picker-001_.png
• windows-4.3/modules/color_picker-002.json
• windows-4.3/modules/color_picker-002_.png
• windows-4.3/modules/data_col_sel-001.json
• windows-4.3/modules/data_col_sel-001_.png
• windows-4.3/modules/data_col_sel-002.json
• windows-4.3/modules/data_col_sel-002_.png
• windows-4.3/modules/data_download-001.download
• windows-4.3/modules/data_import-001.json
• windows-4.3/modules/data_import-001_.png
• windows-4.3/modules/data_import-002.json
• windows-4.3/modules/data_import-002_.png
• windows-4.3/modules/health_sel-001.json
• windows-4.3/modules/health_sel-001_.png
• windows-4.3/modules/health_sel-002.json
• windows-4.3/modules/health_sel-002_.png
• windows-4.3/modules/health_sel-003.json
• windows-4.3/modules/health_sel-003_.png
• windows-4.3/modules/inf_sel-001.json
• windows-4.3/modules/inf_sel-001_.png
• windows-4.3/modules/inf_sel-002.json
• windows-4.3/modules/inf_sel-002_.png
• windows-4.3/modules/inf_sel-003.json
• windows-4.3/modules/inf_sel-003_.png
• windows-4.3/modules/ped_avaf_infos-001.json
• windows-4.3/modules/ped_avaf_infos-001_.png
• windows-4.4/app/ped_shiny-001-Ped_F2_K3_T_IAll_SF1.png
• windows-4.4/app/ped_shiny-002-Ped_F1_K2_I1_121-1_131_SF2.csv
• windows-4.4/modules/color_picker-001.json
• windows-4.4/modules/color_picker-001_.png
• windows-4.4/modules/color_picker-002.json
• windows-4.4/modules/color_picker-002_.png
• windows-4.4/modules/data_col_sel-001.json
• windows-4.4/modules/data_col_sel-001_.png
• windows-4.4/modules/data_col_sel-002.json
• windows-4.4/modules/data_col_sel-002_.png
• windows-4.4/modules/data_download-001.download
• windows-4.4/modules/data_import-001.json
• windows-4.4/modules/data_import-001_.png
• windows-4.4/modules/data_import-002.json
• windows-4.4/modules/data_import-002_.png
• windows-4.4/modules/health_sel-001.json
• windows-4.4/modules/health_sel-001_.png
• windows-4.4/modules/health_sel-002.json
• windows-4.4/modules/health_sel-002_.png
• windows-4.4/modules/health_sel-003.json
• windows-4.4/modules/health_sel-003_.png
• windows-4.4/modules/inf_sel-001.json
• windows-4.4/modules/inf_sel-001_.png
• windows-4.4/modules/inf_sel-002.json
• windows-4.4/modules/inf_sel-002_.png
• windows-4.4/modules/inf_sel-003.json
• windows-4.4/modules/inf_sel-003_.png
• windows-4.4/modules/ped_avaf_infos-001.json
• windows-4.4/modules/ped_avaf_infos-001_.png
> 
> dev.off()
null device 
          1 
> 
> proc.time()
   user  system elapsed 
  49.39    2.10   57.20 
Ran 2/2 deferred expressions

Example timings

Pedixplorer.Rcheck/Pedixplorer-Ex.timings

nameusersystemelapsed
Hints-class0.010.000.02
Ped-class0.380.020.39
Pedigree-class0.780.030.82
Pedixplorer_package000
Rel-class0.010.000.01
Scales-class000
align0.750.050.80
alignped10.460.010.47
alignped20.430.020.45
alignped30.410.000.41
alignped40.440.000.43
ancestors000
anchor_to_factor000
auto_hint0.140.020.16
best_hint0.650.030.69
bit_size0.140.010.15
check_columns000
circfun000
color_picker000
create_text_column000
data_col_sel000
data_download000
data_import0.000.020.02
descendants0.170.010.18
family_check0.220.000.22
family_infos_table0.280.000.28
family_sel000
find_avail_affected1.500.031.53
find_avail_noninform0.220.040.25
find_unavailable0.190.030.22
fix_parents0.030.010.05
generate_aff_inds000
generate_border000
generate_colors0.220.020.23
generate_fill000
get_dataframe000
get_famid000
get_families_table0.030.000.03
get_title000
health_sel000
ibd_matrix0.020.000.01
inf_sel000
is_disconnected0.020.000.02
is_founder000
is_informative0.340.000.35
is_parent0.140.000.14
kindepth0.170.000.17
kinship0.470.020.48
make_class_info000
make_famid0.240.010.25
make_rownames000
min_dist_inf0.260.000.27
minnbreast2.490.112.59
na_to_length000
norm_ped000
norm_rel0.030.000.03
num_child0.390.000.40
parent_of0.250.000.25
ped_avaf_infos000
ped_server000
ped_shiny000
ped_to_legdf0.290.020.31
ped_to_plotdf0.320.000.31
ped_ui000
plot_download000
plot_fromdf0.640.010.66
plot_legend_app000
plot_ped0.010.000.01
plot_pedigree0.190.020.21
polyfun000
polygons0.020.000.01
read_data000
rel_code_to_factor000
relped0.230.010.25
sampleped0.170.000.17
sex_to_factor000
shrink7.060.087.17
unrelated0.190.000.19
upd_famid0.490.000.50
useful_inds0.220.030.25
vect_to_binary000