Back to Multiple platform build/check report for BioC 3.20:   simplified   long
ABCDEFGHIJKLMNOPQ[R]STUVWXYZ

This page was generated on 2025-02-06 12:09 -0500 (Thu, 06 Feb 2025).

HostnameOSArch (*)R versionInstalled pkgs
nebbiolo2Linux (Ubuntu 24.04.1 LTS)x86_644.4.2 (2024-10-31) -- "Pile of Leaves" 4753
palomino8Windows Server 2022 Datacenterx644.4.2 (2024-10-31 ucrt) -- "Pile of Leaves" 4501
merida1macOS 12.7.5 Montereyx86_644.4.2 (2024-10-31) -- "Pile of Leaves" 4524
kjohnson1macOS 13.6.6 Venturaarm644.4.2 (2024-10-31) -- "Pile of Leaves" 4476
taishanLinux (openEuler 24.03 LTS)aarch644.4.2 (2024-10-31) -- "Pile of Leaves" 4407
Click on any hostname to see more info about the system (e.g. compilers)      (*) as reported by 'uname -p', except on Windows and Mac OS X

Package 1691/2289HostnameOS / ArchINSTALLBUILDCHECKBUILD BIN
RCy3 2.26.0  (landing page)
Alex Pico
Snapshot Date: 2025-02-03 13:00 -0500 (Mon, 03 Feb 2025)
git_url: https://git.bioconductor.org/packages/RCy3
git_branch: RELEASE_3_20
git_last_commit: c3be18a
git_last_commit_date: 2024-10-29 10:04:47 -0500 (Tue, 29 Oct 2024)
nebbiolo2Linux (Ubuntu 24.04.1 LTS) / x86_64  OK    OK    OK  UNNEEDED, same version is already published
palomino8Windows Server 2022 Datacenter / x64  OK    OK    OK    OK  UNNEEDED, same version is already published
merida1macOS 12.7.5 Monterey / x86_64  OK    OK    OK    OK  UNNEEDED, same version is already published
kjohnson1macOS 13.6.6 Ventura / arm64  OK    OK    OK    OK  UNNEEDED, same version is already published
taishanLinux (openEuler 24.03 LTS) / aarch64  OK    OK    OK  


CHECK results for RCy3 on merida1

To the developers/maintainers of the RCy3 package:
- Allow up to 24 hours (and sometimes 48 hours) for your latest push to git@git.bioconductor.org:packages/RCy3.git to reflect on this report. See Troubleshooting Build Report for more information.
- Use the following Renviron settings to reproduce errors and warnings.
- If 'R CMD check' started to fail recently on the Linux builder(s) over a missing dependency, add the missing dependency to 'Suggests:' in your DESCRIPTION file. See Renviron.bioc for more information.

raw results


Summary

Package: RCy3
Version: 2.26.0
Command: /Library/Frameworks/R.framework/Resources/bin/R CMD check --install=check:RCy3.install-out.txt --library=/Library/Frameworks/R.framework/Resources/library --no-vignettes --timings RCy3_2.26.0.tar.gz
StartedAt: 2025-02-04 08:39:22 -0500 (Tue, 04 Feb 2025)
EndedAt: 2025-02-04 08:42:17 -0500 (Tue, 04 Feb 2025)
EllapsedTime: 174.7 seconds
RetCode: 0
Status:   OK  
CheckDir: RCy3.Rcheck
Warnings: 0

Command output

##############################################################################
##############################################################################
###
### Running command:
###
###   /Library/Frameworks/R.framework/Resources/bin/R CMD check --install=check:RCy3.install-out.txt --library=/Library/Frameworks/R.framework/Resources/library --no-vignettes --timings RCy3_2.26.0.tar.gz
###
##############################################################################
##############################################################################


* using log directory ‘/Users/biocbuild/bbs-3.20-bioc/meat/RCy3.Rcheck’
* using R version 4.4.2 (2024-10-31)
* using platform: x86_64-apple-darwin20
* R was compiled by
    Apple clang version 14.0.0 (clang-1400.0.29.202)
    GNU Fortran (GCC) 12.2.0
* running under: macOS Monterey 12.7.6
* using session charset: UTF-8
* using option ‘--no-vignettes’
* checking for file ‘RCy3/DESCRIPTION’ ... OK
* checking extension type ... Package
* this is package ‘RCy3’ version ‘2.26.0’
* package encoding: UTF-8
* checking package namespace information ... OK
* checking package dependencies ... OK
* checking if this is a source package ... OK
* checking if there is a namespace ... OK
* checking for hidden files and directories ... NOTE
Found the following hidden files and directories:
  .travis.yml
These were most likely included in error. See section ‘Package
structure’ in the ‘Writing R Extensions’ manual.
* checking for portable file names ... OK
* checking for sufficient/correct file permissions ... OK
* checking whether package ‘RCy3’ can be installed ... OK
* checking installed package size ... OK
* checking package directory ... OK
* checking ‘build’ directory ... OK
* checking DESCRIPTION meta-information ... NOTE
License stub is invalid DCF.
* checking top-level files ... OK
* checking for left-over files ... OK
* checking index information ... OK
* checking package subdirectories ... OK
* checking code files for non-ASCII characters ... OK
* checking R files for syntax errors ... OK
* checking whether the package can be loaded ... OK
* checking whether the package can be loaded with stated dependencies ... OK
* checking whether the package can be unloaded cleanly ... OK
* checking whether the namespace can be loaded with stated dependencies ... OK
* checking whether the namespace can be unloaded cleanly ... OK
* checking dependencies in R code ... OK
* checking S3 generic/method consistency ... OK
* checking replacement functions ... OK
* checking foreign function calls ... OK
* checking R code for possible problems ... NOTE
.checkHexColor: no visible global function definition for ‘colors’
.edgeNameToEdgeSUID: no visible binding for global variable ‘SUID’
.nodeNameToNodeSUID: no visible binding for global variable ‘SUID’
createNetworkFromDataFrames: no visible binding for global variable
  ‘SUID’
Undefined global functions or variables:
  SUID colors
Consider adding
  importFrom("grDevices", "colors")
to your NAMESPACE file.
* checking Rd files ... NOTE
checkRd: (-1) importFileFromUrl.Rd:24: Lost braces; missing escapes or markup?
    24 | dict: {'filePath': <new file's absolute path in Cytoscape workstation>, 'fileByteCount': number of bytes read}
       |       ^
checkRd: (-1) sandboxGetFileInfo.Rd:17: Lost braces; missing escapes or markup?
    17 | dict: {'filePath': <full path on Cytoscape workstation>, 'modifiedTime': <last changed time, '' if file doesn't exist>, 'isFile': <True if file, False if directory>}
       |       ^
checkRd: (-1) sandboxRemove.Rd:15: Lost braces; missing escapes or markup?
    15 | dict: {'sandboxPath': <directory on Cytoscape workstation>, 'existed': <True if sandbox existed>}
       |       ^
checkRd: (-1) sandboxRemoveFile.Rd:17: Lost braces; missing escapes or markup?
    17 | dict: {'filePath': <file's absolute path in Cytoscape workstation>, 'existed': True if file existed before being deleted}
       |       ^
checkRd: (-1) sandboxUrlTo.Rd:27: Lost braces; missing escapes or markup?
    27 | dict: {'filePath': <new file's absolute path in Cytoscape workstation>, 'fileByteCount': number of bytes read}
       |       ^
* checking Rd metadata ... OK
* checking Rd cross-references ... OK
* checking for missing documentation entries ... OK
* checking for code/documentation mismatches ... OK
* checking Rd \usage sections ... OK
* checking Rd contents ... OK
* checking for unstated dependencies in examples ... OK
* checking files in ‘vignettes’ ... OK
* checking examples ... OK
* checking for unstated dependencies in ‘tests’ ... OK
* checking tests ...
  Running ‘runTests.R’
 OK
* checking for unstated dependencies in vignettes ... OK
* checking package vignettes ... OK
* checking running R code from vignettes ... SKIPPED
* checking re-building of vignette outputs ... SKIPPED
* checking PDF version of manual ... OK
* DONE

Status: 4 NOTEs
See
  ‘/Users/biocbuild/bbs-3.20-bioc/meat/RCy3.Rcheck/00check.log’
for details.


Installation output

RCy3.Rcheck/00install.out

##############################################################################
##############################################################################
###
### Running command:
###
###   /Library/Frameworks/R.framework/Resources/bin/R CMD INSTALL RCy3
###
##############################################################################
##############################################################################


* installing to library ‘/Library/Frameworks/R.framework/Versions/4.4-x86_64/Resources/library’
* installing *source* package ‘RCy3’ ...
** using staged installation
** R
** inst
** byte-compile and prepare package for lazy loading
** help
*** installing help indices
** building package indices
** installing vignettes
** testing if installed package can be loaded from temporary location
** testing if installed package can be loaded from final location
** testing if installed package keeps a record of temporary installation path
* DONE (RCy3)

Tests output

RCy3.Rcheck/tests/runTests.Rout


R version 4.4.2 (2024-10-31) -- "Pile of Leaves"
Copyright (C) 2024 The R Foundation for Statistical Computing
Platform: x86_64-apple-darwin20

R is free software and comes with ABSOLUTELY NO WARRANTY.
You are welcome to redistribute it under certain conditions.
Type 'license()' or 'licence()' for distribution details.

R is a collaborative project with many contributors.
Type 'contributors()' for more information and
'citation()' on how to cite R or R packages in publications.

Type 'demo()' for some demos, 'help()' for on-line help, or
'help.start()' for an HTML browser interface to help.
Type 'q()' to quit R.

> # tests disabled as the Bioconductor build system no longer supports interactive sessions
> #require(RCy3) || stop("unable to load RCy3")
> #BiocGenerics:::testPackage('RCy3')
> 
> proc.time()
   user  system elapsed 
  0.352   0.116   0.435 

Example timings

RCy3.Rcheck/RCy3-Ex.timings

nameusersystemelapsed
AddToGroup0.0000.0010.001
RemoveFromGroup0.0000.0000.001
UpdateAnnotationBoundedText0.0000.0010.000
addAnnotationBoundedText0.0000.0000.001
addAnnotationImage0.0010.0000.001
addAnnotationShape0.0010.0000.000
addAnnotationText0.0010.0000.000
addCyEdges0.0000.0000.001
addCyNodes0.0000.0000.001
analyzeNetwork000
applyFilter000
bundleEdges0.0000.0010.000
checkNotebookIsRunning0.0000.0000.001
checkRunningRemote0.0000.0000.001
clearEdgeBends000
clearEdgePropertyBypass000
clearNetworkCenterBypass0.0000.0010.001
clearNetworkPropertyBypass000
clearNetworkZoomBypass000
clearNodeOpacityBypass0.0000.0000.001
clearNodePropertyBypass0.0000.0000.001
clearSelection000
cloneNetwork0.0000.0000.001
closeSession0.0000.0000.001
collapseGroup000
commandEcho000
commandOpenDialog000
commandPause0.0000.0000.001
commandQuit0.0000.0010.001
commandRunFile0.0000.0010.001
commandSleep0.0000.0010.001
commandsAPI0.0000.0010.001
commandsGET0.0000.0010.001
commandsHelp0.0000.0010.001
commandsPOST0.0000.0010.000
commandsRun0.0000.0010.000
copyVisualStyle0.0010.0010.001
createColumnFilter000
createCompositeFilter0.0000.0010.000
createCytoscapejsFromNetwork0.0000.0010.000
createDegreeFilter0.0000.0000.001
createGraphFromNetwork000
createGroup000
createGroupByColumn000
createIgraphFromNetwork0.0000.0000.001
createNetworkFromCytoscapejs0.0000.0000.001
createNetworkFromDataFrames0.0000.0000.001
createNetworkFromGraph0.0000.0000.001
createNetworkFromIgraph000
createSubnetwork0.0000.0000.001
createView0.0000.0000.001
createVisualStyle000
cybrowserClose0.0000.0010.000
cybrowserDialog000
cybrowserHide0.0000.0000.001
cybrowserList000
cybrowserSend000
cybrowserShow000
cybrowserVersion000
cyrestAPI0.0000.0000.001
cyrestDELETE0.0000.0000.001
cyrestGET0.0010.0000.000
cyrestPOST0.0010.0000.000
cyrestPUT0.0000.0010.001
cytoscapeApiVersions0.0000.0010.001
cytoscapeFreeMemory0.0000.0000.001
cytoscapeMemoryStatus0.0000.0010.001
cytoscapeNumberOfCores000
cytoscapePing0.0000.0010.001
cytoscapeVersionInfo0.0000.0010.000
deleteAllNetworks0.0010.0010.000
deleteAllVisualStyle0.0010.0010.000
deleteAnnotation0.0000.0010.000
deleteDuplicateEdges0.0000.0000.001
deleteGroup0.0000.0000.001
deleteNetwork000
deleteSelectedEdges000
deleteSelectedNodes0.0000.0010.000
deleteSelfLoops0.0010.0000.001
deleteStyleMapping0.0000.0000.001
deleteTableColumn0.0000.0010.001
deleteVisualStyle0.0000.0010.000
diffusionAdvanced0.0000.0010.000
diffusionBasic0.0000.0010.000
disableApp0.0010.0010.000
doInitializeSandbox000
doRequestRemote000
doSetSandbox0.0000.0000.001
dockPanel0.0000.0010.001
dot-exportShowImage000
dot-getDefaultSandbox0.0000.0000.001
dot-getRequester0.0000.0000.001
enableApp0.0000.0000.001
expandGroup000
exportFilters000
exportImage0.0010.0000.000
exportJPG0.0000.0000.001
exportNetwork0.0000.0000.001
exportNetworkToNDEx000
exportPDF000
exportPNG000
exportPS000
exportSVG000
exportVisualStyles000
findRemoteCytoscape0.0000.0000.001
fitContent0.0010.0000.000
floatPanel0.0010.0000.000
getAbsSandboxPath0.0010.0000.000
getAllEdges000
getAllNodes0.0000.0000.001
getAllStyleMappings000
getAnnotationList0.0000.0000.001
getAppInformation0.0000.0000.001
getAppStatus0.0000.0000.001
getAppUpdates000
getArrowShapes000
getAvailableApps000
getBackgroundColorDefault0.0010.0000.001
getBrowserClientChannel0.0000.0010.001
getBrowserClientJs0.0000.0010.000
getCollectionList0.0000.0010.000
getCollectionName0.0000.0010.000
getCollectionNetworks0.0000.0010.001
getCollectionSuid0.0000.0000.001
getCurrentSandbox000
getCurrentSandboxName0.0000.0000.001
getCurrentSandboxPath0.0000.0000.001
getCurrentStyle0.0000.0000.001
getDefaultSandbox0.0000.0000.001
getDefaultSandboxPath000
getDisabledApps000
getEdgeColor0.0000.0000.001
getEdgeCount0.0010.0000.001
getEdgeInfo0.0010.0000.001
getEdgeLineStyle0.0000.0000.001
getEdgeLineWidth000
getEdgeProperty0.0010.0000.000
getEdgeSelectionColorDefault0.0000.0010.000
getEdgeTargetArrowShape0.0000.0000.001
getFilterList000
getFirstNeighbors0.0000.0000.001
getGroupInfo0.0000.0000.001
getInstalledApps0.0000.0010.000
getJupyterBridgeURL0.0000.0010.001
getLayoutNameMapping0.0000.0010.000
getLayoutNames0.0000.0010.000
getLayoutPropertyNames0.0000.0010.000
getLayoutPropertyType0.0000.0010.001
getLayoutPropertyValue0.0000.0010.001
getLineStyles0.0000.0010.001
getNetworkCenter000
getNetworkCount000
getNetworkList000
getNetworkNDExId0.0000.0000.001
getNetworkName0.0000.0010.001
getNetworkProperty0.0000.0010.001
getNetworkSuid0.0000.0010.001
getNetworkViewSuid0.0000.0010.001
getNetworkViews000
getNetworkZoom000
getNodeColor000
getNodeCount000
getNodeHeight000
getNodeLabelPosition000
getNodeLabelPositionDefault0.0000.0000.001
getNodePosition0.0000.0000.001
getNodeProperty0.0000.0000.001
getNodeSelectionColorDefault0.0000.0000.001
getNodeShapes0.0000.0000.001
getNodeSize0.0010.0000.000
getNodeWidth0.0010.0000.000
getNotebookIsRunning0.0010.0000.001
getSandboxReinitialize000
getSelectedEdgeCount000
getSelectedEdges000
getSelectedNodeCount000
getSelectedNodes000
getStyleDependencies0.0000.0000.001
getStyleMapping0.0000.0000.001
getTableColumnNames0.0000.0000.001
getTableColumnTypes0.0000.0000.001
getTableColumns0.0000.0000.001
getTableValue000
getUninstalledApps0.0010.0010.001
getVisualPropertyDefault0.0000.0010.001
getVisualPropertyNames0.0000.0010.000
getVisualStyleJSON0.0000.0010.000
getVisualStyleNames0.0000.0010.001
groupAnnotation0.0000.0010.000
hideAllPanels000
hideEdges0.0000.0010.000
hideNodes0.0000.0010.001
hidePanel0.0000.0010.001
hideSelectedEdges0.0000.0010.001
hideSelectedNodes0.0000.0010.001
importFileFromUrl000
importFilters000
importNetworkFromFile000
importNetworkFromNDEx0.0000.0000.001
importVisualStyles0.0000.0000.001
installApp0.0000.0000.001
invertEdgeSelection0.0000.0000.001
invertNodeSelection000
layoutCopycat0.0010.0000.000
layoutNetwork0.0010.0000.000
listGroups0.0010.0000.000
lockNodeDimensions0.0000.0000.001
makeSimpleGraph0.1410.0020.144
makeSimpleIgraph0.1990.0110.218
mapTableColumn000
mapVisualProperty0.0000.0010.000
matchArrowColorToEdge0.0000.0000.001
mergeNetworks0.0000.0000.001
notebookExportShowImage0.0000.0000.001
notebookShowImage0.0000.0000.001
openAppStore000
openSession0.0000.0000.001
paletteColorBrewerAccent0.0070.0010.010
paletteColorBrewerBlues0.0010.0000.000
paletteColorBrewerBrBG0.0010.0000.000
paletteColorBrewerBuGn000
paletteColorBrewerBuPu0.0000.0000.001
paletteColorBrewerDark20.0000.0010.001
paletteColorBrewerGnBu0.0010.0010.001
paletteColorBrewerGreens0.0000.0000.001
paletteColorBrewerGreys000
paletteColorBrewerOrRd0.0010.0000.001
paletteColorBrewerOranges0.0010.0000.001
paletteColorBrewerPRGn000
paletteColorBrewerPaired0.0000.0000.001
paletteColorBrewerPastel10.0000.0000.001
paletteColorBrewerPastel20.0010.0000.001
paletteColorBrewerPiYG000
paletteColorBrewerPuBu0.0000.0000.001
paletteColorBrewerPuBuGn0.0000.0000.001
paletteColorBrewerPuOr0.0010.0000.001
paletteColorBrewerPuRd0.0000.0000.001
paletteColorBrewerPurples0.0000.0000.001
paletteColorBrewerRdBu0.0000.0000.001
paletteColorBrewerRdPu0.0010.0000.000
paletteColorBrewerRdYlBu0.0010.0000.000
paletteColorBrewerReds0.0000.0000.001
paletteColorBrewerSet10.0000.0000.001
paletteColorBrewerSet2000
paletteColorBrewerSet30.0010.0010.001
paletteColorBrewerYlGn0.0010.0010.001
paletteColorBrewerYlGnBu000
paletteColorBrewerYlOrBr0.0000.0000.001
paletteColorBrewerYlOrRd0.0000.0000.001
paletteColorRandom0.0010.0000.001
paletteColorVirdis0.0000.0000.001
removeNodeCustomGraphics000
renameNetwork000
renameTableColumn000
resetDefaultSandbox000
rotateLayout000
runningRemoteCheck0.0000.0000.001
sandboxGetFileInfo0.0000.0000.001
sandboxGetFrom000
sandboxInitializer000
sandboxRemove000
sandboxRemoveFile000
sandboxSendTo0.0010.0000.000
sandboxSet0.0010.0000.001
sandboxUrlTo000
saveSession000
scaleLayout000
selectAll0.0000.0010.000
selectAllEdges0.0000.0010.001
selectAllNodes0.0010.0010.001
selectEdges0.0010.0010.001
selectEdgesAdjacentToNodes0.0000.0010.000
selectEdgesAdjacentToSelectedNodes000
selectEdgesConnectingSelectedNodes000
selectFirstNeighbors0.0010.0000.000
selectNodes000
selectNodesConnectedBySelectedEdges000
setBackgroundColorDefault0.0000.0000.001
setCatchupFilterSecs0.0010.0000.001
setCatchupNetworkSecs000
setCurrentNetwork000
setCurrentSandbox0.0000.0000.001
setCurrentView0.0000.0000.001
setDefaultSandbox0.0000.0000.001
setDefaultSandboxPath000
setEdgeColorBypass000
setEdgeColorDefault000
setEdgeColorMapping0.0000.0000.001
setEdgeFontFaceBypass0.0000.0000.001
setEdgeFontFaceDefault000
setEdgeFontFaceMapping000
setEdgeFontSizeBypass0.0000.0000.001
setEdgeFontSizeDefault0.0010.0000.000
setEdgeFontSizeMapping0.0000.0000.001
setEdgeLabelBypass0.0000.0000.001
setEdgeLabelColorBypass0.0000.0000.001
setEdgeLabelColorDefault0.0000.0000.001
setEdgeLabelColorMapping0.0000.0000.001
setEdgeLabelDefault0.0000.0010.001
setEdgeLabelMapping0.0000.0010.001
setEdgeLabelOpacityBypass0.0000.0010.000
setEdgeLabelOpacityDefault0.0010.0000.000
setEdgeLabelOpacityMapping0.0010.0000.000
setEdgeLineStyleBypass0.0010.0010.000
setEdgeLineStyleDefault0.0000.0010.001
setEdgeLineStyleMapping0.0000.0010.001
setEdgeLineWidthBypass0.0000.0010.001
setEdgeLineWidthDefault0.0000.0010.001
setEdgeLineWidthMapping0.0000.0010.001
setEdgeOpacityBypass0.0000.0010.001
setEdgeOpacityDefault0.0000.0010.000
setEdgeOpacityMapping0.0000.0010.001
setEdgePropertyBypass0.0010.0010.000
setEdgeSelectionColorDefault0.0000.0010.001
setEdgeSourceArrowColorBypass0.0000.0010.001
setEdgeSourceArrowColorDefault0.0000.0010.001
setEdgeSourceArrowColorMapping0.0000.0010.000
setEdgeSourceArrowMapping0.0000.0010.003
setEdgeSourceArrowShapeBypass0.0000.0010.000
setEdgeSourceArrowShapeDefault0.0000.0010.000
setEdgeSourceArrowShapeMapping000
setEdgeTargetArrowColorBypass000
setEdgeTargetArrowColorDefault000
setEdgeTargetArrowColorMapping0.0000.0000.001
setEdgeTargetArrowMapping0.0000.0000.001
setEdgeTargetArrowShapeBypass000
setEdgeTargetArrowShapeDefault000
setEdgeTargetArrowShapeMapping000
setEdgeTooltipBypass0.0000.0010.000
setEdgeTooltipDefault000
setEdgeTooltipMapping000
setLayoutProperties0.0000.0010.000
setModelPropagationSecs000
setNetworkCenterBypass000
setNetworkPropertyBypass0.0000.0000.001
setNetworkZoomBypass0.0000.0000.001
setNodeBorderColorBypass0.0000.0000.001
setNodeBorderColorDefault0.0000.0000.001
setNodeBorderColorMapping0.0010.0000.001
setNodeBorderOpacityBypass0.0010.0000.001
setNodeBorderOpacityDefault0.0000.0000.001
setNodeBorderOpacityMapping000
setNodeBorderWidthBypass0.0000.0000.001
setNodeBorderWidthDefault0.0000.0010.001
setNodeBorderWidthMapping0.0000.0010.001
setNodeColorBypass0.0000.0000.001
setNodeColorDefault0.0000.0000.001
setNodeColorMapping0.0000.0010.000
setNodeComboOpacityMapping0.0000.0010.000
setNodeCustomBarChart000
setNodeCustomBoxChart0.0000.0010.001
setNodeCustomHeatMapChart0.0000.0010.000
setNodeCustomLineChart0.0000.0010.000
setNodeCustomLinearGradient0.0010.0000.001
setNodeCustomPieChart000
setNodeCustomPosition0.0000.0000.001
setNodeCustomRadialGradient0.0000.0000.001
setNodeCustomRingChart0.0000.0000.001
setNodeFillOpacityBypass000
setNodeFillOpacityDefault000
setNodeFillOpacityMapping000
setNodeFontFaceBypass0.0000.0000.001
setNodeFontFaceDefault0.0000.0010.000
setNodeFontFaceMapping000
setNodeFontSizeBypass000
setNodeFontSizeDefault000
setNodeFontSizeMapping000
setNodeHeightBypass000
setNodeHeightDefault000
setNodeHeightMapping000
setNodeLabelBypass0.0010.0000.000
setNodeLabelColorBypass0.0010.0000.001
setNodeLabelColorDefault000
setNodeLabelColorMapping000
setNodeLabelDefault0.0000.0010.000
setNodeLabelMapping0.0000.0010.000
setNodeLabelOpacityBypass0.0000.0010.001
setNodeLabelOpacityDefault0.0000.0010.001
setNodeLabelOpacityMapping0.0000.0000.001
setNodeLabelPositionBypass0.0000.0000.001
setNodeLabelPositionDefault000
setNodeOpacityBypass0.0000.0000.001
setNodePositionBypass0.0000.0000.001
setNodePropertyBypass0.0000.0000.001
setNodeSelectionColorDefault000
setNodeShapeBypass000
setNodeShapeDefault0.0000.0000.001
setNodeShapeMapping0.0010.0000.001
setNodeSizeBypass0.0010.0000.001
setNodeSizeDefault0.0000.0010.001
setNodeSizeMapping0.0000.0010.000
setNodeTooltipBypass000
setNodeTooltipDefault0.0000.0010.000
setNodeTooltipMapping0.0000.0010.001
setNodeWidthBypass0.0000.0010.000
setNodeWidthDefault0.0010.0000.000
setNodeWidthMapping0.0000.0000.001
setNotebookIsRunning000
setSandboxReinitialize0.0000.0000.001
setStyleDependencies000
setVisualPropertyDefault000
setVisualStyle0.0000.0010.000
syncNodeCustomGraphicsSize0.0000.0010.000
toggleGraphicsDetails000
ungroupAnnotation000
unhideAll000
unhideEdges000
unhideNodes000
uninstallApp000
updateAnnotationImage000
updateAnnotationShape000
updateAnnotationText000
updateApp000
updateGroupAnnotation000
updateNetworkInNDEx000
updateStyleDefaults000
updateStyleMapping000