Back to Multiple platform build/check report for BioC 3.20: simplified long |
|
This page was generated on 2025-02-03 12:05 -0500 (Mon, 03 Feb 2025).
Hostname | OS | Arch (*) | R version | Installed pkgs |
---|---|---|---|---|
nebbiolo2 | Linux (Ubuntu 24.04.1 LTS) | x86_64 | 4.4.2 (2024-10-31) -- "Pile of Leaves" | 4746 |
palomino8 | Windows Server 2022 Datacenter | x64 | 4.4.2 (2024-10-31 ucrt) -- "Pile of Leaves" | 4494 |
merida1 | macOS 12.7.5 Monterey | x86_64 | 4.4.2 (2024-10-31) -- "Pile of Leaves" | 4517 |
kjohnson1 | macOS 13.6.6 Ventura | arm64 | 4.4.2 (2024-10-31) -- "Pile of Leaves" | 4469 |
taishan | Linux (openEuler 24.03 LTS) | aarch64 | 4.4.2 (2024-10-31) -- "Pile of Leaves" | 4400 |
Click on any hostname to see more info about the system (e.g. compilers) (*) as reported by 'uname -p', except on Windows and Mac OS X |
Package 1725/2289 | Hostname | OS / Arch | INSTALL | BUILD | CHECK | BUILD BIN | ||||||||
RESOLVE 1.8.0 (landing page) Luca De Sano
| nebbiolo2 | Linux (Ubuntu 24.04.1 LTS) / x86_64 | OK | OK | OK | |||||||||
palomino8 | Windows Server 2022 Datacenter / x64 | OK | OK | OK | OK | |||||||||
merida1 | macOS 12.7.5 Monterey / x86_64 | OK | OK | OK | OK | |||||||||
kjohnson1 | macOS 13.6.6 Ventura / arm64 | OK | OK | OK | OK | |||||||||
taishan | Linux (openEuler 24.03 LTS) / aarch64 | OK | OK | OK | ||||||||||
To the developers/maintainers of the RESOLVE package: - Allow up to 24 hours (and sometimes 48 hours) for your latest push to git@git.bioconductor.org:packages/RESOLVE.git to reflect on this report. See Troubleshooting Build Report for more information. - Use the following Renviron settings to reproduce errors and warnings. - If 'R CMD check' started to fail recently on the Linux builder(s) over a missing dependency, add the missing dependency to 'Suggests:' in your DESCRIPTION file. See Renviron.bioc for more information. |
Package: RESOLVE |
Version: 1.8.0 |
Command: /home/biocbuild/bbs-3.20-bioc/R/bin/R CMD check --install=check:RESOLVE.install-out.txt --library=/home/biocbuild/bbs-3.20-bioc/R/site-library --timings RESOLVE_1.8.0.tar.gz |
StartedAt: 2025-01-31 01:33:13 -0500 (Fri, 31 Jan 2025) |
EndedAt: 2025-01-31 01:46:57 -0500 (Fri, 31 Jan 2025) |
EllapsedTime: 823.9 seconds |
RetCode: 0 |
Status: OK |
CheckDir: RESOLVE.Rcheck |
Warnings: 0 |
############################################################################## ############################################################################## ### ### Running command: ### ### /home/biocbuild/bbs-3.20-bioc/R/bin/R CMD check --install=check:RESOLVE.install-out.txt --library=/home/biocbuild/bbs-3.20-bioc/R/site-library --timings RESOLVE_1.8.0.tar.gz ### ############################################################################## ############################################################################## * using log directory ‘/home/biocbuild/bbs-3.20-bioc/meat/RESOLVE.Rcheck’ * using R version 4.4.2 (2024-10-31) * using platform: x86_64-pc-linux-gnu * R was compiled by gcc (Ubuntu 13.2.0-23ubuntu4) 13.2.0 GNU Fortran (Ubuntu 13.2.0-23ubuntu4) 13.2.0 * running under: Ubuntu 24.04.1 LTS * using session charset: UTF-8 * checking for file ‘RESOLVE/DESCRIPTION’ ... OK * this is package ‘RESOLVE’ version ‘1.8.0’ * package encoding: UTF-8 * checking package namespace information ... OK * checking package dependencies ... OK * checking if this is a source package ... OK * checking if there is a namespace ... OK * checking for hidden files and directories ... OK * checking for portable file names ... OK * checking for sufficient/correct file permissions ... OK * checking whether package ‘RESOLVE’ can be installed ... OK * checking installed package size ... OK * checking package directory ... OK * checking ‘build’ directory ... OK * checking DESCRIPTION meta-information ... OK * checking top-level files ... OK * checking for left-over files ... OK * checking index information ... OK * checking package subdirectories ... OK * checking code files for non-ASCII characters ... OK * checking R files for syntax errors ... OK * checking whether the package can be loaded ... OK * checking whether the package can be loaded with stated dependencies ... OK * checking whether the package can be unloaded cleanly ... OK * checking whether the namespace can be loaded with stated dependencies ... OK * checking whether the namespace can be unloaded cleanly ... OK * checking loading without being on the library search path ... OK * checking dependencies in R code ... OK * checking S3 generic/method consistency ... OK * checking replacement functions ... OK * checking foreign function calls ... OK * checking R code for possible problems ... OK * checking Rd files ... OK * checking Rd metadata ... OK * checking Rd cross-references ... OK * checking for missing documentation entries ... OK * checking for code/documentation mismatches ... OK * checking Rd \usage sections ... OK * checking Rd contents ... OK * checking for unstated dependencies in examples ... OK * checking contents of ‘data’ directory ... OK * checking data for non-ASCII characters ... OK * checking data for ASCII and uncompressed saves ... OK * checking files in ‘vignettes’ ... OK * checking examples ... OK Examples with CPU (user + system) or elapsed time > 5s user system elapsed signaturesSignificance 128.485 0.242 128.728 signaturesCV 99.185 0.525 99.712 signaturesDecomposition 71.813 0.262 72.075 signaturesAssignment 39.915 0.453 40.373 getMNVCounts 12.096 0.240 12.337 getIDCounts 5.193 0.212 5.472 * checking for unstated dependencies in ‘tests’ ... OK * checking tests ... Running ‘testthat.R’ OK * checking for unstated dependencies in vignettes ... OK * checking package vignettes ... OK * checking re-building of vignette outputs ... OK * checking PDF version of manual ... OK * DONE Status: OK
RESOLVE.Rcheck/00install.out
############################################################################## ############################################################################## ### ### Running command: ### ### /home/biocbuild/bbs-3.20-bioc/R/bin/R CMD INSTALL RESOLVE ### ############################################################################## ############################################################################## * installing to library ‘/home/biocbuild/bbs-3.20-bioc/R/site-library’ * installing *source* package ‘RESOLVE’ ... ** using staged installation ** R ** data ** inst ** byte-compile and prepare package for lazy loading ** help *** installing help indices ** building package indices ** installing vignettes ** testing if installed package can be loaded from temporary location ** testing if installed package can be loaded from final location ** testing if installed package keeps a record of temporary installation path * DONE (RESOLVE)
RESOLVE.Rcheck/tests/testthat.Rout
R version 4.4.2 (2024-10-31) -- "Pile of Leaves" Copyright (C) 2024 The R Foundation for Statistical Computing Platform: x86_64-pc-linux-gnu R is free software and comes with ABSOLUTELY NO WARRANTY. You are welcome to redistribute it under certain conditions. Type 'license()' or 'licence()' for distribution details. R is a collaborative project with many contributors. Type 'contributors()' for more information and 'citation()' on how to cite R or R packages in publications. Type 'demo()' for some demos, 'help()' for on-line help, or 'help.start()' for an HTML browser interface to help. Type 'q()' to quit R. > Sys.setenv("R_TESTS" = "") > > library("testthat") > library("RESOLVE") > > test_check("RESOLVE") [ FAIL 0 | WARN 203 | SKIP 0 | PASS 6 ] [ FAIL 0 | WARN 203 | SKIP 0 | PASS 6 ] > > proc.time() user system elapsed 184.052 2.436 186.474
RESOLVE.Rcheck/RESOLVE-Ex.timings
name | user | system | elapsed | |
getCNCounts | 0.015 | 0.002 | 0.016 | |
getIDCounts | 5.193 | 0.212 | 5.472 | |
getMNVCounts | 12.096 | 0.240 | 12.337 | |
getSBSCounts | 1.099 | 0.254 | 3.915 | |
groupsCNPlot | 2.457 | 0.021 | 2.478 | |
groupsCXPlot | 1.560 | 0.011 | 1.571 | |
groupsIDPlot | 3.719 | 0.024 | 3.744 | |
groupsMNVPlot | 3.371 | 0.057 | 3.428 | |
groupsSBSPlot | 3.049 | 0.009 | 3.058 | |
patientsCNPlot | 1.188 | 0.001 | 1.188 | |
patientsCXPlot | 0.592 | 0.001 | 0.593 | |
patientsIDPlot | 1.799 | 0.001 | 1.800 | |
patientsMNVPlot | 1.187 | 0.004 | 1.191 | |
patientsSBSPlot | 0.720 | 0.002 | 0.723 | |
signaturesAssignment | 39.915 | 0.453 | 40.373 | |
signaturesCNPlot | 1.619 | 0.024 | 1.644 | |
signaturesCV | 99.185 | 0.525 | 99.712 | |
signaturesCXPlot | 0.805 | 0.013 | 0.817 | |
signaturesDecomposition | 71.813 | 0.262 | 72.075 | |
signaturesIDPlot | 2.513 | 0.032 | 2.546 | |
signaturesMNVPlot | 1.653 | 0.001 | 1.654 | |
signaturesSBSPlot | 1.063 | 0.008 | 1.071 | |
signaturesSignificance | 128.485 | 0.242 | 128.728 | |