Back to Multiple platform build/check report for BioC 3.20: simplified long |
|
This page was generated on 2025-02-06 12:09 -0500 (Thu, 06 Feb 2025).
Hostname | OS | Arch (*) | R version | Installed pkgs |
---|---|---|---|---|
nebbiolo2 | Linux (Ubuntu 24.04.1 LTS) | x86_64 | 4.4.2 (2024-10-31) -- "Pile of Leaves" | 4753 |
palomino8 | Windows Server 2022 Datacenter | x64 | 4.4.2 (2024-10-31 ucrt) -- "Pile of Leaves" | 4501 |
merida1 | macOS 12.7.5 Monterey | x86_64 | 4.4.2 (2024-10-31) -- "Pile of Leaves" | 4524 |
kjohnson1 | macOS 13.6.6 Ventura | arm64 | 4.4.2 (2024-10-31) -- "Pile of Leaves" | 4476 |
taishan | Linux (openEuler 24.03 LTS) | aarch64 | 4.4.2 (2024-10-31) -- "Pile of Leaves" | 4407 |
Click on any hostname to see more info about the system (e.g. compilers) (*) as reported by 'uname -p', except on Windows and Mac OS X |
Package 1730/2289 | Hostname | OS / Arch | INSTALL | BUILD | CHECK | BUILD BIN | ||||||||
Rfastp 1.16.0 (landing page) Thomas Carroll
| nebbiolo2 | Linux (Ubuntu 24.04.1 LTS) / x86_64 | OK | OK | WARNINGS | ![]() | ||||||||
palomino8 | Windows Server 2022 Datacenter / x64 | OK | OK | OK | OK | ![]() | ||||||||
merida1 | macOS 12.7.5 Monterey / x86_64 | OK | OK | WARNINGS | ERROR | |||||||||
kjohnson1 | macOS 13.6.6 Ventura / arm64 | OK | OK | WARNINGS | OK | ![]() | ||||||||
taishan | Linux (openEuler 24.03 LTS) / aarch64 | OK | OK | WARNINGS | ||||||||||
To the developers/maintainers of the Rfastp package: - Allow up to 24 hours (and sometimes 48 hours) for your latest push to git@git.bioconductor.org:packages/Rfastp.git to reflect on this report. See Troubleshooting Build Report for more information. - Use the following Renviron settings to reproduce errors and warnings. - If 'R CMD check' started to fail recently on the Linux builder(s) over a missing dependency, add the missing dependency to 'Suggests:' in your DESCRIPTION file. See Renviron.bioc for more information. |
Package: Rfastp |
Version: 1.16.0 |
Command: rm -rf Rfastp.buildbin-libdir && mkdir Rfastp.buildbin-libdir && /Users/biocbuild/BBS/utils/build-universal.sh Rfastp_1.16.0.tar.gz /Library/Frameworks/R.framework/Resources/bin/R Rfastp.buildbin-libdir |
StartedAt: 2025-02-04 13:59:18 -0500 (Tue, 04 Feb 2025) |
EndedAt: 2025-02-04 14:02:54 -0500 (Tue, 04 Feb 2025) |
EllapsedTime: 216.7 seconds |
RetCode: 1 |
Status: ERROR |
PackageFile: None |
PackageFileSize: NA |
############################################################################## ############################################################################## ### ### Running command: ### ### rm -rf Rfastp.buildbin-libdir && mkdir Rfastp.buildbin-libdir && /Users/biocbuild/BBS/utils/build-universal.sh Rfastp_1.16.0.tar.gz /Library/Frameworks/R.framework/Resources/bin/R Rfastp.buildbin-libdir ### ############################################################################## ############################################################################## >>>>>>> >>>>>>> INSTALLATION WITH 'R CMD INSTALL --preclean --no-multiarch --library=Rfastp.buildbin-libdir Rfastp_1.16.0.tar.gz' >>>>>>> * installing *source* package ‘Rfastp’ ... ** using staged installation ** libs using C++ compiler: ‘Apple clang version 14.0.0 (clang-1400.0.29.202)’ using SDK: ‘MacOSX11.3.sdk’ clang++ -arch x86_64 -std=gnu++17 -I"/Library/Frameworks/R.framework/Resources/include" -DNDEBUG -D_FILE_OFFSET_BITS=64 -I. -I'/Library/Frameworks/R.framework/Versions/4.4-x86_64/Resources/library/Rcpp/include' -I'/Library/Frameworks/R.framework/Versions/4.4-x86_64/Resources/library/Rhtslib/include' -I'/Library/Frameworks/R.framework/Versions/4.4-x86_64/Resources/library/zlibbioc/include' -I/opt/R/x86_64/include -fPIC -falign-functions=64 -Wall -g -O2 -c RcppExports.cpp -o RcppExports.o clang++ -arch x86_64 -std=gnu++17 -I"/Library/Frameworks/R.framework/Resources/include" -DNDEBUG -D_FILE_OFFSET_BITS=64 -I. -I'/Library/Frameworks/R.framework/Versions/4.4-x86_64/Resources/library/Rcpp/include' -I'/Library/Frameworks/R.framework/Versions/4.4-x86_64/Resources/library/Rhtslib/include' -I'/Library/Frameworks/R.framework/Versions/4.4-x86_64/Resources/library/zlibbioc/include' -I/opt/R/x86_64/include -fPIC -falign-functions=64 -Wall -g -O2 -c main_fastp.cpp -o main_fastp.o main_fastp.cpp:366:12: warning: unused variable 't2' [-Wunused-variable] time_t t2 = time(NULL); ^ main_fastp.cpp:291:10: warning: unused variable 'supportEvaluation' [-Wunused-variable] bool supportEvaluation = true; ^ main_fastp.cpp:289:12: warning: unused variable 't1' [-Wunused-variable] time_t t1 = time(NULL); ^ 3 warnings generated. clang++ -arch x86_64 -std=gnu++17 -I"/Library/Frameworks/R.framework/Resources/include" -DNDEBUG -D_FILE_OFFSET_BITS=64 -I. -I'/Library/Frameworks/R.framework/Versions/4.4-x86_64/Resources/library/Rcpp/include' -I'/Library/Frameworks/R.framework/Versions/4.4-x86_64/Resources/library/Rhtslib/include' -I'/Library/Frameworks/R.framework/Versions/4.4-x86_64/Resources/library/zlibbioc/include' -I/opt/R/x86_64/include -fPIC -falign-functions=64 -Wall -g -O2 -c FASTP/adaptertrimmer.cpp -o FASTP/adaptertrimmer.o FASTP/adaptertrimmer.cpp:145:10: warning: variable 'trimmed' set but not used [-Wunused-but-set-variable] bool trimmed = AdapterTrimmer::trimBySequence(&r, NULL, adapter); ^ 1 warning generated. clang++ -arch x86_64 -std=gnu++17 -I"/Library/Frameworks/R.framework/Resources/include" -DNDEBUG -D_FILE_OFFSET_BITS=64 -I. -I'/Library/Frameworks/R.framework/Versions/4.4-x86_64/Resources/library/Rcpp/include' -I'/Library/Frameworks/R.framework/Versions/4.4-x86_64/Resources/library/Rhtslib/include' -I'/Library/Frameworks/R.framework/Versions/4.4-x86_64/Resources/library/zlibbioc/include' -I/opt/R/x86_64/include -fPIC -falign-functions=64 -Wall -g -O2 -c FASTP/basecorrector.cpp -o FASTP/basecorrector.o clang++ -arch x86_64 -std=gnu++17 -I"/Library/Frameworks/R.framework/Resources/include" -DNDEBUG -D_FILE_OFFSET_BITS=64 -I. -I'/Library/Frameworks/R.framework/Versions/4.4-x86_64/Resources/library/Rcpp/include' -I'/Library/Frameworks/R.framework/Versions/4.4-x86_64/Resources/library/Rhtslib/include' -I'/Library/Frameworks/R.framework/Versions/4.4-x86_64/Resources/library/zlibbioc/include' -I/opt/R/x86_64/include -fPIC -falign-functions=64 -Wall -g -O2 -c FASTP/duplicate.cpp -o FASTP/duplicate.o clang++ -arch x86_64 -std=gnu++17 -I"/Library/Frameworks/R.framework/Resources/include" -DNDEBUG -D_FILE_OFFSET_BITS=64 -I. -I'/Library/Frameworks/R.framework/Versions/4.4-x86_64/Resources/library/Rcpp/include' -I'/Library/Frameworks/R.framework/Versions/4.4-x86_64/Resources/library/Rhtslib/include' -I'/Library/Frameworks/R.framework/Versions/4.4-x86_64/Resources/library/zlibbioc/include' -I/opt/R/x86_64/include -fPIC -falign-functions=64 -Wall -g -O2 -c FASTP/evaluator.cpp -o FASTP/evaluator.o FASTP/evaluator.cpp:46:10: warning: variable 'reachedEOF' set but not used [-Wunused-but-set-variable] bool reachedEOF = false; ^ FASTP/evaluator.cpp:74:10: warning: variable 'reachedEOF' set but not used [-Wunused-but-set-variable] bool reachedEOF = false; ^ FASTP/evaluator.cpp:479:21: warning: unused variable 'data' [-Wunused-variable] const char* data = r->mSeq.mStr.c_str(); ^ FASTP/evaluator.cpp:585:21: warning: unused variable 'data' [-Wunused-variable] const char* data = r->mSeq.mStr.c_str(); ^ FASTP/evaluator.cpp:601:21: warning: unused variable 'data' [-Wunused-variable] const char* data = r->mSeq.mStr.c_str(); ^ FASTP/evaluator.cpp:666:9: warning: unused variable 'rlen' [-Wunused-variable] int rlen = seq.length(); ^ 6 warnings generated. clang++ -arch x86_64 -std=gnu++17 -I"/Library/Frameworks/R.framework/Resources/include" -DNDEBUG -D_FILE_OFFSET_BITS=64 -I. -I'/Library/Frameworks/R.framework/Versions/4.4-x86_64/Resources/library/Rcpp/include' -I'/Library/Frameworks/R.framework/Versions/4.4-x86_64/Resources/library/Rhtslib/include' -I'/Library/Frameworks/R.framework/Versions/4.4-x86_64/Resources/library/zlibbioc/include' -I/opt/R/x86_64/include -fPIC -falign-functions=64 -Wall -g -O2 -c FASTP/fastareader.cpp -o FASTP/fastareader.o clang++ -arch x86_64 -std=gnu++17 -I"/Library/Frameworks/R.framework/Resources/include" -DNDEBUG -D_FILE_OFFSET_BITS=64 -I. -I'/Library/Frameworks/R.framework/Versions/4.4-x86_64/Resources/library/Rcpp/include' -I'/Library/Frameworks/R.framework/Versions/4.4-x86_64/Resources/library/Rhtslib/include' -I'/Library/Frameworks/R.framework/Versions/4.4-x86_64/Resources/library/zlibbioc/include' -I/opt/R/x86_64/include -fPIC -falign-functions=64 -Wall -g -O2 -c FASTP/fastqreader.cpp -o FASTP/fastqreader.o FASTP/fastqreader.cpp:98:9: warning: unused variable 'copied' [-Wunused-variable] int copied = 0; ^ 1 warning generated. clang++ -arch x86_64 -std=gnu++17 -I"/Library/Frameworks/R.framework/Resources/include" -DNDEBUG -D_FILE_OFFSET_BITS=64 -I. -I'/Library/Frameworks/R.framework/Versions/4.4-x86_64/Resources/library/Rcpp/include' -I'/Library/Frameworks/R.framework/Versions/4.4-x86_64/Resources/library/Rhtslib/include' -I'/Library/Frameworks/R.framework/Versions/4.4-x86_64/Resources/library/zlibbioc/include' -I/opt/R/x86_64/include -fPIC -falign-functions=64 -Wall -g -O2 -c FASTP/filter.cpp -o FASTP/filter.o clang++ -arch x86_64 -std=gnu++17 -I"/Library/Frameworks/R.framework/Resources/include" -DNDEBUG -D_FILE_OFFSET_BITS=64 -I. -I'/Library/Frameworks/R.framework/Versions/4.4-x86_64/Resources/library/Rcpp/include' -I'/Library/Frameworks/R.framework/Versions/4.4-x86_64/Resources/library/Rhtslib/include' -I'/Library/Frameworks/R.framework/Versions/4.4-x86_64/Resources/library/zlibbioc/include' -I/opt/R/x86_64/include -fPIC -falign-functions=64 -Wall -g -O2 -c FASTP/filterresult.cpp -o FASTP/filterresult.o clang++ -arch x86_64 -std=gnu++17 -I"/Library/Frameworks/R.framework/Resources/include" -DNDEBUG -D_FILE_OFFSET_BITS=64 -I. -I'/Library/Frameworks/R.framework/Versions/4.4-x86_64/Resources/library/Rcpp/include' -I'/Library/Frameworks/R.framework/Versions/4.4-x86_64/Resources/library/Rhtslib/include' -I'/Library/Frameworks/R.framework/Versions/4.4-x86_64/Resources/library/zlibbioc/include' -I/opt/R/x86_64/include -fPIC -falign-functions=64 -Wall -g -O2 -c FASTP/htmlreporter.cpp -o FASTP/htmlreporter.o clang++ -arch x86_64 -std=gnu++17 -I"/Library/Frameworks/R.framework/Resources/include" -DNDEBUG -D_FILE_OFFSET_BITS=64 -I. -I'/Library/Frameworks/R.framework/Versions/4.4-x86_64/Resources/library/Rcpp/include' -I'/Library/Frameworks/R.framework/Versions/4.4-x86_64/Resources/library/Rhtslib/include' -I'/Library/Frameworks/R.framework/Versions/4.4-x86_64/Resources/library/zlibbioc/include' -I/opt/R/x86_64/include -fPIC -falign-functions=64 -Wall -g -O2 -c FASTP/jsonreporter.cpp -o FASTP/jsonreporter.o clang++ -arch x86_64 -std=gnu++17 -I"/Library/Frameworks/R.framework/Resources/include" -DNDEBUG -D_FILE_OFFSET_BITS=64 -I. -I'/Library/Frameworks/R.framework/Versions/4.4-x86_64/Resources/library/Rcpp/include' -I'/Library/Frameworks/R.framework/Versions/4.4-x86_64/Resources/library/Rhtslib/include' -I'/Library/Frameworks/R.framework/Versions/4.4-x86_64/Resources/library/zlibbioc/include' -I/opt/R/x86_64/include -fPIC -falign-functions=64 -Wall -g -O2 -c FASTP/nucleotidetree.cpp -o FASTP/nucleotidetree.o FASTP/nucleotidetree.cpp:49:29: warning: array subscript is of type 'char' [-Wchar-subscripts] if(curNode->children[base] == NULL) { ^~~~~ FASTP/nucleotidetree.cpp:50:30: warning: array subscript is of type 'char' [-Wchar-subscripts] curNode->children[base] = new NucleotideNode(); ^~~~~ FASTP/nucleotidetree.cpp:51:30: warning: array subscript is of type 'char' [-Wchar-subscripts] curNode->children[base]->base = seq[i]; ^~~~~ FASTP/nucleotidetree.cpp:53:26: warning: array subscript is of type 'char' [-Wchar-subscripts] curNode->children[base]->count++; ^~~~~ FASTP/nucleotidetree.cpp:54:36: warning: array subscript is of type 'char' [-Wchar-subscripts] curNode = curNode->children[base]; ^~~~~ 5 warnings generated. clang++ -arch x86_64 -std=gnu++17 -I"/Library/Frameworks/R.framework/Resources/include" -DNDEBUG -D_FILE_OFFSET_BITS=64 -I. -I'/Library/Frameworks/R.framework/Versions/4.4-x86_64/Resources/library/Rcpp/include' -I'/Library/Frameworks/R.framework/Versions/4.4-x86_64/Resources/library/Rhtslib/include' -I'/Library/Frameworks/R.framework/Versions/4.4-x86_64/Resources/library/zlibbioc/include' -I/opt/R/x86_64/include -fPIC -falign-functions=64 -Wall -g -O2 -c FASTP/options.cpp -o FASTP/options.o clang++ -arch x86_64 -std=gnu++17 -I"/Library/Frameworks/R.framework/Resources/include" -DNDEBUG -D_FILE_OFFSET_BITS=64 -I. -I'/Library/Frameworks/R.framework/Versions/4.4-x86_64/Resources/library/Rcpp/include' -I'/Library/Frameworks/R.framework/Versions/4.4-x86_64/Resources/library/Rhtslib/include' -I'/Library/Frameworks/R.framework/Versions/4.4-x86_64/Resources/library/zlibbioc/include' -I/opt/R/x86_64/include -fPIC -falign-functions=64 -Wall -g -O2 -c FASTP/overlapanalysis.cpp -o FASTP/overlapanalysis.o clang++ -arch x86_64 -std=gnu++17 -I"/Library/Frameworks/R.framework/Resources/include" -DNDEBUG -D_FILE_OFFSET_BITS=64 -I. -I'/Library/Frameworks/R.framework/Versions/4.4-x86_64/Resources/library/Rcpp/include' -I'/Library/Frameworks/R.framework/Versions/4.4-x86_64/Resources/library/Rhtslib/include' -I'/Library/Frameworks/R.framework/Versions/4.4-x86_64/Resources/library/zlibbioc/include' -I/opt/R/x86_64/include -fPIC -falign-functions=64 -Wall -g -O2 -c FASTP/peprocessor.cpp -o FASTP/peprocessor.o FASTP/peprocessor.cpp:228:13: warning: unused variable 'dupMeanTlen' [-Wunused-variable] double* dupMeanTlen = NULL; ^ FASTP/peprocessor.cpp:126:9: warning: unused variable 'cycle' [-Wunused-variable] int cycle = 151; ^ FASTP/peprocessor.cpp:345:13: warning: unused variable 'lowQualNum1' [-Wunused-variable] int lowQualNum1 = 0; ^ FASTP/peprocessor.cpp:348:13: warning: unused variable 'nBaseNum2' [-Wunused-variable] int nBaseNum2 = 0; ^ FASTP/peprocessor.cpp:347:13: warning: unused variable 'lowQualNum2' [-Wunused-variable] int lowQualNum2 = 0; ^ FASTP/peprocessor.cpp:346:13: warning: unused variable 'nBaseNum1' [-Wunused-variable] int nBaseNum1 = 0; ^ FASTP/peprocessor.cpp:718:10: warning: unused variable 'splitSizeReEvaluated' [-Wunused-variable] bool splitSizeReEvaluated = false; ^ 7 warnings generated. clang++ -arch x86_64 -std=gnu++17 -I"/Library/Frameworks/R.framework/Resources/include" -DNDEBUG -D_FILE_OFFSET_BITS=64 -I. -I'/Library/Frameworks/R.framework/Versions/4.4-x86_64/Resources/library/Rcpp/include' -I'/Library/Frameworks/R.framework/Versions/4.4-x86_64/Resources/library/Rhtslib/include' -I'/Library/Frameworks/R.framework/Versions/4.4-x86_64/Resources/library/zlibbioc/include' -I/opt/R/x86_64/include -fPIC -falign-functions=64 -Wall -g -O2 -c FASTP/polyx.cpp -o FASTP/polyx.o clang++ -arch x86_64 -std=gnu++17 -I"/Library/Frameworks/R.framework/Resources/include" -DNDEBUG -D_FILE_OFFSET_BITS=64 -I. -I'/Library/Frameworks/R.framework/Versions/4.4-x86_64/Resources/library/Rcpp/include' -I'/Library/Frameworks/R.framework/Versions/4.4-x86_64/Resources/library/Rhtslib/include' -I'/Library/Frameworks/R.framework/Versions/4.4-x86_64/Resources/library/zlibbioc/include' -I/opt/R/x86_64/include -fPIC -falign-functions=64 -Wall -g -O2 -c FASTP/processor.cpp -o FASTP/processor.o clang++ -arch x86_64 -std=gnu++17 -I"/Library/Frameworks/R.framework/Resources/include" -DNDEBUG -D_FILE_OFFSET_BITS=64 -I. -I'/Library/Frameworks/R.framework/Versions/4.4-x86_64/Resources/library/Rcpp/include' -I'/Library/Frameworks/R.framework/Versions/4.4-x86_64/Resources/library/Rhtslib/include' -I'/Library/Frameworks/R.framework/Versions/4.4-x86_64/Resources/library/zlibbioc/include' -I/opt/R/x86_64/include -fPIC -falign-functions=64 -Wall -g -O2 -c FASTP/read.cpp -o FASTP/read.o clang++ -arch x86_64 -std=gnu++17 -I"/Library/Frameworks/R.framework/Resources/include" -DNDEBUG -D_FILE_OFFSET_BITS=64 -I. -I'/Library/Frameworks/R.framework/Versions/4.4-x86_64/Resources/library/Rcpp/include' -I'/Library/Frameworks/R.framework/Versions/4.4-x86_64/Resources/library/Rhtslib/include' -I'/Library/Frameworks/R.framework/Versions/4.4-x86_64/Resources/library/zlibbioc/include' -I/opt/R/x86_64/include -fPIC -falign-functions=64 -Wall -g -O2 -c FASTP/seprocessor.cpp -o FASTP/seprocessor.o FASTP/seprocessor.cpp:142:13: warning: unused variable 'dupMeanTlen' [-Wunused-variable] double* dupMeanTlen = NULL; ^ FASTP/seprocessor.cpp:76:9: warning: unused variable 'cycle' [-Wunused-variable] int cycle = 151; ^ FASTP/seprocessor.cpp:388:10: warning: unused variable 'splitSizeReEvaluated' [-Wunused-variable] bool splitSizeReEvaluated = false; ^ 3 warnings generated. clang++ -arch x86_64 -std=gnu++17 -I"/Library/Frameworks/R.framework/Resources/include" -DNDEBUG -D_FILE_OFFSET_BITS=64 -I. -I'/Library/Frameworks/R.framework/Versions/4.4-x86_64/Resources/library/Rcpp/include' -I'/Library/Frameworks/R.framework/Versions/4.4-x86_64/Resources/library/Rhtslib/include' -I'/Library/Frameworks/R.framework/Versions/4.4-x86_64/Resources/library/zlibbioc/include' -I/opt/R/x86_64/include -fPIC -falign-functions=64 -Wall -g -O2 -c FASTP/sequence.cpp -o FASTP/sequence.o clang++ -arch x86_64 -std=gnu++17 -I"/Library/Frameworks/R.framework/Resources/include" -DNDEBUG -D_FILE_OFFSET_BITS=64 -I. -I'/Library/Frameworks/R.framework/Versions/4.4-x86_64/Resources/library/Rcpp/include' -I'/Library/Frameworks/R.framework/Versions/4.4-x86_64/Resources/library/Rhtslib/include' -I'/Library/Frameworks/R.framework/Versions/4.4-x86_64/Resources/library/zlibbioc/include' -I/opt/R/x86_64/include -fPIC -falign-functions=64 -Wall -g -O2 -c FASTP/stats.cpp -o FASTP/stats.o FASTP/stats.cpp:187:34: warning: array subscript is of type 'char' [-Wchar-subscripts] if(mCycleBaseContents[b][c] == 0) ^~ FASTP/stats.cpp:190:54: warning: array subscript is of type 'char' [-Wchar-subscripts] qualCurve[c] = (double)mCycleBaseQual[b][c] / (double)mCycleBaseContents[b][c]; ^~ FASTP/stats.cpp:190:89: warning: array subscript is of type 'char' [-Wchar-subscripts] qualCurve[c] = (double)mCycleBaseQual[b][c] / (double)mCycleBaseContents[b][c]; ^~ FASTP/stats.cpp:191:57: warning: array subscript is of type 'char' [-Wchar-subscripts] contentCurve[c] = (double)mCycleBaseContents[b][c] / (double)mCycleTotalBase[c]; ^~ FASTP/stats.cpp:203:56: warning: array subscript is of type 'char' [-Wchar-subscripts] gcContentCurve[c] = (double)(mCycleBaseContents[gBase][c] + mCycleBaseContents[cBase][c]) / (double)mCycleTotalBase[c]; ^~~~~~ FASTP/stats.cpp:203:87: warning: array subscript is of type 'char' [-Wchar-subscripts] gcContentCurve[c] = (double)(mCycleBaseContents[gBase][c] + mCycleBaseContents[cBase][c]) / (double)mCycleTotalBase[c]; ^~~~~~ FASTP/stats.cpp:249:27: warning: array subscript is of type 'char' [-Wchar-subscripts] mCycleQ30Bases[b][i]++; ^~ FASTP/stats.cpp:250:27: warning: array subscript is of type 'char' [-Wchar-subscripts] mCycleQ20Bases[b][i]++; ^~ FASTP/stats.cpp:252:27: warning: array subscript is of type 'char' [-Wchar-subscripts] mCycleQ20Bases[b][i]++; ^~ FASTP/stats.cpp:255:27: warning: array subscript is of type 'char' [-Wchar-subscripts] mCycleBaseContents[b][i]++; ^~ FASTP/stats.cpp:256:23: warning: array subscript is of type 'char' [-Wchar-subscripts] mCycleBaseQual[b][i] += (qual-33); ^~ FASTP/stats.cpp:551:9: warning: unused variable 'displayed' [-Wunused-variable] int displayed = 0; ^ FASTP/stats.cpp:850:34: warning: array subscript is of type 'char' [-Wchar-subscripts] count = mBaseContents[b]; ^~ 13 warnings generated. clang++ -arch x86_64 -std=gnu++17 -I"/Library/Frameworks/R.framework/Resources/include" -DNDEBUG -D_FILE_OFFSET_BITS=64 -I. -I'/Library/Frameworks/R.framework/Versions/4.4-x86_64/Resources/library/Rcpp/include' -I'/Library/Frameworks/R.framework/Versions/4.4-x86_64/Resources/library/Rhtslib/include' -I'/Library/Frameworks/R.framework/Versions/4.4-x86_64/Resources/library/zlibbioc/include' -I/opt/R/x86_64/include -fPIC -falign-functions=64 -Wall -g -O2 -c FASTP/threadconfig.cpp -o FASTP/threadconfig.o clang++ -arch x86_64 -std=gnu++17 -I"/Library/Frameworks/R.framework/Resources/include" -DNDEBUG -D_FILE_OFFSET_BITS=64 -I. -I'/Library/Frameworks/R.framework/Versions/4.4-x86_64/Resources/library/Rcpp/include' -I'/Library/Frameworks/R.framework/Versions/4.4-x86_64/Resources/library/Rhtslib/include' -I'/Library/Frameworks/R.framework/Versions/4.4-x86_64/Resources/library/zlibbioc/include' -I/opt/R/x86_64/include -fPIC -falign-functions=64 -Wall -g -O2 -c FASTP/umiprocessor.cpp -o FASTP/umiprocessor.o clang++ -arch x86_64 -std=gnu++17 -I"/Library/Frameworks/R.framework/Resources/include" -DNDEBUG -D_FILE_OFFSET_BITS=64 -I. -I'/Library/Frameworks/R.framework/Versions/4.4-x86_64/Resources/library/Rcpp/include' -I'/Library/Frameworks/R.framework/Versions/4.4-x86_64/Resources/library/Rhtslib/include' -I'/Library/Frameworks/R.framework/Versions/4.4-x86_64/Resources/library/zlibbioc/include' -I/opt/R/x86_64/include -fPIC -falign-functions=64 -Wall -g -O2 -c FASTP/unittest.cpp -o FASTP/unittest.o fatal error: error in backend: IO failure on output stream: No space left on device make: *** [FASTP/unittest.o] Error 1 ERROR: compilation failed for package ‘Rfastp’ * removing ‘/Users/biocbuild/bbs-3.20-bioc/meat/Rfastp.buildbin-libdir/Rfastp’