Back to Multiple platform build/check report for BioC 3.20: simplified long |
|
This page was generated on 2025-02-06 12:05 -0500 (Thu, 06 Feb 2025).
Hostname | OS | Arch (*) | R version | Installed pkgs |
---|---|---|---|---|
nebbiolo2 | Linux (Ubuntu 24.04.1 LTS) | x86_64 | 4.4.2 (2024-10-31) -- "Pile of Leaves" | 4753 |
palomino8 | Windows Server 2022 Datacenter | x64 | 4.4.2 (2024-10-31 ucrt) -- "Pile of Leaves" | 4501 |
merida1 | macOS 12.7.5 Monterey | x86_64 | 4.4.2 (2024-10-31) -- "Pile of Leaves" | 4524 |
kjohnson1 | macOS 13.6.6 Ventura | arm64 | 4.4.2 (2024-10-31) -- "Pile of Leaves" | 4476 |
taishan | Linux (openEuler 24.03 LTS) | aarch64 | 4.4.2 (2024-10-31) -- "Pile of Leaves" | 4407 |
Click on any hostname to see more info about the system (e.g. compilers) (*) as reported by 'uname -p', except on Windows and Mac OS X |
Package 1920/2289 | Hostname | OS / Arch | INSTALL | BUILD | CHECK | BUILD BIN | ||||||||
SELEX 1.38.0 (landing page) Harmen J. Bussemaker
| nebbiolo2 | Linux (Ubuntu 24.04.1 LTS) / x86_64 | OK | OK | OK | ![]() | ||||||||
palomino8 | Windows Server 2022 Datacenter / x64 | OK | OK | OK | OK | ![]() | ||||||||
merida1 | macOS 12.7.5 Monterey / x86_64 | OK | OK | OK | NA | |||||||||
kjohnson1 | macOS 13.6.6 Ventura / arm64 | OK | OK | OK | OK | ![]() | ||||||||
taishan | Linux (openEuler 24.03 LTS) / aarch64 | OK | OK | OK | ||||||||||
To the developers/maintainers of the SELEX package: - Allow up to 24 hours (and sometimes 48 hours) for your latest push to git@git.bioconductor.org:packages/SELEX.git to reflect on this report. See Troubleshooting Build Report for more information. - Use the following Renviron settings to reproduce errors and warnings. - If 'R CMD check' started to fail recently on the Linux builder(s) over a missing dependency, add the missing dependency to 'Suggests:' in your DESCRIPTION file. See Renviron.bioc for more information. |
Package: SELEX |
Version: 1.38.0 |
Command: /home/biocbuild/bbs-3.20-bioc/R/bin/R CMD check --install=check:SELEX.install-out.txt --library=/home/biocbuild/bbs-3.20-bioc/R/site-library --timings SELEX_1.38.0.tar.gz |
StartedAt: 2025-02-04 02:23:10 -0500 (Tue, 04 Feb 2025) |
EndedAt: 2025-02-04 02:24:50 -0500 (Tue, 04 Feb 2025) |
EllapsedTime: 100.0 seconds |
RetCode: 0 |
Status: OK |
CheckDir: SELEX.Rcheck |
Warnings: 0 |
############################################################################## ############################################################################## ### ### Running command: ### ### /home/biocbuild/bbs-3.20-bioc/R/bin/R CMD check --install=check:SELEX.install-out.txt --library=/home/biocbuild/bbs-3.20-bioc/R/site-library --timings SELEX_1.38.0.tar.gz ### ############################################################################## ############################################################################## * using log directory ‘/home/biocbuild/bbs-3.20-bioc/meat/SELEX.Rcheck’ * using R version 4.4.2 (2024-10-31) * using platform: x86_64-pc-linux-gnu * R was compiled by gcc (Ubuntu 13.2.0-23ubuntu4) 13.2.0 GNU Fortran (Ubuntu 13.2.0-23ubuntu4) 13.2.0 * running under: Ubuntu 24.04.1 LTS * using session charset: UTF-8 * checking for file ‘SELEX/DESCRIPTION’ ... OK * this is package ‘SELEX’ version ‘1.38.0’ * checking package namespace information ... OK * checking package dependencies ... OK * checking if this is a source package ... OK * checking if there is a namespace ... OK * checking for hidden files and directories ... OK * checking for portable file names ... OK * checking for sufficient/correct file permissions ... OK * checking whether package ‘SELEX’ can be installed ... OK * checking installed package size ... OK * checking package directory ... OK * checking ‘build’ directory ... OK * checking DESCRIPTION meta-information ... OK * checking top-level files ... OK * checking for left-over files ... OK * checking index information ... OK * checking package subdirectories ... OK * checking code files for non-ASCII characters ... OK * checking R files for syntax errors ... OK * checking whether the package can be loaded ... OK * checking whether the package can be loaded with stated dependencies ... OK * checking whether the package can be unloaded cleanly ... OK * checking whether the namespace can be loaded with stated dependencies ... OK * checking whether the namespace can be unloaded cleanly ... OK * checking loading without being on the library search path ... OK * checking whether startup messages can be suppressed ... OK * checking dependencies in R code ... OK * checking S3 generic/method consistency ... OK * checking replacement functions ... OK * checking foreign function calls ... OK * checking R code for possible problems ... OK * checking Rd files ... NOTE checkRd: (-1) SELEX.Rd:114: Lost braces 114 | \href{http://www.ncbi.nlm.nih.gov/pubmed/22153072}{{C}ofactor binding evokes latent differences in {D}{N}{A} binding specificity between {H}ox proteins.} | ^ checkRd: (-1) SELEX.Rd:114: Lost braces 114 | \href{http://www.ncbi.nlm.nih.gov/pubmed/22153072}{{C}ofactor binding evokes latent differences in {D}{N}{A} binding specificity between {H}ox proteins.} | ^ checkRd: (-1) SELEX.Rd:118: Lost braces 118 | \href{http://www.ncbi.nlm.nih.gov/pubmed/25151169}{{S}{E}{L}{E}{X}-seq: a method for characterizing the complete repertoire of binding site preferences for transcription factor complexes.} | ^ checkRd: (-1) SELEX.Rd:118: Lost braces 118 | \href{http://www.ncbi.nlm.nih.gov/pubmed/25151169}{{S}{E}{L}{E}{X}-seq: a method for characterizing the complete repertoire of binding site preferences for transcription factor complexes.} | ^ checkRd: (-1) SELEX.Rd:118: Lost braces 118 | \href{http://www.ncbi.nlm.nih.gov/pubmed/25151169}{{S}{E}{L}{E}{X}-seq: a method for characterizing the complete repertoire of binding site preferences for transcription factor complexes.} | ^ checkRd: (-1) SELEX.Rd:118: Lost braces 118 | \href{http://www.ncbi.nlm.nih.gov/pubmed/25151169}{{S}{E}{L}{E}{X}-seq: a method for characterizing the complete repertoire of binding site preferences for transcription factor complexes.} | ^ checkRd: (-1) selex.affinities.Rd:33: Lost braces 33 | \href{http://www.ncbi.nlm.nih.gov/pubmed/22153072}{{C}ofactor binding evokes latent differences in {D}{N}{A} binding specificity between {H}ox proteins.} | ^ checkRd: (-1) selex.affinities.Rd:33: Lost braces 33 | \href{http://www.ncbi.nlm.nih.gov/pubmed/22153072}{{C}ofactor binding evokes latent differences in {D}{N}{A} binding specificity between {H}ox proteins.} | ^ checkRd: (-1) selex.affinities.Rd:37: Lost braces 37 | \href{http://www.ncbi.nlm.nih.gov/pubmed/25151169}{{S}{E}{L}{E}{X}-seq: a method for characterizing the complete repertoire of binding site preferences for transcription factor complexes.} | ^ checkRd: (-1) selex.affinities.Rd:37: Lost braces 37 | \href{http://www.ncbi.nlm.nih.gov/pubmed/25151169}{{S}{E}{L}{E}{X}-seq: a method for characterizing the complete repertoire of binding site preferences for transcription factor complexes.} | ^ checkRd: (-1) selex.affinities.Rd:37: Lost braces 37 | \href{http://www.ncbi.nlm.nih.gov/pubmed/25151169}{{S}{E}{L}{E}{X}-seq: a method for characterizing the complete repertoire of binding site preferences for transcription factor complexes.} | ^ checkRd: (-1) selex.affinities.Rd:37: Lost braces 37 | \href{http://www.ncbi.nlm.nih.gov/pubmed/25151169}{{S}{E}{L}{E}{X}-seq: a method for characterizing the complete repertoire of binding site preferences for transcription factor complexes.} | ^ checkRd: (-1) selex.counts.Rd:38: Lost braces 38 | \href{http://www.ncbi.nlm.nih.gov/pubmed/22153072}{{C}ofactor binding evokes latent differences in {D}{N}{A} binding specificity between {H}ox proteins.} | ^ checkRd: (-1) selex.counts.Rd:38: Lost braces 38 | \href{http://www.ncbi.nlm.nih.gov/pubmed/22153072}{{C}ofactor binding evokes latent differences in {D}{N}{A} binding specificity between {H}ox proteins.} | ^ checkRd: (-1) selex.counts.Rd:42: Lost braces 42 | \href{http://www.ncbi.nlm.nih.gov/pubmed/25151169}{{S}{E}{L}{E}{X}-seq: a method for characterizing the complete repertoire of binding site preferences for transcription factor complexes.} | ^ checkRd: (-1) selex.counts.Rd:42: Lost braces 42 | \href{http://www.ncbi.nlm.nih.gov/pubmed/25151169}{{S}{E}{L}{E}{X}-seq: a method for characterizing the complete repertoire of binding site preferences for transcription factor complexes.} | ^ checkRd: (-1) selex.counts.Rd:42: Lost braces 42 | \href{http://www.ncbi.nlm.nih.gov/pubmed/25151169}{{S}{E}{L}{E}{X}-seq: a method for characterizing the complete repertoire of binding site preferences for transcription factor complexes.} | ^ checkRd: (-1) selex.counts.Rd:42: Lost braces 42 | \href{http://www.ncbi.nlm.nih.gov/pubmed/25151169}{{S}{E}{L}{E}{X}-seq: a method for characterizing the complete repertoire of binding site preferences for transcription factor complexes.} | ^ checkRd: (-1) selex.infogain.Rd:27: Lost braces 27 | \href{http://www.ncbi.nlm.nih.gov/pubmed/22153072}{{C}ofactor binding evokes latent differences in {D}{N}{A} binding specificity between {H}ox proteins.} | ^ checkRd: (-1) selex.infogain.Rd:27: Lost braces 27 | \href{http://www.ncbi.nlm.nih.gov/pubmed/22153072}{{C}ofactor binding evokes latent differences in {D}{N}{A} binding specificity between {H}ox proteins.} | ^ checkRd: (-1) selex.infogain.Rd:31: Lost braces 31 | \href{http://www.ncbi.nlm.nih.gov/pubmed/25151169}{{S}{E}{L}{E}{X}-seq: a method for characterizing the complete repertoire of binding site preferences for transcription factor complexes.} | ^ checkRd: (-1) selex.infogain.Rd:31: Lost braces 31 | \href{http://www.ncbi.nlm.nih.gov/pubmed/25151169}{{S}{E}{L}{E}{X}-seq: a method for characterizing the complete repertoire of binding site preferences for transcription factor complexes.} | ^ checkRd: (-1) selex.infogain.Rd:31: Lost braces 31 | \href{http://www.ncbi.nlm.nih.gov/pubmed/25151169}{{S}{E}{L}{E}{X}-seq: a method for characterizing the complete repertoire of binding site preferences for transcription factor complexes.} | ^ checkRd: (-1) selex.infogain.Rd:31: Lost braces 31 | \href{http://www.ncbi.nlm.nih.gov/pubmed/25151169}{{S}{E}{L}{E}{X}-seq: a method for characterizing the complete repertoire of binding site preferences for transcription factor complexes.} | ^ checkRd: (-1) selex.mm.Rd:60: Lost braces 60 | \href{http://www.ncbi.nlm.nih.gov/pubmed/22153072}{{C}ofactor binding evokes latent differences in {D}{N}{A} binding specificity between {H}ox proteins.} | ^ checkRd: (-1) selex.mm.Rd:60: Lost braces 60 | \href{http://www.ncbi.nlm.nih.gov/pubmed/22153072}{{C}ofactor binding evokes latent differences in {D}{N}{A} binding specificity between {H}ox proteins.} | ^ checkRd: (-1) selex.mm.Rd:64: Lost braces 64 | \href{http://www.ncbi.nlm.nih.gov/pubmed/25151169}{{S}{E}{L}{E}{X}-seq: a method for characterizing the complete repertoire of binding site preferences for transcription factor complexes.} | ^ checkRd: (-1) selex.mm.Rd:64: Lost braces 64 | \href{http://www.ncbi.nlm.nih.gov/pubmed/25151169}{{S}{E}{L}{E}{X}-seq: a method for characterizing the complete repertoire of binding site preferences for transcription factor complexes.} | ^ checkRd: (-1) selex.mm.Rd:64: Lost braces 64 | \href{http://www.ncbi.nlm.nih.gov/pubmed/25151169}{{S}{E}{L}{E}{X}-seq: a method for characterizing the complete repertoire of binding site preferences for transcription factor complexes.} | ^ checkRd: (-1) selex.mm.Rd:64: Lost braces 64 | \href{http://www.ncbi.nlm.nih.gov/pubmed/25151169}{{S}{E}{L}{E}{X}-seq: a method for characterizing the complete repertoire of binding site preferences for transcription factor complexes.} | ^ checkRd: (-1) selex.mmProb.Rd:39: Lost braces 39 | \href{http://www.ncbi.nlm.nih.gov/pubmed/22153072}{{C}ofactor binding evokes latent differences in {D}{N}{A} binding specificity between {H}ox proteins.} | ^ checkRd: (-1) selex.mmProb.Rd:39: Lost braces 39 | \href{http://www.ncbi.nlm.nih.gov/pubmed/22153072}{{C}ofactor binding evokes latent differences in {D}{N}{A} binding specificity between {H}ox proteins.} | ^ checkRd: (-1) selex.mmProb.Rd:43: Lost braces 43 | \href{http://www.ncbi.nlm.nih.gov/pubmed/25151169}{{S}{E}{L}{E}{X}-seq: a method for characterizing the complete repertoire of binding site preferences for transcription factor complexes.} | ^ checkRd: (-1) selex.mmProb.Rd:43: Lost braces 43 | \href{http://www.ncbi.nlm.nih.gov/pubmed/25151169}{{S}{E}{L}{E}{X}-seq: a method for characterizing the complete repertoire of binding site preferences for transcription factor complexes.} | ^ checkRd: (-1) selex.mmProb.Rd:43: Lost braces 43 | \href{http://www.ncbi.nlm.nih.gov/pubmed/25151169}{{S}{E}{L}{E}{X}-seq: a method for characterizing the complete repertoire of binding site preferences for transcription factor complexes.} | ^ checkRd: (-1) selex.mmProb.Rd:43: Lost braces 43 | \href{http://www.ncbi.nlm.nih.gov/pubmed/25151169}{{S}{E}{L}{E}{X}-seq: a method for characterizing the complete repertoire of binding site preferences for transcription factor complexes.} | ^ checkRd: (-1) selex.run.Rd:34: Lost braces 34 | \href{http://www.ncbi.nlm.nih.gov/pubmed/22153072}{{C}ofactor binding evokes latent differences in {D}{N}{A} binding specificity between {H}ox proteins.} | ^ checkRd: (-1) selex.run.Rd:34: Lost braces 34 | \href{http://www.ncbi.nlm.nih.gov/pubmed/22153072}{{C}ofactor binding evokes latent differences in {D}{N}{A} binding specificity between {H}ox proteins.} | ^ checkRd: (-1) selex.run.Rd:38: Lost braces 38 | \href{http://www.ncbi.nlm.nih.gov/pubmed/25151169}{{S}{E}{L}{E}{X}-seq: a method for characterizing the complete repertoire of binding site preferences for transcription factor complexes.} | ^ checkRd: (-1) selex.run.Rd:38: Lost braces 38 | \href{http://www.ncbi.nlm.nih.gov/pubmed/25151169}{{S}{E}{L}{E}{X}-seq: a method for characterizing the complete repertoire of binding site preferences for transcription factor complexes.} | ^ checkRd: (-1) selex.run.Rd:38: Lost braces 38 | \href{http://www.ncbi.nlm.nih.gov/pubmed/25151169}{{S}{E}{L}{E}{X}-seq: a method for characterizing the complete repertoire of binding site preferences for transcription factor complexes.} | ^ checkRd: (-1) selex.run.Rd:38: Lost braces 38 | \href{http://www.ncbi.nlm.nih.gov/pubmed/25151169}{{S}{E}{L}{E}{X}-seq: a method for characterizing the complete repertoire of binding site preferences for transcription factor complexes.} | ^ * checking Rd metadata ... OK * checking Rd cross-references ... OK * checking for missing documentation entries ... OK * checking for code/documentation mismatches ... OK * checking Rd \usage sections ... OK * checking Rd contents ... OK * checking for unstated dependencies in examples ... OK * checking line endings in Makefiles ... OK * checking for GNU extensions in Makefiles ... OK * checking include directives in Makefiles ... OK * checking files in ‘vignettes’ ... OK * checking examples ... OK Examples with CPU (user + system) or elapsed time > 5s user system elapsed SELEX 21.262 1.576 7.268 selex.seqfilter 8.054 0.664 2.369 * checking for unstated dependencies in vignettes ... OK * checking package vignettes ... OK * checking re-building of vignette outputs ... OK * checking PDF version of manual ... OK * DONE Status: 1 NOTE See ‘/home/biocbuild/bbs-3.20-bioc/meat/SELEX.Rcheck/00check.log’ for details.
SELEX.Rcheck/00install.out
############################################################################## ############################################################################## ### ### Running command: ### ### /home/biocbuild/bbs-3.20-bioc/R/bin/R CMD INSTALL SELEX ### ############################################################################## ############################################################################## * installing to library ‘/home/biocbuild/bbs-3.20-bioc/R/site-library’ * installing *source* package ‘SELEX’ ... ** using staged installation ** R ** inst ** byte-compile and prepare package for lazy loading ** help *** installing help indices ** building package indices ** installing vignettes ** testing if installed package can be loaded from temporary location ** testing if installed package can be loaded from final location ** testing if installed package keeps a record of temporary installation path * DONE (SELEX)
SELEX.Rcheck/SELEX-Ex.timings
name | user | system | elapsed | |
SELEX | 21.262 | 1.576 | 7.268 | |
selex.affinities | 1.059 | 0.029 | 0.292 | |
selex.config | 0.125 | 0.003 | 0.027 | |
selex.countSummary | 0.821 | 0.019 | 0.241 | |
selex.counts | 1.248 | 0.026 | 0.394 | |
selex.defineSample | 0.135 | 0.003 | 0.034 | |
selex.exampledata | 0.111 | 0.002 | 0.024 | |
selex.fastqPSFM | 0.898 | 0.009 | 0.284 | |
selex.getAttributes | 0.213 | 0.009 | 0.047 | |
selex.getRound0 | 0.239 | 0.017 | 0.078 | |
selex.getSeqfilter | 0.087 | 0.008 | 0.024 | |
selex.infogain | 1.808 | 0.099 | 0.402 | |
selex.infogainSummary | 0.924 | 0.016 | 0.198 | |
selex.jvmStatus | 0.093 | 0.005 | 0.029 | |
selex.kmax | 0.827 | 0.190 | 0.769 | |
selex.kmerPSFM | 0.380 | 0.020 | 0.155 | |
selex.loadAnnotation | 0.266 | 0.005 | 0.070 | |
selex.mm | 0.525 | 0.010 | 0.167 | |
selex.mmProb | 0.547 | 0.007 | 0.149 | |
selex.mmSummary | 0.747 | 0.019 | 0.187 | |
selex.revcomp | 1.000 | 0.033 | 0.304 | |
selex.run | 1.746 | 0.098 | 0.415 | |
selex.sample | 0.225 | 0.005 | 0.057 | |
selex.samplePSFM | 0.468 | 0.017 | 0.174 | |
selex.sampleSummary | 0.195 | 0.002 | 0.052 | |
selex.saveAnnotation | 0.088 | 0.002 | 0.030 | |
selex.seqfilter | 8.054 | 0.664 | 2.369 | |
selex.setwd | 0.022 | 0.002 | 0.016 | |
selex.split | 0.190 | 0.011 | 0.122 | |
selex.summary | 0.530 | 0.044 | 0.388 | |