Back to Multiple platform build/check report for BioC 3.20:   simplified   long
ABCDEFGHIJKLMNOPQR[S]TUVWXYZ

This page was generated on 2025-02-06 12:09 -0500 (Thu, 06 Feb 2025).

HostnameOSArch (*)R versionInstalled pkgs
nebbiolo2Linux (Ubuntu 24.04.1 LTS)x86_644.4.2 (2024-10-31) -- "Pile of Leaves" 4753
palomino8Windows Server 2022 Datacenterx644.4.2 (2024-10-31 ucrt) -- "Pile of Leaves" 4501
merida1macOS 12.7.5 Montereyx86_644.4.2 (2024-10-31) -- "Pile of Leaves" 4524
kjohnson1macOS 13.6.6 Venturaarm644.4.2 (2024-10-31) -- "Pile of Leaves" 4476
taishanLinux (openEuler 24.03 LTS)aarch644.4.2 (2024-10-31) -- "Pile of Leaves" 4407
Click on any hostname to see more info about the system (e.g. compilers)      (*) as reported by 'uname -p', except on Windows and Mac OS X

Package 2004/2289HostnameOS / ArchINSTALLBUILDCHECKBUILD BIN
SOMNiBUS 1.14.2  (landing page)
Kathleen Klein
Snapshot Date: 2025-02-03 13:00 -0500 (Mon, 03 Feb 2025)
git_url: https://git.bioconductor.org/packages/SOMNiBUS
git_branch: RELEASE_3_20
git_last_commit: dbd2422
git_last_commit_date: 2024-12-25 09:36:09 -0500 (Wed, 25 Dec 2024)
nebbiolo2Linux (Ubuntu 24.04.1 LTS) / x86_64  OK    OK    OK  UNNEEDED, same version is already published
palomino8Windows Server 2022 Datacenter / x64  OK    OK    OK    OK  UNNEEDED, same version is already published
merida1macOS 12.7.5 Monterey / x86_64  OK    OK    OK    NA  
kjohnson1macOS 13.6.6 Ventura / arm64  OK    OK    OK    OK  UNNEEDED, same version is already published
taishanLinux (openEuler 24.03 LTS) / aarch64  OK    OK    OK  


CHECK results for SOMNiBUS on merida1

To the developers/maintainers of the SOMNiBUS package:
- Allow up to 24 hours (and sometimes 48 hours) for your latest push to git@git.bioconductor.org:packages/SOMNiBUS.git to reflect on this report. See Troubleshooting Build Report for more information.
- Use the following Renviron settings to reproduce errors and warnings.
- If 'R CMD check' started to fail recently on the Linux builder(s) over a missing dependency, add the missing dependency to 'Suggests:' in your DESCRIPTION file. See Renviron.bioc for more information.

raw results


Summary

Package: SOMNiBUS
Version: 1.14.2
Command: /Library/Frameworks/R.framework/Resources/bin/R CMD check --install=check:SOMNiBUS.install-out.txt --library=/Library/Frameworks/R.framework/Resources/library --no-vignettes --timings SOMNiBUS_1.14.2.tar.gz
StartedAt: 2025-02-04 10:27:03 -0500 (Tue, 04 Feb 2025)
EndedAt: 2025-02-04 10:50:59 -0500 (Tue, 04 Feb 2025)
EllapsedTime: 1436.4 seconds
RetCode: 0
Status:   OK  
CheckDir: SOMNiBUS.Rcheck
Warnings: 0

Command output

##############################################################################
##############################################################################
###
### Running command:
###
###   /Library/Frameworks/R.framework/Resources/bin/R CMD check --install=check:SOMNiBUS.install-out.txt --library=/Library/Frameworks/R.framework/Resources/library --no-vignettes --timings SOMNiBUS_1.14.2.tar.gz
###
##############################################################################
##############################################################################


* using log directory ‘/Users/biocbuild/bbs-3.20-bioc/meat/SOMNiBUS.Rcheck’
* using R version 4.4.2 (2024-10-31)
* using platform: x86_64-apple-darwin20
* R was compiled by
    Apple clang version 14.0.0 (clang-1400.0.29.202)
    GNU Fortran (GCC) 12.2.0
* running under: macOS Monterey 12.7.6
* using session charset: UTF-8
* using option ‘--no-vignettes’
* checking for file ‘SOMNiBUS/DESCRIPTION’ ... OK
* this is package ‘SOMNiBUS’ version ‘1.14.2’
* package encoding: UTF-8
* checking package namespace information ... OK
* checking package dependencies ... OK
* checking if this is a source package ... OK
* checking if there is a namespace ... OK
* checking for hidden files and directories ... OK
* checking for portable file names ... OK
* checking for sufficient/correct file permissions ... OK
* checking whether package ‘SOMNiBUS’ can be installed ... OK
* checking installed package size ... OK
* checking package directory ... OK
* checking ‘build’ directory ... OK
* checking DESCRIPTION meta-information ... OK
* checking top-level files ... OK
* checking for left-over files ... OK
* checking index information ... OK
* checking package subdirectories ... OK
* checking code files for non-ASCII characters ... OK
* checking R files for syntax errors ... OK
* checking whether the package can be loaded ... OK
* checking whether the package can be loaded with stated dependencies ... OK
* checking whether the package can be unloaded cleanly ... OK
* checking whether the namespace can be loaded with stated dependencies ... OK
* checking whether the namespace can be unloaded cleanly ... OK
* checking whether startup messages can be suppressed ... OK
* checking dependencies in R code ... OK
* checking S3 generic/method consistency ... OK
* checking replacement functions ... OK
* checking foreign function calls ... OK
* checking R code for possible problems ... OK
* checking Rd files ... OK
* checking Rd metadata ... OK
* checking Rd cross-references ... OK
* checking for missing documentation entries ... OK
* checking for code/documentation mismatches ... OK
* checking Rd \usage sections ... OK
* checking Rd contents ... OK
* checking for unstated dependencies in examples ... OK
* checking contents of ‘data’ directory ... OK
* checking data for non-ASCII characters ... OK
* checking data for ASCII and uncompressed saves ... OK
* checking files in ‘vignettes’ ... OK
* checking examples ... OK
Examples with CPU (user + system) or elapsed time > 5s
                         user system elapsed
binomRegMethModel     289.658 16.666 313.409
runSOMNiBUS           240.229 20.685 269.404
binomRegMethPredPlot   40.380  6.134  47.824
binomRegMethModelPlot  41.035  4.940  46.879
binomRegMethModelPred  38.502  5.245  44.934
splitDataByChromatin   26.069  0.819  27.941
splitDataByGene        22.736  2.758  27.028
formatFromBismark       5.498  0.662   6.363
splitDataByDensity      5.778  0.150   5.954
* checking for unstated dependencies in vignettes ... OK
* checking package vignettes ... OK
* checking running R code from vignettes ... SKIPPED
* checking re-building of vignette outputs ... SKIPPED
* checking PDF version of manual ... OK
* DONE

Status: OK


Installation output

SOMNiBUS.Rcheck/00install.out

##############################################################################
##############################################################################
###
### Running command:
###
###   /Library/Frameworks/R.framework/Resources/bin/R CMD INSTALL SOMNiBUS
###
##############################################################################
##############################################################################


* installing to library ‘/Library/Frameworks/R.framework/Versions/4.4-x86_64/Resources/library’
* installing *source* package ‘SOMNiBUS’ ...
** using staged installation
** R
** data
** inst
** byte-compile and prepare package for lazy loading
** help
*** installing help indices
** building package indices
** installing vignettes
** testing if installed package can be loaded from temporary location
** testing if installed package can be loaded from final location
** testing if installed package keeps a record of temporary installation path
* DONE (SOMNiBUS)

Tests output


Example timings

SOMNiBUS.Rcheck/SOMNiBUS-Ex.timings

nameusersystemelapsed
binomRegMethModel289.658 16.666313.409
binomRegMethModelPlot41.035 4.94046.879
binomRegMethModelPred38.502 5.24544.934
binomRegMethModelSim2.7280.3773.241
binomRegMethPredPlot40.380 6.13447.824
formatFromBSseq0.2920.0020.316
formatFromBismark5.4980.6626.363
runSOMNiBUS240.229 20.685269.404
splitDataByChromatin26.069 0.81927.941
splitDataByDensity5.7780.1505.954
splitDataByGRanges0.4470.0230.470
splitDataByGene22.736 2.75827.028
splitDataByRegion0.0250.0050.031