Back to Multiple platform build/check report for BioC 3.20:   simplified   long
ABCDEFGHIJKLMNOPQR[S]TUVWXYZ

This page was generated on 2025-02-06 12:07 -0500 (Thu, 06 Feb 2025).

HostnameOSArch (*)R versionInstalled pkgs
nebbiolo2Linux (Ubuntu 24.04.1 LTS)x86_644.4.2 (2024-10-31) -- "Pile of Leaves" 4753
palomino8Windows Server 2022 Datacenterx644.4.2 (2024-10-31 ucrt) -- "Pile of Leaves" 4501
merida1macOS 12.7.5 Montereyx86_644.4.2 (2024-10-31) -- "Pile of Leaves" 4524
kjohnson1macOS 13.6.6 Venturaarm644.4.2 (2024-10-31) -- "Pile of Leaves" 4476
taishanLinux (openEuler 24.03 LTS)aarch644.4.2 (2024-10-31) -- "Pile of Leaves" 4407
Click on any hostname to see more info about the system (e.g. compilers)      (*) as reported by 'uname -p', except on Windows and Mac OS X

Package 1937/2289HostnameOS / ArchINSTALLBUILDCHECKBUILD BIN
SeqVarTools 1.44.0  (landing page)
Stephanie M. Gogarten
Snapshot Date: 2025-02-03 13:00 -0500 (Mon, 03 Feb 2025)
git_url: https://git.bioconductor.org/packages/SeqVarTools
git_branch: RELEASE_3_20
git_last_commit: f9630cc
git_last_commit_date: 2024-10-29 09:47:21 -0500 (Tue, 29 Oct 2024)
nebbiolo2Linux (Ubuntu 24.04.1 LTS) / x86_64  OK    OK    OK  UNNEEDED, same version is already published
palomino8Windows Server 2022 Datacenter / x64  OK    OK    OK    OK  UNNEEDED, same version is already published
merida1macOS 12.7.5 Monterey / x86_64  OK    OK    OK    NA  
kjohnson1macOS 13.6.6 Ventura / arm64  OK    OK    OK    OK  UNNEEDED, same version is already published
taishanLinux (openEuler 24.03 LTS) / aarch64  OK    OK    OK  


CHECK results for SeqVarTools on palomino8

To the developers/maintainers of the SeqVarTools package:
- Allow up to 24 hours (and sometimes 48 hours) for your latest push to git@git.bioconductor.org:packages/SeqVarTools.git to reflect on this report. See Troubleshooting Build Report for more information.
- Use the following Renviron settings to reproduce errors and warnings.
- If 'R CMD check' started to fail recently on the Linux builder(s) over a missing dependency, add the missing dependency to 'Suggests:' in your DESCRIPTION file. See Renviron.bioc for more information.

raw results


Summary

Package: SeqVarTools
Version: 1.44.0
Command: F:\biocbuild\bbs-3.20-bioc\R\bin\R.exe CMD check --no-multiarch --install=check:SeqVarTools.install-out.txt --library=F:\biocbuild\bbs-3.20-bioc\R\library --no-vignettes --timings SeqVarTools_1.44.0.tar.gz
StartedAt: 2025-02-04 06:14:20 -0500 (Tue, 04 Feb 2025)
EndedAt: 2025-02-04 06:18:57 -0500 (Tue, 04 Feb 2025)
EllapsedTime: 277.2 seconds
RetCode: 0
Status:   OK  
CheckDir: SeqVarTools.Rcheck
Warnings: 0

Command output

##############################################################################
##############################################################################
###
### Running command:
###
###   F:\biocbuild\bbs-3.20-bioc\R\bin\R.exe CMD check --no-multiarch --install=check:SeqVarTools.install-out.txt --library=F:\biocbuild\bbs-3.20-bioc\R\library --no-vignettes --timings SeqVarTools_1.44.0.tar.gz
###
##############################################################################
##############################################################################


* using log directory 'F:/biocbuild/bbs-3.20-bioc/meat/SeqVarTools.Rcheck'
* using R version 4.4.2 (2024-10-31 ucrt)
* using platform: x86_64-w64-mingw32
* R was compiled by
    gcc.exe (GCC) 13.3.0
    GNU Fortran (GCC) 13.3.0
* running under: Windows Server 2022 x64 (build 20348)
* using session charset: UTF-8
* using option '--no-vignettes'
* checking for file 'SeqVarTools/DESCRIPTION' ... OK
* checking extension type ... Package
* this is package 'SeqVarTools' version '1.44.0'
* checking package namespace information ... OK
* checking package dependencies ... OK
* checking if this is a source package ... OK
* checking if there is a namespace ... OK
* checking for hidden files and directories ... OK
* checking for portable file names ... OK
* checking whether package 'SeqVarTools' can be installed ... OK
* checking installed package size ... OK
* checking package directory ... OK
* checking 'build' directory ... OK
* checking DESCRIPTION meta-information ... OK
* checking top-level files ... OK
* checking for left-over files ... OK
* checking index information ... OK
* checking package subdirectories ... OK
* checking code files for non-ASCII characters ... OK
* checking R files for syntax errors ... OK
* checking whether the package can be loaded ... OK
* checking whether the package can be loaded with stated dependencies ... OK
* checking whether the package can be unloaded cleanly ... OK
* checking whether the namespace can be loaded with stated dependencies ... OK
* checking whether the namespace can be unloaded cleanly ... OK
* checking dependencies in R code ... OK
* checking S3 generic/method consistency ... OK
* checking replacement functions ... OK
* checking foreign function calls ... OK
* checking R code for possible problems ... OK
* checking Rd files ... OK
* checking Rd metadata ... OK
* checking Rd cross-references ... OK
* checking for missing documentation entries ... OK
* checking for code/documentation mismatches ... OK
* checking Rd \usage sections ... OK
* checking Rd contents ... OK
* checking for unstated dependencies in examples ... OK
* checking contents of 'data' directory ... OK
* checking data for non-ASCII characters ... OK
* checking LazyData ... OK
* checking data for ASCII and uncompressed saves ... OK
* checking sizes of PDF files under 'inst/doc' ... OK
* checking files in 'vignettes' ... OK
* checking examples ... OK
* checking for unstated dependencies in 'tests' ... OK
* checking tests ...
  Running 'test.R'
 OK
* checking for unstated dependencies in vignettes ... OK
* checking package vignettes ... OK
* checking running R code from vignettes ... SKIPPED
* checking re-building of vignette outputs ... SKIPPED
* checking PDF version of manual ... OK
* DONE

Status: OK


Installation output

SeqVarTools.Rcheck/00install.out

##############################################################################
##############################################################################
###
### Running command:
###
###   F:\biocbuild\bbs-3.20-bioc\R\bin\R.exe CMD INSTALL SeqVarTools
###
##############################################################################
##############################################################################


* installing to library 'F:/biocbuild/bbs-3.20-bioc/R/library'
* installing *source* package 'SeqVarTools' ...
** using staged installation
** R
** data
*** moving datasets to lazyload DB
** inst
** byte-compile and prepare package for lazy loading
** help
*** installing help indices
** building package indices
** installing vignettes
** testing if installed package can be loaded from temporary location
** testing if installed package can be loaded from final location
** testing if installed package keeps a record of temporary installation path
* DONE (SeqVarTools)

Tests output

SeqVarTools.Rcheck/tests/test.Rout


R version 4.4.2 (2024-10-31 ucrt) -- "Pile of Leaves"
Copyright (C) 2024 The R Foundation for Statistical Computing
Platform: x86_64-w64-mingw32/x64

R is free software and comes with ABSOLUTELY NO WARRANTY.
You are welcome to redistribute it under certain conditions.
Type 'license()' or 'licence()' for distribution details.

R is a collaborative project with many contributors.
Type 'contributors()' for more information and
'citation()' on how to cite R or R packages in publications.

Type 'demo()' for some demos, 'help()' for on-line help, or
'help.start()' for an HTML browser interface to help.
Type 'q()' to quit R.

> library(GenomicRanges)
Loading required package: stats4
Loading required package: BiocGenerics

Attaching package: 'BiocGenerics'

The following objects are masked from 'package:stats':

    IQR, mad, sd, var, xtabs

The following objects are masked from 'package:base':

    Filter, Find, Map, Position, Reduce, anyDuplicated, aperm, append,
    as.data.frame, basename, cbind, colnames, dirname, do.call,
    duplicated, eval, evalq, get, grep, grepl, intersect, is.unsorted,
    lapply, mapply, match, mget, order, paste, pmax, pmax.int, pmin,
    pmin.int, rank, rbind, rownames, sapply, saveRDS, setdiff, table,
    tapply, union, unique, unsplit, which.max, which.min

Loading required package: S4Vectors

Attaching package: 'S4Vectors'

The following object is masked from 'package:utils':

    findMatches

The following objects are masked from 'package:base':

    I, expand.grid, unname

Loading required package: IRanges

Attaching package: 'IRanges'

The following object is masked from 'package:grDevices':

    windows

Loading required package: GenomeInfoDb
> BiocGenerics:::testPackage("SeqVarTools")
Loading required package: Biobase
Welcome to Bioconductor

    Vignettes contain introductory material; view with
    'browseVignettes()'. To cite Bioconductor, see
    'citation("Biobase")', and for packages 'citation("pkgname")'.

# of selected samples: 5
# of selected variants: 5
# of selected samples: 5
# of selected variants: 10
# of selected samples: 90
# of selected variants: 1,348
# of selected samples: 90
# of selected variants: 1,348
# of selected samples: 3
# of selected samples: 3
matching samples... 2 pairs identified!
matching variants... 1346 non-overlapping variant matches identified!
# of selected samples: 2
# of selected variants: 1,346
# of selected samples: 90
# of selected variants: 1,348
# of selected samples: 90
# of selected variants: 1,348
# of selected samples: 2
# of selected variants: 50
# of selected samples: 2
# of selected variants: 51
matching samples... 2 pairs identified!
matching variants... 26 non-overlapping variant matches identified!
# of selected variants: 26
# of selected samples: 90
# of selected variants: 1,348
# of selected samples: 5
# of selected variants: 10
# of selected samples: 5
# of selected variants: 10
File: F:\biocbuild\bbs-3.20-bioc\R\library\SeqArray\extdata\CEU_Exon.gds (287.6K)
+    [  ] *
|--+ description   [  ] *
|--+ sample.id   { Str8 90 LZMA_ra(34.7%), 257B } *
|--+ variant.id   { Int32 1348 LZMA_ra(16.7%), 905B } *
|--+ position   { Int32 1348 LZMA_ra(64.4%), 3.4K } *
|--+ chromosome   { Str8 1348 LZMA_ra(4.39%), 157B } *
|--+ allele   { Str8 1348 LZMA_ra(16.6%), 901B } *
|--+ genotype   [  ] *
|  |--+ data   { Bit2 2x90x1348 LZMA_ra(26.3%), 15.6K } *
|  |--+ ~data   { Bit2 2x1348x90 LZMA_ra(29.2%), 17.3K } *
|  |--+ extra.index   { Int32 3x0 LZMA_ra, 18B } *
|  \--+ extra   { Int16 0 LZMA_ra, 18B }
|--+ phase   [  ]
|  |--+ data   { Bit1 90x1348 LZMA_ra(0.86%), 137B } *
|  |--+ ~data   { Bit1 1348x90 LZMA_ra(0.86%), 137B } *
|  |--+ extra.index   { Int32 3x0 LZMA_ra, 18B } *
|  \--+ extra   { Bit1 0 LZMA_ra, 18B }
|--+ annotation   [  ]
|  |--+ id   { Str8 1348 LZMA_ra(38.3%), 5.5K } *
|  |--+ qual   { Float32 1348 LZMA_ra(2.11%), 121B } *
|  |--+ filter   { Int32,factor 1348 LZMA_ra(2.11%), 121B } *
|  |--+ info   [  ]
|  |  |--+ AA   { Str8 1328 LZMA_ra(22.1%), 593B } *
|  |  |--+ AC   { Int32 1348 LZMA_ra(24.1%), 1.3K } *
|  |  |--+ AN   { Int32 1348 LZMA_ra(19.6%), 1.0K } *
|  |  |--+ DP   { Int32 1348 LZMA_ra(47.7%), 2.5K } *
|  |  |--+ HM2   { Bit1 1348 LZMA_ra(145.6%), 253B } *
|  |  |--+ HM3   { Bit1 1348 LZMA_ra(145.6%), 253B } *
|  |  |--+ OR   { Str8 1348 LZMA_ra(19.6%), 341B } *
|  |  |--+ GP   { Str8 1348 LZMA_ra(24.3%), 3.8K } *
|  |  \--+ BN   { Int32 1348 LZMA_ra(20.7%), 1.1K } *
|  \--+ format   [  ]
|     \--+ DP   [  ] *
|        |--+ data   { VL_Int 90x1348 LZMA_ra(70.8%), 115.2K } *
|        \--+ ~data   { VL_Int 1348x90 LZMA_ra(65.1%), 105.9K } *
\--+ sample.annotation   [  ]
   \--+ family   { Str8 90 LZMA_ra(55.0%), 221B } *
# of selected variants: 142
# of selected samples: 90
# of selected variants: 1,348
# of selected variants: 5
# of selected samples: 90
# of selected variants: 1,348
# of selected samples: 5
# of selected variants: 5
# of selected samples: 90
# of selected variants: 1,348
# of selected samples: 90
# of selected variants: 1,348
# of selected samples: 3
# of selected samples: 3
matching samples... 2 pairs identified!
matching variants... 1346 variant matches identified!
matching samples... 2 pairs identified!
matching variants... 1346 variant matches identified!
# of selected samples: 90
# of selected variants: 1,348
# of selected samples: 90
# of selected variants: 1,348
# of selected samples: 2
# of selected variants: 50
# of selected samples: 2
# of selected variants: 51
matching samples... 2 pairs identified!
matching variants... 26 variant matches identified!
matching samples... 2 pairs identified!
matching variants... 26 variant matches identified!
# of selected variants: 26
# of selected samples: 90
# of selected variants: 1,348
# of selected samples: 90
# of selected variants: 1,348
# of selected samples: 3
# of selected samples: 3
matching samples... 2 pairs identified!
matching variants... 1346 variant matches identified!
matching samples... 2 pairs identified!
matching variants... 1346 variant matches identified!
matching samples... 2 pairs identified!
matching variants... 1346 variant matches identified!
matching samples... 2 pairs identified!
matching variants... 1346 variant matches identified!
# of selected samples: 90
# of selected variants: 1,348
# of selected samples: 90
# of selected variants: 1,348
# of selected samples: 2
# of selected variants: 50
# of selected samples: 2
# of selected variants: 51
matching samples... 2 pairs identified!
matching variants... 26 variant matches identified!
matching samples... 2 pairs identified!
matching variants... 26 variant matches identified!
# of selected variants: 26
Warning in SeqVarTools:::.samplePairs1(samples) :
  More than two samples for subject 4
Selecting first two samples: samp7, samp8
# of selected samples: 5
# of selected variants: 10
# of selected samples: 5
# of selected variants: 10
# of selected samples: 5
# of selected variants: 10
# of selected samples: 5
# of selected variants: 10
# of selected samples: 5
# of selected variants: 10
# of selected samples: 90
# of selected variants: 1,348
# of selected samples: 5
# of selected variants: 10
# of selected samples: 5
# of selected variants: 10
# of selected samples: 5
# of selected variants: 10
# of selected samples: 90
# of selected variants: 1,348
# of selected samples: 5
# of selected variants: 10
# of selected samples: 5
# of selected variants: 10
# of selected variants: 1,346
# of selected variants: 1,330
# of selected samples: 5
# of selected variants: 10
# of selected samples: 90
# of selected variants: 1,348
# of selected samples: 5
# of selected variants: 10
# of selected samples: 5
# of selected variants: 10
# of selected samples: 5
# of selected variants: 10
# of selected samples: 90
# of selected variants: 1,348
# of selected samples: 5
# of selected variants: 10
# of selected samples: 3
# of selected variants: 10
# of selected samples: 3
# of selected samples: 90
# of selected variants: 1,348
# of selected variants: 10
# of selected samples: 3
# of selected samples: 5
# of selected variants: 10
# of selected samples: 90
# of selected variants: 1,348
# of selected samples: 5
# of selected variants: 10
# of selected samples: 5
# of selected variants: 10
starting worker pid=53156 on localhost:11984 at 06:17:21.918
starting worker pid=79728 on localhost:11984 at 06:17:21.974
starting worker pid=110584 on localhost:11984 at 06:17:22.043
starting worker pid=57204 on localhost:11984 at 06:17:22.049
starting worker pid=91608 on localhost:11984 at 06:17:22.089
starting worker pid=67568 on localhost:11984 at 06:17:22.133
starting worker pid=108476 on localhost:11984 at 06:17:22.161
starting worker pid=130672 on localhost:11984 at 06:17:22.164
starting worker pid=138576 on localhost:11984 at 06:17:22.168
starting worker pid=22936 on localhost:11984 at 06:17:22.172
starting worker pid=51892 on localhost:11984 at 06:17:22.180
starting worker pid=55612 on localhost:11984 at 06:17:22.189
starting worker pid=37328 on localhost:11984 at 06:17:22.202
starting worker pid=44276 on localhost:11984 at 06:17:22.205
starting worker pid=102048 on localhost:11984 at 06:17:22.206
starting worker pid=9956 on localhost:11984 at 06:17:22.229
starting worker pid=118864 on localhost:11984 at 06:17:22.259
starting worker pid=106400 on localhost:11984 at 06:17:22.265
starting worker pid=72644 on localhost:11984 at 06:17:22.282
starting worker pid=92592 on localhost:11984 at 06:17:22.285
starting worker pid=74116 on localhost:11984 at 06:17:22.317
starting worker pid=23388 on localhost:11984 at 06:17:22.317
starting worker pid=90312 on localhost:11984 at 06:17:22.323
starting worker pid=79472 on localhost:11984 at 06:17:22.364
starting worker pid=43040 on localhost:11984 at 06:17:22.370
starting worker pid=74448 on localhost:11984 at 06:17:22.376
starting worker pid=127308 on localhost:11984 at 06:17:22.390
starting worker pid=50388 on localhost:11984 at 06:17:22.396
starting worker pid=35380 on localhost:11984 at 06:17:22.463
starting worker pid=16196 on localhost:11984 at 06:17:22.471
starting worker pid=93836 on localhost:11984 at 06:17:22.530
starting worker pid=102352 on localhost:11984 at 06:17:31.902
starting worker pid=136752 on localhost:11984 at 06:17:32.048
starting worker pid=117952 on localhost:11984 at 06:17:32.057
starting worker pid=52372 on localhost:11984 at 06:17:32.061
starting worker pid=81600 on localhost:11984 at 06:17:32.115
starting worker pid=67424 on localhost:11984 at 06:17:32.127
starting worker pid=99224 on localhost:11984 at 06:17:32.127
starting worker pid=40312 on localhost:11984 at 06:17:32.132
starting worker pid=72852 on localhost:11984 at 06:17:32.233
starting worker pid=77880 on localhost:11984 at 06:17:32.296
starting worker pid=98260 on localhost:11984 at 06:17:32.311
starting worker pid=122924 on localhost:11984 at 06:17:32.327
starting worker pid=54320 on localhost:11984 at 06:17:32.344
starting worker pid=92080 on localhost:11984 at 06:17:32.346
starting worker pid=83352 on localhost:11984 at 06:17:32.367
starting worker pid=139540 on localhost:11984 at 06:17:32.370
starting worker pid=75024 on localhost:11984 at 06:17:32.384
starting worker pid=103400 on localhost:11984 at 06:17:32.387
starting worker pid=82352 on localhost:11984 at 06:17:32.392
starting worker pid=93772 on localhost:11984 at 06:17:32.421
starting worker pid=64492 on localhost:11984 at 06:17:32.437
starting worker pid=141004 on localhost:11984 at 06:17:32.451
starting worker pid=40324 on localhost:11984 at 06:17:32.467
starting worker pid=32960 on localhost:11984 at 06:17:32.473
starting worker pid=38168 on localhost:11984 at 06:17:32.481
starting worker pid=101480 on localhost:11984 at 06:17:32.522
starting worker pid=56248 on localhost:11984 at 06:17:32.551
starting worker pid=115880 on localhost:11984 at 06:17:32.572
starting worker pid=80080 on localhost:11984 at 06:17:32.584
starting worker pid=40140 on localhost:11984 at 06:17:32.660
starting worker pid=117656 on localhost:11984 at 06:17:32.672
starting worker pid=88500 on localhost:11984 at 06:17:51.422
starting worker pid=64680 on localhost:11984 at 06:17:51.444
starting worker pid=124628 on localhost:11984 at 06:17:51.478
starting worker pid=98380 on localhost:11984 at 06:17:51.515
starting worker pid=125028 on localhost:11984 at 06:17:51.562
starting worker pid=139436 on localhost:11984 at 06:17:51.563
starting worker pid=27644 on localhost:11984 at 06:17:51.578
starting worker pid=97060 on localhost:11984 at 06:17:51.581
starting worker pid=18844 on localhost:11984 at 06:17:51.647
starting worker pid=100260 on localhost:11984 at 06:17:51.648
starting worker pid=122756 on localhost:11984 at 06:17:51.656
starting worker pid=87284 on localhost:11984 at 06:17:51.659
starting worker pid=117044 on localhost:11984 at 06:17:51.715
starting worker pid=111904 on localhost:11984 at 06:17:51.743
starting worker pid=95952 on localhost:11984 at 06:17:51.788
starting worker pid=76732 on localhost:11984 at 06:17:51.834
starting worker pid=74160 on localhost:11984 at 06:17:51.835
starting worker pid=80148 on localhost:11984 at 06:17:51.856
starting worker pid=133828 on localhost:11984 at 06:17:51.860
starting worker pid=54344 on localhost:11984 at 06:17:51.881
starting worker pid=135420 on localhost:11984 at 06:17:51.882
starting worker pid=110556 on localhost:11984 at 06:17:51.885
starting worker pid=57412 on localhost:11984 at 06:17:51.890
starting worker pid=23584 on localhost:11984 at 06:17:51.917
starting worker pid=76008 on localhost:11984 at 06:17:51.983
starting worker pid=135512 on localhost:11984 at 06:17:52.053
starting worker pid=29044 on localhost:11984 at 06:17:52.061
starting worker pid=32112 on localhost:11984 at 06:17:52.063
starting worker pid=56432 on localhost:11984 at 06:17:52.065
starting worker pid=97624 on localhost:11984 at 06:17:52.074
starting worker pid=143344 on localhost:11984 at 06:17:52.081
starting worker pid=124436 on localhost:11984 at 06:18:01.730
starting worker pid=38180 on localhost:11984 at 06:18:01.749
starting worker pid=28600 on localhost:11984 at 06:18:01.772
starting worker pid=112716 on localhost:11984 at 06:18:01.783
starting worker pid=32388 on localhost:11984 at 06:18:01.788
starting worker pid=98956 on localhost:11984 at 06:18:01.807
starting worker pid=127844 on localhost:11984 at 06:18:01.813
starting worker pid=64880 on localhost:11984 at 06:18:01.814
starting worker pid=476 on localhost:11984 at 06:18:01.844
starting worker pid=52136 on localhost:11984 at 06:18:01.876
starting worker pid=109292 on localhost:11984 at 06:18:01.895
starting worker pid=89820 on localhost:11984 at 06:18:01.900
starting worker pid=114884 on localhost:11984 at 06:18:01.909
starting worker pid=27416 on localhost:11984 at 06:18:01.922
starting worker pid=58488 on localhost:11984 at 06:18:01.978
starting worker pid=139404 on localhost:11984 at 06:18:01.981
starting worker pid=28508 on localhost:11984 at 06:18:02.020
starting worker pid=103104 on localhost:11984 at 06:18:02.031
starting worker pid=99068 on localhost:11984 at 06:18:02.034
starting worker pid=18136 on localhost:11984 at 06:18:02.100
starting worker pid=4652 on localhost:11984 at 06:18:02.112
starting worker pid=47084 on localhost:11984 at 06:18:02.119
starting worker pid=119456 on localhost:11984 at 06:18:02.123
starting worker pid=85676 on localhost:11984 at 06:18:02.132
starting worker pid=9000 on localhost:11984 at 06:18:02.138
starting worker pid=134300 on localhost:11984 at 06:18:02.139
starting worker pid=67220 on localhost:11984 at 06:18:02.141
starting worker pid=99468 on localhost:11984 at 06:18:02.162
starting worker pid=27672 on localhost:11984 at 06:18:02.172
starting worker pid=88792 on localhost:11984 at 06:18:02.192
starting worker pid=135464 on localhost:11984 at 06:18:02.252
starting worker pid=86624 on localhost:11984 at 06:18:21.382
starting worker pid=17572 on localhost:11984 at 06:18:21.459
starting worker pid=90768 on localhost:11984 at 06:18:21.513
starting worker pid=100464 on localhost:11984 at 06:18:21.525
starting worker pid=53120 on localhost:11984 at 06:18:21.527
starting worker pid=46648 on localhost:11984 at 06:18:21.530
starting worker pid=33640 on localhost:11984 at 06:18:21.536
starting worker pid=127696 on localhost:11984 at 06:18:21.683
starting worker pid=111284 on localhost:11984 at 06:18:21.721
starting worker pid=96540 on localhost:11984 at 06:18:21.739
starting worker pid=126212 on localhost:11984 at 06:18:21.750
starting worker pid=119352 on localhost:11984 at 06:18:21.755
starting worker pid=90132 on localhost:11984 at 06:18:21.762
starting worker pid=101268 on localhost:11984 at 06:18:22.132
starting worker pid=68284 on localhost:11984 at 06:18:22.176
starting worker pid=128992 on localhost:11984 at 06:18:22.182
starting worker pid=32536 on localhost:11984 at 06:18:22.189
starting worker pid=24036 on localhost:11984 at 06:18:22.193
starting worker pid=138768 on localhost:11984 at 06:18:22.227
starting worker pid=26332 on localhost:11984 at 06:18:22.241
starting worker pid=65228 on localhost:11984 at 06:18:22.257
starting worker pid=91736 on localhost:11984 at 06:18:22.264
starting worker pid=113236 on localhost:11984 at 06:18:22.286
starting worker pid=106272 on localhost:11984 at 06:18:22.290
starting worker pid=127804 on localhost:11984 at 06:18:22.301
starting worker pid=24740 on localhost:11984 at 06:18:22.316
starting worker pid=86528 on localhost:11984 at 06:18:22.319
starting worker pid=134408 on localhost:11984 at 06:18:22.332
starting worker pid=8040 on localhost:11984 at 06:18:22.336
starting worker pid=44436 on localhost:11984 at 06:18:22.387
starting worker pid=9056 on localhost:11984 at 06:18:22.435
# of selected samples: 5
# of selected variants: 10
# of selected samples: 90
# of selected variants: 1,348
# of selected samples: 5
# of selected variants: 10
# of selected variants: 903
# of selected samples: 59
# of selected samples: 58
# of selected samples: 32
# of selected samples: 5
# of selected variants: 10
# of selected samples: 90
# of selected variants: 1,348
# of selected samples: 5
# of selected variants: 10
# of selected samples: 5
# of selected variants: 10
# of selected samples: 90
# of selected variants: 1,348
# of selected samples: 5
# of selected variants: 10
# of selected samples: 10
# of selected samples: 10
# of selected variants: 10
# of selected samples: 10


RUNIT TEST PROTOCOL -- Tue Feb  4 06:18:46 2025 
*********************************************** 
Number of test functions: 152 
Number of errors: 0 
Number of failures: 0 

 
1 Test Suite : 
SeqVarTools RUnit Tests - 152 test functions, 0 errors, 0 failures
Number of test functions: 152 
Number of errors: 0 
Number of failures: 0 
> 
> proc.time()
   user  system elapsed 
  26.89    2.54  108.37 

Example timings

SeqVarTools.Rcheck/SeqVarTools-Ex.timings

nameusersystemelapsed
Iterator-class0.660.030.69
SeqVarData-class0.070.020.07
allele-methods0.010.000.01
alleleFrequency0.000.010.02
alternateAlleleDetection000
applyMethod0.250.050.29
countSingletons0.020.020.03
duplicateDiscordance0.160.010.18
getGenotype0.040.020.06
getVariableLengthData000
heterozygosity0.220.010.23
hwe0.050.000.05
imputedDosage0.280.020.34
inbreedCoeff0.160.020.18
isSNV0.010.000.01
isVariant000
meanBySample0.040.000.04
mendelErr0.030.000.04
missingGenotypeRate0.000.010.01
pca1.040.021.05
pedigree0.000.010.01
refFrac0.040.000.07
regression0.10.00.1
setVariantID0.010.000.04
titv0.250.030.28
variantInfo0.030.020.05