Back to Multiple platform build/check report for BioC 3.20:   simplified   long
ABCDEFGHIJKLMNOPQR[S]TUVWXYZ

This page was generated on 2025-02-03 12:11 -0500 (Mon, 03 Feb 2025).

HostnameOSArch (*)R versionInstalled pkgs
nebbiolo2Linux (Ubuntu 24.04.1 LTS)x86_644.4.2 (2024-10-31) -- "Pile of Leaves" 4746
palomino8Windows Server 2022 Datacenterx644.4.2 (2024-10-31 ucrt) -- "Pile of Leaves" 4494
merida1macOS 12.7.5 Montereyx86_644.4.2 (2024-10-31) -- "Pile of Leaves" 4517
kjohnson1macOS 13.6.6 Venturaarm644.4.2 (2024-10-31) -- "Pile of Leaves" 4469
taishanLinux (openEuler 24.03 LTS)aarch644.4.2 (2024-10-31) -- "Pile of Leaves" 4400
Click on any hostname to see more info about the system (e.g. compilers)      (*) as reported by 'uname -p', except on Windows and Mac OS X

Package 2019/2289HostnameOS / ArchINSTALLBUILDCHECKBUILD BIN
SpatialFeatureExperiment 1.8.6  (landing page)
Lambda Moses
Snapshot Date: 2025-01-30 13:00 -0500 (Thu, 30 Jan 2025)
git_url: https://git.bioconductor.org/packages/SpatialFeatureExperiment
git_branch: RELEASE_3_20
git_last_commit: af85a1c
git_last_commit_date: 2025-01-28 14:21:31 -0500 (Tue, 28 Jan 2025)
nebbiolo2Linux (Ubuntu 24.04.1 LTS) / x86_64  OK    OK    OK  YES
palomino8Windows Server 2022 Datacenter / x64  OK    OK    OK    OK  YES
merida1macOS 12.7.5 Monterey / x86_64  OK    OK    OK    OK  YES
kjohnson1macOS 13.6.6 Ventura / arm64  OK    OK    ERROR    OK  
taishanLinux (openEuler 24.03 LTS) / aarch64  ERROR    ERROR  skipped


CHECK results for SpatialFeatureExperiment on kjohnson1

To the developers/maintainers of the SpatialFeatureExperiment package:
- Allow up to 24 hours (and sometimes 48 hours) for your latest push to git@git.bioconductor.org:packages/SpatialFeatureExperiment.git to reflect on this report. See Troubleshooting Build Report for more information.
- Use the following Renviron settings to reproduce errors and warnings.
- If 'R CMD check' started to fail recently on the Linux builder(s) over a missing dependency, add the missing dependency to 'Suggests:' in your DESCRIPTION file. See Renviron.bioc for more information.

raw results


Summary

Package: SpatialFeatureExperiment
Version: 1.8.6
Command: /Library/Frameworks/R.framework/Resources/bin/R CMD check --install=check:SpatialFeatureExperiment.install-out.txt --library=/Library/Frameworks/R.framework/Resources/library --no-vignettes --timings SpatialFeatureExperiment_1.8.6.tar.gz
StartedAt: 2025-02-01 10:14:21 -0500 (Sat, 01 Feb 2025)
EndedAt: 2025-02-01 10:39:59 -0500 (Sat, 01 Feb 2025)
EllapsedTime: 1538.4 seconds
RetCode: 1
Status:   ERROR  
CheckDir: SpatialFeatureExperiment.Rcheck
Warnings: NA

Command output

##############################################################################
##############################################################################
###
### Running command:
###
###   /Library/Frameworks/R.framework/Resources/bin/R CMD check --install=check:SpatialFeatureExperiment.install-out.txt --library=/Library/Frameworks/R.framework/Resources/library --no-vignettes --timings SpatialFeatureExperiment_1.8.6.tar.gz
###
##############################################################################
##############################################################################


* using log directory ‘/Users/biocbuild/bbs-3.20-bioc/meat/SpatialFeatureExperiment.Rcheck’
* using R version 4.4.2 (2024-10-31)
* using platform: aarch64-apple-darwin20
* R was compiled by
    Apple clang version 14.0.0 (clang-1400.0.29.202)
    GNU Fortran (GCC) 12.2.0
* running under: macOS Ventura 13.7.1
* using session charset: UTF-8
* using option ‘--no-vignettes’
* checking for file ‘SpatialFeatureExperiment/DESCRIPTION’ ... OK
* checking extension type ... Package
* this is package ‘SpatialFeatureExperiment’ version ‘1.8.6’
* package encoding: UTF-8
* checking package namespace information ... OK
* checking package dependencies ... OK
* checking if this is a source package ... OK
* checking if there is a namespace ... OK
* checking for hidden files and directories ... OK
* checking for portable file names ... OK
* checking for sufficient/correct file permissions ... OK
* checking whether package ‘SpatialFeatureExperiment’ can be installed ... OK
* checking installed package size ... OK
* checking package directory ... OK
* checking ‘build’ directory ... OK
* checking DESCRIPTION meta-information ... OK
* checking top-level files ... OK
* checking for left-over files ... OK
* checking index information ... OK
* checking package subdirectories ... OK
* checking code files for non-ASCII characters ... OK
* checking R files for syntax errors ... OK
* checking whether the package can be loaded ... OK
* checking whether the package can be loaded with stated dependencies ... OK
* checking whether the package can be unloaded cleanly ... OK
* checking whether the namespace can be loaded with stated dependencies ... OK
* checking whether the namespace can be unloaded cleanly ... OK
* checking whether startup messages can be suppressed ... OK
* checking dependencies in R code ... NOTE
Unexported objects imported by ':::' calls:
  ‘S4Vectors:::disableValidity’ ‘spdep:::minmax.listw’
  See the note in ?`:::` about the use of this operator.
* checking S3 generic/method consistency ... OK
* checking replacement functions ... OK
* checking foreign function calls ... OK
* checking R code for possible problems ... NOTE
.seu_to_sfe: warning in do.call(setdiff, arg = assays_n): partial
  argument match of 'arg' to 'args'
.seu_to_sfe: warning in do.call(intersect, arg = assays_n): partial
  argument match of 'arg' to 'args'
.seu_to_sfe : <anonymous>: warning in do.call(setdiff, arg = assays_n):
  partial argument match of 'arg' to 'args'
.filter_polygons: no visible binding for global variable ‘ID_row’
.no_raw_bytes: no visible binding for global variable ‘xoa_version’
.no_raw_bytes: no visible binding for global variable ‘major_version’
.no_raw_bytes: no visible binding for global variable ‘minor_version’
.no_raw_bytes: no visible binding for global variable
  ‘instrument_version’
.read10xVisium: no visible global function definition for
  ‘spatialCoordsNames<-’
addTxTech: no visible binding for global variable ‘gene_col’
addTxTech: no visible binding for global variable ‘cell_col’
addTxTech: no visible binding for global variable ‘fn’
aggregateTx: no visible global function definition for ‘tail’
aggregateTxTech: no visible binding for global variable ‘gene_col’
aggregateTxTech: no visible binding for global variable ‘cell_col’
aggregateTxTech: no visible binding for global variable ‘fn’
aggregateTxTech: no visible binding for global variable ‘xoa_version’
aggregateTxTech: no visible binding for global variable ‘major_version’
aggregateTxTech: no visible binding for global variable ‘minor_version’
aggregateTxTech: no visible binding for global variable
  ‘instrument_version’
findVisiumHDGraph: no visible binding for global variable ‘..cols’
formatTxTech: no visible binding for global variable ‘gene_col’
formatTxTech: no visible binding for global variable ‘cell_col’
formatTxTech: no visible binding for global variable ‘fn’
readVizgen: no visible binding for global variable ‘img_df’
readXenium: no visible binding for global variable ‘xoa_version’
readXenium: no visible binding for global variable ‘major_version’
readXenium: no visible binding for global variable ‘minor_version’
readXenium: no visible binding for global variable ‘instrument_version’
readXenium: no visible binding for global variable ‘img_df’
Undefined global functions or variables:
  ..cols ID_row cell_col fn gene_col img_df instrument_version
  major_version minor_version spatialCoordsNames<- tail xoa_version
Consider adding
  importFrom("utils", "tail")
to your NAMESPACE file.
* checking Rd files ... OK
* checking Rd metadata ... OK
* checking Rd cross-references ... OK
* checking for missing documentation entries ... OK
* checking for code/documentation mismatches ... OK
* checking Rd \usage sections ... OK
* checking Rd contents ... OK
* checking for unstated dependencies in examples ... OK
* checking contents of ‘data’ directory ... OK
* checking data for non-ASCII characters ... OK
* checking data for ASCII and uncompressed saves ... OK
* checking R/sysdata.rda ... OK
* checking files in ‘vignettes’ ... OK
* checking examples ... OK
Examples with CPU (user + system) or elapsed time > 5s
                                                       user system elapsed
formatTxSpots                                        22.368  1.313  25.207
Img-set-SpatialExperiment-method                     19.269  1.685  20.895
readXenium                                           15.782  0.692  16.100
rowGeometries                                        13.021  0.714  13.790
spatialGraphs                                        11.802  0.383  13.945
removeEmptySpace                                     11.352  0.366  12.819
cbind-SpatialFeatureExperiment-method                 8.897  0.357  10.968
dimGeometries                                         8.877  0.363  11.016
findVisiumGraph                                       7.585  0.369   9.667
formatTxTech                                          7.270  0.490   7.806
findSpatialNeighbors-SpatialFeatureExperiment-method  6.932  0.356   9.102
getPixelSize                                          6.009  0.309   6.774
crop                                                  5.853  0.216   7.028
SFE-transform                                         5.476  0.203   6.531
readVizgen                                            5.322  0.261   5.958
annotSummary                                          4.420  0.180   5.493
listw2sparse                                          4.320  0.194   5.382
bbox-SpatialFeatureExperiment-method                  4.123  0.183   5.164
annotPred                                             4.064  0.179   5.113
annotOp                                               4.022  0.185   5.073
getParams                                             3.958  0.248   5.482
* checking for unstated dependencies in ‘tests’ ... OK
* checking tests ...
  Running ‘testthat.R’
 ERROR
Running the tests in ‘tests/testthat.R’ failed.
Last 13 lines of output:
    'test-read.R:158:5', 'test-read.R:168:5', 'test-read.R:175:5',
    'test-read.R:187:5'
  • gdalParquetAvailable() is not TRUE (3): 'test-formatTxSpots.R:113:5',
    'test-formatTxSpots.R:140:5', 'test-formatTxSpots.R:157:5'
  
  ══ Failed tests ════════════════════════════════════════════════════════════════
  ── Failure ('test-formatTxSpots.R:13:5'): Read MERFISH transcript spots into rowGeometries ──
  sum(v$mosaic_PolyT_z3 < 30, na.rm = TRUE) < 10 is not TRUE
  
  `actual`:   FALSE
  `expected`: TRUE 
  
  [ FAIL 1 | WARN 0 | SKIP 10 | PASS 1256 ]
  Error: Test failures
  Execution halted
* checking for unstated dependencies in vignettes ... OK
* checking package vignettes ... OK
* checking running R code from vignettes ... SKIPPED
* checking re-building of vignette outputs ... SKIPPED
* checking PDF version of manual ... OK
* DONE

Status: 1 ERROR, 2 NOTEs
See
  ‘/Users/biocbuild/bbs-3.20-bioc/meat/SpatialFeatureExperiment.Rcheck/00check.log’
for details.


Installation output

SpatialFeatureExperiment.Rcheck/00install.out

##############################################################################
##############################################################################
###
### Running command:
###
###   /Library/Frameworks/R.framework/Resources/bin/R CMD INSTALL SpatialFeatureExperiment
###
##############################################################################
##############################################################################


* installing to library ‘/Library/Frameworks/R.framework/Versions/4.4-arm64/Resources/library’
* installing *source* package ‘SpatialFeatureExperiment’ ...
** using staged installation
** R
** data
** inst
** byte-compile and prepare package for lazy loading
in method for ‘toSpatialFeatureExperiment’ with signature ‘"Seurat"’: no definition for class “Seurat”
Creating a generic function for ‘NROW’ from package ‘base’ in package ‘SpatialFeatureExperiment’
Creating a generic function for ‘NCOL’ from package ‘base’ in package ‘SpatialFeatureExperiment’
Creating a generic function for ‘saveRDS’ from package ‘base’ in package ‘SpatialFeatureExperiment’
Creating a generic function for ‘readRDS’ from package ‘base’ in package ‘SpatialFeatureExperiment’
** help
*** installing help indices
** building package indices
** installing vignettes
** testing if installed package can be loaded from temporary location
** testing if installed package can be loaded from final location
** testing if installed package keeps a record of temporary installation path
* DONE (SpatialFeatureExperiment)

Tests output

SpatialFeatureExperiment.Rcheck/tests/testthat.Rout.fail


R version 4.4.2 (2024-10-31) -- "Pile of Leaves"
Copyright (C) 2024 The R Foundation for Statistical Computing
Platform: aarch64-apple-darwin20

R is free software and comes with ABSOLUTELY NO WARRANTY.
You are welcome to redistribute it under certain conditions.
Type 'license()' or 'licence()' for distribution details.

R is a collaborative project with many contributors.
Type 'contributors()' for more information and
'citation()' on how to cite R or R packages in publications.

Type 'demo()' for some demos, 'help()' for on-line help, or
'help.start()' for an HTML browser interface to help.
Type 'q()' to quit R.

> library(testthat)
> library(SpatialFeatureExperiment)

Attaching package: 'SpatialFeatureExperiment'

The following object is masked from 'package:base':

    scale

> 
> test_check("SpatialFeatureExperiment")
Linking to GEOS 3.11.0, GDAL 3.5.3, PROJ 9.1.0; sf_use_s2() is TRUE
Loading required package: SummarizedExperiment
Loading required package: MatrixGenerics
Loading required package: matrixStats

Attaching package: 'MatrixGenerics'

The following objects are masked from 'package:matrixStats':

    colAlls, colAnyNAs, colAnys, colAvgsPerRowSet, colCollapse,
    colCounts, colCummaxs, colCummins, colCumprods, colCumsums,
    colDiffs, colIQRDiffs, colIQRs, colLogSumExps, colMadDiffs,
    colMads, colMaxs, colMeans2, colMedians, colMins, colOrderStats,
    colProds, colQuantiles, colRanges, colRanks, colSdDiffs, colSds,
    colSums2, colTabulates, colVarDiffs, colVars, colWeightedMads,
    colWeightedMeans, colWeightedMedians, colWeightedSds,
    colWeightedVars, rowAlls, rowAnyNAs, rowAnys, rowAvgsPerColSet,
    rowCollapse, rowCounts, rowCummaxs, rowCummins, rowCumprods,
    rowCumsums, rowDiffs, rowIQRDiffs, rowIQRs, rowLogSumExps,
    rowMadDiffs, rowMads, rowMaxs, rowMeans2, rowMedians, rowMins,
    rowOrderStats, rowProds, rowQuantiles, rowRanges, rowRanks,
    rowSdDiffs, rowSds, rowSums2, rowTabulates, rowVarDiffs, rowVars,
    rowWeightedMads, rowWeightedMeans, rowWeightedMedians,
    rowWeightedSds, rowWeightedVars

Loading required package: GenomicRanges
Loading required package: stats4
Loading required package: BiocGenerics

Attaching package: 'BiocGenerics'

The following object is masked from 'package:SpatialFeatureExperiment':

    saveRDS

The following objects are masked from 'package:stats':

    IQR, mad, sd, var, xtabs

The following objects are masked from 'package:base':

    Filter, Find, Map, Position, Reduce, anyDuplicated, aperm, append,
    as.data.frame, basename, cbind, colnames, dirname, do.call,
    duplicated, eval, evalq, get, grep, grepl, intersect, is.unsorted,
    lapply, mapply, match, mget, order, paste, pmax, pmax.int, pmin,
    pmin.int, rank, rbind, rownames, sapply, saveRDS, setdiff, table,
    tapply, union, unique, unsplit, which.max, which.min

Loading required package: S4Vectors

Attaching package: 'S4Vectors'

The following objects are masked from 'package:Matrix':

    expand, unname

The following object is masked from 'package:utils':

    findMatches

The following objects are masked from 'package:base':

    I, expand.grid, unname

Loading required package: IRanges
Loading required package: GenomeInfoDb
Loading required package: Biobase
Welcome to Bioconductor

    Vignettes contain introductory material; view with
    'browseVignettes()'. To cite Bioconductor, see
    'citation("Biobase")', and for packages 'citation("pkgname")'.


Attaching package: 'Biobase'

The following object is masked from 'package:MatrixGenerics':

    rowMedians

The following objects are masked from 'package:matrixStats':

    anyMissing, rowMedians


Attaching package: 'arrow'

The following object is masked from 'package:BiocGenerics':

    type

The following object is masked from 'package:testthat':

    matches

The following object is masked from 'package:utils':

    timestamp

see ?SFEData and browseVignettes('SFEData') for documentation
loading from cache
The downloaded files are in /private/tmp/Rtmp493oeU/file3f255812b2dd/xenium2 
see ?SFEData and browseVignettes('SFEData') for documentation
loading from cache
The downloaded files are in /private/tmp/Rtmp493oeU/file3f255812b2dd/vizgen_cellbound_Cellpose 
>>> Must use gene symbols as row names when adding transcript spots.
>>> Cell segmentations are found in `.parquet` file(s)
>>> Reading cell and nucleus segmentations
>>> Making MULTIPOLYGON nuclei geometries
>>> Making POLYGON cell geometries
Sanity checks on cell segmentation polygons:
>>> ..found 132 cells with (nested) polygon lists
>>> ..applying filtering
>>> Checking polygon validity
>>> Saving geometries to parquet files
>>> Reading cell metadata -> `cells.parquet`
>>> Reading h5 gene count matrix
>>> filtering cellSeg geometries to match 6272 cells with counts > 0
>>> filtering nucSeg geometries to match 6158 cells with counts > 0
>>> Reading transcript coordinates
>>> Converting transcript spots to geometry
>>> Writing reformatted transcript spots to disk
>>> Total of 116 features/genes with no transcript detected or `min_phred` < 20 are removed from SFE object
>>> To keep all features -> set `min_phred = NULL`
>>> Must use gene symbols as row names when adding transcript spots.
>>> Preprocessed sf segmentations found
>>> Reading cell and nucleus segmentations
>>> Reading cell metadata -> `cells.parquet`
>>> Reading h5 gene count matrix
>>> filtering cellSeg geometries to match 6272 cells with counts > 0
>>> filtering nucSeg geometries to match 6158 cells with counts > 0
>>> Reading transcript coordinates
>>> Total of 116 features/genes with no transcript detected or `min_phred` < 20 are removed from SFE object
>>> To keep all features -> set `min_phred = NULL`
>>> 10X Visium data will be loaded: outs

>>> Adding spatial neighborhood graph to sample01

see ?SFEData and browseVignettes('SFEData') for documentation
loading from cache
The downloaded files are in /Users/biocbuild/bbs-3.20-bioc/meat/SpatialFeatureExperiment.Rcheck/tests/testthat/xenium_lr 
>>> Cell segmentations are found in `.csv` file(s)
>>> Reading cell and nucleus segmentations
>>> Making POLYGON geometries
>>> Checking polygon validity
>>> Saving geometries to parquet files
>>> Reading cell metadata -> `cells.csv`
>>> Reading h5 gene count matrix
>>> filtering cellSeg geometries to match 16324 cells with counts > 0
>>> filtering nucSeg geometries to match 16324 cells with counts > 0
Loading required package: scuttle
Loading required package: ggplot2

Attaching package: 'ggplot2'

The following object is masked from 'package:SpatialFeatureExperiment':

    unit

Loading required package: spData
To access larger datasets in this package, install the spDataLarge
package with: `install.packages('spDataLarge',
repos='https://nowosad.github.io/drat/', type='source')`
see ?SFEData and browseVignettes('SFEData') for documentation
loading from cache
see ?SFEData and browseVignettes('SFEData') for documentation
loading from cache
see ?SFEData and browseVignettes('SFEData') for documentation
loading from cache
The downloaded files are in /private/tmp/Rtmp493oeU/file3f257146f426/vizgen_cellbound 
>>> 1 `.parquet` files exist:
/private/tmp/Rtmp493oeU/file3f257146f426/vizgen_cellbound/cell_boundaries.parquet
>>> using -> /private/tmp/Rtmp493oeU/file3f257146f426/vizgen_cellbound/cell_boundaries.parquet
>>> Cell segmentations are found in `.parquet` file
>>> Checking polygon validity
>>> Reading transcript coordinates
>>> Converting transcript spots to geometry
>>> Writing reformatted transcript spots to disk
see ?SFEData and browseVignettes('SFEData') for documentation
loading from cache
The downloaded files are in /private/tmp/Rtmp493oeU/file3f2570680a3/vizgen_cellbound 
>>> Converting transcript spots to geometry
>>> 1 `.parquet` files exist:
/private/tmp/Rtmp493oeU/file3f2570680a3/vizgen_cellbound/cell_boundaries.parquet
>>> using -> /private/tmp/Rtmp493oeU/file3f2570680a3/vizgen_cellbound/cell_boundaries.parquet
>>> Cell segmentations are found in `.parquet` file
>>> Checking polygon validity
>>> Converting transcript spots to geometry
>>> Writing reformatted transcript spots to disk

  |                                                                            
  |                                                                      |   0%
  |                                                                            
  |=                                                                     |   2%
  |                                                                            
  |==                                                                    |   3%
  |                                                                            
  |===                                                                   |   5%
  |                                                                            
  |=====                                                                 |   6%
  |                                                                            
  |======                                                                |   8%
  |                                                                            
  |=======                                                               |  10%
  |                                                                            
  |========                                                              |  11%
  |                                                                            
  |=========                                                             |  13%
  |                                                                            
  |==========                                                            |  15%
  |                                                                            
  |===========                                                           |  16%
  |                                                                            
  |============                                                          |  18%
  |                                                                            
  |==============                                                        |  19%
  |                                                                            
  |===============                                                       |  21%
  |                                                                            
  |================                                                      |  23%
  |                                                                            
  |=================                                                     |  24%
  |                                                                            
  |==================                                                    |  26%
  |                                                                            
  |===================                                                   |  27%
  |                                                                            
  |====================                                                  |  29%
  |                                                                            
  |=====================                                                 |  31%
  |                                                                            
  |=======================                                               |  32%
  |                                                                            
  |========================                                              |  34%
  |                                                                            
  |=========================                                             |  35%
  |                                                                            
  |==========================                                            |  37%
  |                                                                            
  |===========================                                           |  39%
  |                                                                            
  |============================                                          |  40%
  |                                                                            
  |=============================                                         |  42%
  |                                                                            
  |==============================                                        |  44%
  |                                                                            
  |================================                                      |  45%
  |                                                                            
  |=================================                                     |  47%
  |                                                                            
  |==================================                                    |  48%
  |                                                                            
  |===================================                                   |  50%
  |                                                                            
  |====================================                                  |  52%
  |                                                                            
  |=====================================                                 |  53%
  |                                                                            
  |======================================                                |  55%
  |                                                                            
  |========================================                              |  56%
  |                                                                            
  |=========================================                             |  58%
  |                                                                            
  |==========================================                            |  60%
  |                                                                            
  |===========================================                           |  61%
  |                                                                            
  |============================================                          |  63%
  |                                                                            
  |=============================================                         |  65%
  |                                                                            
  |==============================================                        |  66%
  |                                                                            
  |===============================================                       |  68%
  |                                                                            
  |=================================================                     |  69%
  |                                                                            
  |==================================================                    |  71%
  |                                                                            
  |===================================================                   |  73%
  |                                                                            
  |====================================================                  |  74%
  |                                                                            
  |=====================================================                 |  76%
  |                                                                            
  |======================================================                |  77%
  |                                                                            
  |=======================================================               |  79%
  |                                                                            
  |========================================================              |  81%
  |                                                                            
  |==========================================================            |  82%
  |                                                                            
  |===========================================================           |  84%
  |                                                                            
  |============================================================          |  85%
  |                                                                            
  |=============================================================         |  87%
  |                                                                            
  |==============================================================        |  89%
  |                                                                            
  |===============================================================       |  90%
  |                                                                            
  |================================================================      |  92%
  |                                                                            
  |=================================================================     |  94%
  |                                                                            
  |===================================================================   |  95%
  |                                                                            
  |====================================================================  |  97%
  |                                                                            
  |===================================================================== |  98%
  |                                                                            
  |======================================================================| 100%

see ?SFEData and browseVignettes('SFEData') for documentation
loading from cache
The downloaded files are in /private/tmp/Rtmp493oeU/file3f2527581499/vizgen_cellbound 
>>> Converting transcript spots to geometry
see ?SFEData and browseVignettes('SFEData') for documentation
loading from cache
The downloaded files are in /private/tmp/Rtmp493oeU/file3f251bb2e7c3/cosmx 
>>> Converting transcript spots to geometry
>>> Writing reformatted transcript spots to disk

  |                                                                            
  |                                                                      |   0%
  |                                                                            
  |                                                                      |   1%
  |                                                                            
  |=                                                                     |   1%
  |                                                                            
  |=                                                                     |   2%
  |                                                                            
  |==                                                                    |   2%
  |                                                                            
  |==                                                                    |   3%
  |                                                                            
  |==                                                                    |   4%
  |                                                                            
  |===                                                                   |   4%
  |                                                                            
  |===                                                                   |   5%
  |                                                                            
  |====                                                                  |   5%
  |                                                                            
  |====                                                                  |   6%
  |                                                                            
  |=====                                                                 |   6%
  |                                                                            
  |=====                                                                 |   7%
  |                                                                            
  |=====                                                                 |   8%
  |                                                                            
  |======                                                                |   8%
  |                                                                            
  |======                                                                |   9%
  |                                                                            
  |=======                                                               |   9%
  |                                                                            
  |=======                                                               |  10%
  |                                                                            
  |=======                                                               |  11%
  |                                                                            
  |========                                                              |  11%
  |                                                                            
  |========                                                              |  12%
  |                                                                            
  |=========                                                             |  12%
  |                                                                            
  |=========                                                             |  13%
  |                                                                            
  |=========                                                             |  14%
  |                                                                            
  |==========                                                            |  14%
  |                                                                            
  |==========                                                            |  15%
  |                                                                            
  |===========                                                           |  15%
  |                                                                            
  |===========                                                           |  16%
  |                                                                            
  |============                                                          |  16%
  |                                                                            
  |============                                                          |  17%
  |                                                                            
  |============                                                          |  18%
  |                                                                            
  |=============                                                         |  18%
  |                                                                            
  |=============                                                         |  19%
  |                                                                            
  |==============                                                        |  19%
  |                                                                            
  |==============                                                        |  20%
  |                                                                            
  |==============                                                        |  21%
  |                                                                            
  |===============                                                       |  21%
  |                                                                            
  |===============                                                       |  22%
  |                                                                            
  |================                                                      |  22%
  |                                                                            
  |================                                                      |  23%
  |                                                                            
  |================                                                      |  24%
  |                                                                            
  |=================                                                     |  24%
  |                                                                            
  |=================                                                     |  25%
  |                                                                            
  |==================                                                    |  25%
  |                                                                            
  |==================                                                    |  26%
  |                                                                            
  |===================                                                   |  26%
  |                                                                            
  |===================                                                   |  27%
  |                                                                            
  |===================                                                   |  28%
  |                                                                            
  |====================                                                  |  28%
  |                                                                            
  |====================                                                  |  29%
  |                                                                            
  |=====================                                                 |  29%
  |                                                                            
  |=====================                                                 |  30%
  |                                                                            
  |=====================                                                 |  31%
  |                                                                            
  |======================                                                |  31%
  |                                                                            
  |======================                                                |  32%
  |                                                                            
  |=======================                                               |  32%
  |                                                                            
  |=======================                                               |  33%
  |                                                                            
  |========================                                              |  34%
  |                                                                            
  |========================                                              |  35%
  |                                                                            
  |=========================                                             |  35%
  |                                                                            
  |=========================                                             |  36%
  |                                                                            
  |==========================                                            |  37%
  |                                                                            
  |==========================                                            |  38%
  |                                                                            
  |===========================                                           |  38%
  |                                                                            
  |===========================                                           |  39%
  |                                                                            
  |============================                                          |  39%
  |                                                                            
  |============================                                          |  40%
  |                                                                            
  |============================                                          |  41%
  |                                                                            
  |=============================                                         |  41%
  |                                                                            
  |=============================                                         |  42%
  |                                                                            
  |==============================                                        |  42%
  |                                                                            
  |==============================                                        |  43%
  |                                                                            
  |===============================                                       |  44%
  |                                                                            
  |===============================                                       |  45%
  |                                                                            
  |================================                                      |  45%
  |                                                                            
  |================================                                      |  46%
  |                                                                            
  |=================================                                     |  47%
  |                                                                            
  |=================================                                     |  48%
  |                                                                            
  |==================================                                    |  48%
  |                                                                            
  |==================================                                    |  49%
  |                                                                            
  |===================================                                   |  49%
  |                                                                            
  |===================================                                   |  50%
  |                                                                            
  |===================================                                   |  51%
  |                                                                            
  |====================================                                  |  51%
  |                                                                            
  |====================================                                  |  52%
  |                                                                            
  |=====================================                                 |  52%
  |                                                                            
  |=====================================                                 |  53%
  |                                                                            
  |======================================                                |  54%
  |                                                                            
  |======================================                                |  55%
  |                                                                            
  |=======================================                               |  55%
  |                                                                            
  |=======================================                               |  56%
  |                                                                            
  |========================================                              |  57%
  |                                                                            
  |========================================                              |  58%
  |                                                                            
  |=========================================                             |  58%
  |                                                                            
  |=========================================                             |  59%
  |                                                                            
  |==========================================                            |  59%
  |                                                                            
  |==========================================                            |  60%
  |                                                                            
  |==========================================                            |  61%
  |                                                                            
  |===========================================                           |  61%
  |                                                                            
  |===========================================                           |  62%
  |                                                                            
  |============================================                          |  62%
  |                                                                            
  |============================================                          |  63%
  |                                                                            
  |=============================================                         |  64%
  |                                                                            
  |=============================================                         |  65%
  |                                                                            
  |==============================================                        |  65%
  |                                                                            
  |==============================================                        |  66%
  |                                                                            
  |===============================================                       |  67%
  |                                                                            
  |===============================================                       |  68%
  |                                                                            
  |================================================                      |  68%
  |                                                                            
  |================================================                      |  69%
  |                                                                            
  |=================================================                     |  69%
  |                                                                            
  |=================================================                     |  70%
  |                                                                            
  |=================================================                     |  71%
  |                                                                            
  |==================================================                    |  71%
  |                                                                            
  |==================================================                    |  72%
  |                                                                            
  |===================================================                   |  72%
  |                                                                            
  |===================================================                   |  73%
  |                                                                            
  |===================================================                   |  74%
  |                                                                            
  |====================================================                  |  74%
  |                                                                            
  |====================================================                  |  75%
  |                                                                            
  |=====================================================                 |  75%
  |                                                                            
  |=====================================================                 |  76%
  |                                                                            
  |======================================================                |  76%
  |                                                                            
  |======================================================                |  77%
  |                                                                            
  |======================================================                |  78%
  |                                                                            
  |=======================================================               |  78%
  |                                                                            
  |=======================================================               |  79%
  |                                                                            
  |========================================================              |  79%
  |                                                                            
  |========================================================              |  80%
  |                                                                            
  |========================================================              |  81%
  |                                                                            
  |=========================================================             |  81%
  |                                                                            
  |=========================================================             |  82%
  |                                                                            
  |==========================================================            |  82%
  |                                                                            
  |==========================================================            |  83%
  |                                                                            
  |==========================================================            |  84%
  |                                                                            
  |===========================================================           |  84%
  |                                                                            
  |===========================================================           |  85%
  |                                                                            
  |============================================================          |  85%
  |                                                                            
  |============================================================          |  86%
  |                                                                            
  |=============================================================         |  86%
  |                                                                            
  |=============================================================         |  87%
  |                                                                            
  |=============================================================         |  88%
  |                                                                            
  |==============================================================        |  88%
  |                                                                            
  |==============================================================        |  89%
  |                                                                            
  |===============================================================       |  89%
  |                                                                            
  |===============================================================       |  90%
  |                                                                            
  |===============================================================       |  91%
  |                                                                            
  |================================================================      |  91%
  |                                                                            
  |================================================================      |  92%
  |                                                                            
  |=================================================================     |  92%
  |                                                                            
  |=================================================================     |  93%
  |                                                                            
  |=================================================================     |  94%
  |                                                                            
  |==================================================================    |  94%
  |                                                                            
  |==================================================================    |  95%
  |                                                                            
  |===================================================================   |  95%
  |                                                                            
  |===================================================================   |  96%
  |                                                                            
  |====================================================================  |  96%
  |                                                                            
  |====================================================================  |  97%
  |                                                                            
  |====================================================================  |  98%
  |                                                                            
  |===================================================================== |  98%
  |                                                                            
  |===================================================================== |  99%
  |                                                                            
  |======================================================================|  99%
  |                                                                            
  |======================================================================| 100%

see ?SFEData and browseVignettes('SFEData') for documentation
loading from cache
The downloaded files are in /private/tmp/Rtmp493oeU/file3f253e45a0be/xenium2 
>>> Converting transcript spots to geometry
>>> Writing reformatted transcript spots to disk
terra 1.8.15

Attaching package: 'terra'

The following object is masked from 'package:arrow':

    buffer

The following objects are masked from 'package:SummarizedExperiment':

    distance, nearest, shift, trim, values, values<-, width

The following objects are masked from 'package:GenomicRanges':

    distance, gaps, nearest, shift, trim, values, values<-, width

The following objects are masked from 'package:IRanges':

    distance, gaps, nearest, shift, trim, width

The following objects are masked from 'package:S4Vectors':

    values, values<-, width

The following object is masked from 'package:BiocGenerics':

    width

The following objects are masked from 'package:SpatialFeatureExperiment':

    centroids, crop, origin, rotate

The following objects are masked from 'package:testthat':

    compare, describe

see ?SFEData and browseVignettes('SFEData') for documentation
loading from cache
The downloaded files are in /private/tmp/Rtmp493oeU/file3f256bcc7d8e/cosmx 
>>> Constructing cell polygons
>>> Checking polygon validity
>>> Reading transcript coordinates
>>> Converting transcript spots to geometry
>>> Writing reformatted transcript spots to disk
see ?SFEData and browseVignettes('SFEData') for documentation
loading from cache
see ?SFEData and browseVignettes('SFEData') for documentation
loading from cache
trying URL 'https://cf.10xgenomics.com/samples/spatial-exp/2.0.0/Visium_Mouse_Olfactory_Bulb/Visium_Mouse_Olfactory_Bulb_filtered_feature_bc_matrix.h5'
Content type 'binary/octet-stream' length 7521734 bytes (7.2 MB)
==================================================
downloaded 7.2 MB

trying URL 'https://cf.10xgenomics.com/samples/spatial-exp/2.0.0/Visium_Mouse_Olfactory_Bulb/Visium_Mouse_Olfactory_Bulb_spatial.tar.gz'
Content type 'application/x-tar' length 7806681 bytes (7.4 MB)
==================================================
downloaded 7.4 MB

>>> 10X Visium data will be loaded: outs

>>> Adding spatial neighborhood graph to sample01

see ?SFEData and browseVignettes('SFEData') for documentation
loading from cache
The downloaded files are in /private/tmp/Rtmp493oeU/file3f2526476b/cosmx 
>>> Constructing cell polygons
>>> Checking polygon validity
>>> Reading transcript coordinates
>>> Converting transcript spots to geometry
>>> Writing reformatted transcript spots to disk
BioFormats library version 7.3.0

Attaching package: 'EBImage'

The following objects are masked from 'package:terra':

    flip, rotate, watershed

The following object is masked from 'package:SummarizedExperiment':

    resize

The following object is masked from 'package:Biobase':

    channel

The following objects are masked from 'package:GenomicRanges':

    resize, tile

The following objects are masked from 'package:IRanges':

    resize, tile

The following objects are masked from 'package:SpatialFeatureExperiment':

    affine, rotate, translate, transpose

see ?SFEData and browseVignettes('SFEData') for documentation
loading from cache
The downloaded files are in /private/tmp/Rtmp493oeU/file3f2538b21bd3/xenium_lr 
>>> Cell segmentations are found in `.csv` file(s)
>>> Reading cell and nucleus segmentations
>>> Making POLYGON geometries
>>> Checking polygon validity
>>> Saving geometries to parquet files
>>> Reading cell metadata -> `cells.csv`
>>> Reading h5 gene count matrix
>>> filtering cellSeg geometries to match 16324 cells with counts > 0
>>> filtering nucSeg geometries to match 16324 cells with counts > 0
>>> Must use gene symbols as row names when adding transcript spots.
>>> Preprocessed sf segmentations found
>>> Reading cell and nucleus segmentations
>>> Reading cell metadata -> `cells.csv`
>>> Reading h5 gene count matrix
>>> filtering cellSeg geometries to match 16324 cells with counts > 0
>>> filtering nucSeg geometries to match 16324 cells with counts > 0
>>> Reading transcript coordinates
>>> Converting transcript spots to geometry
>>> Writing reformatted transcript spots to disk
>>> Total of 484 features/genes with no transcript detected or `min_phred` < 20 are removed from SFE object
>>> To keep all features -> set `min_phred = NULL`
Actual mean:  0.9850527see ?SFEData and browseVignettes('SFEData') for documentation
loading from cache
see ?SFEData and browseVignettes('SFEData') for documentation
loading from cache
Testing dist_type none style W 
Testing dist_type idw style W 
Testing dist_type exp style W 
Testing dist_type dpd style W 
Testing dist_type idw style raw 
Testing dist_type idw style W 
Testing dist_type idw style B 
Testing dist_type idw style C 
Testing dist_type idw style U 
Testing dist_type idw style minmax 
Testing dist_type idw style S 
Testing dist_type none style W 
Testing dist_type idw style W 
Testing dist_type exp style W 
Testing dist_type dpd style W 
Testing dist_type idw style raw 
Testing dist_type idw style W 
Testing dist_type idw style B 
Testing dist_type idw style C 
Testing dist_type idw style U 
Testing dist_type idw style minmax 
Testing dist_type idw style S 
see ?SFEData and browseVignettes('SFEData') for documentation
loading from cache
see ?SFEData and browseVignettes('SFEData') for documentation
loading from cache
The downloaded files are in /private/tmp/Rtmp493oeU/file3f255146e061/xenium_lr 
see ?SFEData and browseVignettes('SFEData') for documentation
loading from cache
The downloaded files are in /private/tmp/Rtmp493oeU/file3f251d1dbb/vizgen_cellbound 
see ?SFEData and browseVignettes('SFEData') for documentation
loading from cache
The downloaded files are in /private/tmp/Rtmp493oeU/file3f25419480cb/xenium_lr 
see ?SFEData and browseVignettes('SFEData') for documentation
loading from cache
The downloaded files are in /private/tmp/Rtmp493oeU/file3f258ceb355/xenium2 
>>> Cell segmentations are found in `.parquet` file(s)
>>> Reading cell and nucleus segmentations
>>> Making MULTIPOLYGON nuclei geometries
>>> Making POLYGON cell geometries
Sanity checks on cell segmentation polygons:
>>> ..found 132 cells with (nested) polygon lists
>>> ..applying filtering
>>> Checking polygon validity
>>> Saving geometries to parquet files
>>> Reading cell metadata -> `cells.parquet`
>>> Reading h5 gene count matrix
>>> filtering cellSeg geometries to match 6272 cells with counts > 0
>>> filtering nucSeg geometries to match 6158 cells with counts > 0
see ?SFEData and browseVignettes('SFEData') for documentation
loading from cache
The downloaded files are in /private/tmp/Rtmp493oeU/file3f25eb02665/xenium2 
>>> Cell segmentations are found in `.parquet` file(s)
>>> Reading cell and nucleus segmentations
>>> Making MULTIPOLYGON nuclei geometries
>>> Making POLYGON cell geometries
Sanity checks on cell segmentation polygons:
>>> ..found 132 cells with (nested) polygon lists
>>> ..applying filtering
>>> Checking polygon validity
>>> Saving geometries to parquet files
>>> Reading cell metadata -> `cells.parquet`
>>> Reading h5 gene count matrix
>>> filtering cellSeg geometries to match 6272 cells with counts > 0
>>> filtering nucSeg geometries to match 6158 cells with counts > 0
see ?SFEData and browseVignettes('SFEData') for documentation
loading from cache
see ?SFEData and browseVignettes('SFEData') for documentation
loading from cache
>>> 10X Visium data will be loaded: outs

>>> Adding spatial neighborhood graph to sample01

>>> 10X Visium data will be loaded: outs

>>> Adding spatial neighborhood graph to sample02

>>> 10X Visium data will be loaded: outs

>>> Adding spatial neighborhood graph to sample01

trying URL 'https://cf.10xgenomics.com/samples/spatial-exp/1.0.0/V1_Mouse_Kidney/V1_Mouse_Kidney_filtered_feature_bc_matrix.h5'
Content type 'binary/octet-stream' length 10785331 bytes (10.3 MB)
==================================================
downloaded 10.3 MB

trying URL 'https://cf.10xgenomics.com/samples/spatial-exp/1.0.0/V1_Mouse_Kidney/V1_Mouse_Kidney_spatial.tar.gz'
Content type 'application/x-tar' length 8531653 bytes (8.1 MB)
==================================================
downloaded 8.1 MB

>>> 10X Visium data will be loaded: outs

>>> Adding spatial neighborhood graph to sample01

>>> 10X Visium data will be loaded: outs

>>> Adding spatial neighborhood graph to sample01

>>> 10X Visium data will be loaded: outs

>>> Converting pixels to microns
>>> Adding spatial neighborhood graph to sample01

>>> 10X Visium data will be loaded: outs

>>> Converting pixels to microns
>>> Adding spatial neighborhood graph to sample01

see ?SFEData and browseVignettes('SFEData') for documentation
loading from cache
The downloaded files are in /private/tmp/Rtmp493oeU/file3f256009b642/vizgen_cellbound 
>>> 1 `.parquet` files exist:
/private/tmp/Rtmp493oeU/file3f256009b642/vizgen_cellbound/cell_boundaries.parquet
>>> using -> /private/tmp/Rtmp493oeU/file3f256009b642/vizgen_cellbound/cell_boundaries.parquet
>>> Cell segmentations are found in `.parquet` file
>>> Checking polygon validity
see ?SFEData and browseVignettes('SFEData') for documentation
loading from cache
The downloaded files are in /private/tmp/Rtmp493oeU/file3f252492c8bc/vizgen_cellbound 
>>> Reading '.hdf5' files..
>>> Checking polygon validity
>>> 1 `.parquet` files exist:
/private/tmp/Rtmp493oeU/file3f252492c8bc/vizgen_cellbound/hdf5s_micron_space.parquet
>>> using -> /private/tmp/Rtmp493oeU/file3f252492c8bc/vizgen_cellbound/hdf5s_micron_space.parquet
>>> Checking polygon validity
see ?SFEData and browseVignettes('SFEData') for documentation
loading from cache
The downloaded files are in /private/tmp/Rtmp493oeU/file3f251c961e95/vizgen_cellbound 
>>> Reading '.hdf5' files..
>>> Checking polygon validity
see ?SFEData and browseVignettes('SFEData') for documentation
loading from cache
The downloaded files are in /private/tmp/Rtmp493oeU/file3f2576083a24/vizgen_cellbound 
>>> Reading '.hdf5' files..
>>> Checking polygon validity
see ?SFEData and browseVignettes('SFEData') for documentation
loading from cache
The downloaded files are in /private/tmp/Rtmp493oeU/file3f25ac4f164/vizgen_cellbound 
>>> Reading '.hdf5' files..
>>> Checking polygon validity
see ?SFEData and browseVignettes('SFEData') for documentation
loading from cache
The downloaded files are in /private/tmp/Rtmp493oeU/file3f257b231030/vizgen_cellbound 
>>> Reading '.hdf5' files..
>>> Checking polygon validity
>>> Reading '.hdf5' files..
>>> Checking polygon validity
see ?SFEData and browseVignettes('SFEData') for documentation
loading from cache
The downloaded files are in /private/tmp/Rtmp493oeU/file3f2556e3a4d8/vizgen_cellbound 
>>> 1 `.parquet` files exist:
/private/tmp/Rtmp493oeU/file3f2556e3a4d8/vizgen_cellbound/cell_boundaries.parquet
>>> using -> /private/tmp/Rtmp493oeU/file3f2556e3a4d8/vizgen_cellbound/cell_boundaries.parquet
>>> Cell segmentations are found in `.parquet` file
>>> Checking polygon validity
see ?SFEData and browseVignettes('SFEData') for documentation
loading from cache
The downloaded files are in /private/tmp/Rtmp493oeU/file3f254c4f2bfe/vizgen_cellbound 
see ?SFEData and browseVignettes('SFEData') for documentation
loading from cache
The downloaded files are in /private/tmp/Rtmp493oeU/file3f2576dd931e/vizgen_cellbound 
>>> 1 `.parquet` files exist:
/private/tmp/Rtmp493oeU/file3f2576dd931e/vizgen_cellbound/cell_boundaries.parquet
>>> using -> /private/tmp/Rtmp493oeU/file3f2576dd931e/vizgen_cellbound/cell_boundaries.parquet
>>> Cell segmentations are found in `.parquet` file
Sanity checks on cell segmentation polygons:
>>> ..found 3 cells with (nested) polygon lists
>>> ..applying filtering
>>> Casting MULTIPOLYGON geometry to POLYGON
>>> Checking polygon validity
see ?SFEData and browseVignettes('SFEData') for documentation
loading from cache
The downloaded files are in /private/tmp/Rtmp493oeU/file3f253312f7eb/vizgen_cellbound 
>>> 1 `.parquet` files exist:
/private/tmp/Rtmp493oeU/file3f253312f7eb/vizgen_cellbound/cell_boundaries.parquet
>>> using -> /private/tmp/Rtmp493oeU/file3f253312f7eb/vizgen_cellbound/cell_boundaries.parquet
>>> Cell segmentations are found in `.parquet` file
see ?SFEData and browseVignettes('SFEData') for documentation
loading from cache
The downloaded files are in /private/tmp/Rtmp493oeU/file3f257a0bcc86/vizgen_cellbound 
>>> 1 `.parquet` files exist:
/private/tmp/Rtmp493oeU/file3f257a0bcc86/vizgen_cellbound/cell_boundaries.parquet
>>> using -> /private/tmp/Rtmp493oeU/file3f257a0bcc86/vizgen_cellbound/cell_boundaries.parquet
>>> Cell segmentations are found in `.parquet` file
>>> Checking polygon validity
see ?SFEData and browseVignettes('SFEData') for documentation
loading from cache
The downloaded files are in /private/tmp/Rtmp493oeU/file3f2567dd5230/vizgen_cellbound_Cellpose 
>>> 1 `.parquet` files exist:
/private/tmp/Rtmp493oeU/file3f2567dd5230/vizgen_cellbound_Cellpose/Cellpose/cellpose_micron_space.parquet
>>> using -> /private/tmp/Rtmp493oeU/file3f2567dd5230/vizgen_cellbound_Cellpose/Cellpose/cellpose_micron_space.parquet
>>> Cell segmentations are found in `.parquet` file
Sanity checks on cell segmentation polygons:
>>> ..found 1 cells with (nested) polygon lists
>>> ..applying filtering
>>> Casting MULTIPOLYGON geometry to POLYGON
>>> Checking polygon validity
see ?SFEData and browseVignettes('SFEData') for documentation
loading from cache
The downloaded files are in /private/tmp/Rtmp493oeU/file3f25727e79a5/vizgen_cellbound 
>>> 1 `.parquet` files exist:
/private/tmp/Rtmp493oeU/file3f254d647a5c/cell_boundaries.parquet
>>> using -> /private/tmp/Rtmp493oeU/file3f254d647a5c/cell_boundaries.parquet
>>> Cell segmentations are found in `.parquet` file
>>> Checking polygon validity
see ?SFEData and browseVignettes('SFEData') for documentation
loading from cache
The downloaded files are in /private/tmp/Rtmp493oeU/file3f2525555724/vizgen_cellbound 
>>> 1 `.parquet` files exist:
/private/tmp/Rtmp493oeU/file3f2525555724/vizgen_cellbound/cell_boundaries.parquet
>>> using -> /private/tmp/Rtmp493oeU/file3f2525555724/vizgen_cellbound/cell_boundaries.parquet
>>> Cell segmentations are found in `.parquet` file
>>> Checking polygon validity
see ?SFEData and browseVignettes('SFEData') for documentation
loading from cache
The downloaded files are in /private/tmp/Rtmp493oeU/file3f2563cd1d74/vizgen_cellbound 
>>> 2 `.parquet` files exist:
/private/tmp/Rtmp493oeU/file3f2563cd1d74/vizgen_cellbound/cell_boundaries.parquet
/private/tmp/Rtmp493oeU/file3f2563cd1d74/vizgen_cellbound/cool_cell_boundaries.parquet
see ?SFEData and browseVignettes('SFEData') for documentation
loading from cache
The downloaded files are in /private/tmp/Rtmp493oeU/file3f254c4f2bfe/vizgen_cellbound_Cellpose 
see ?SFEData and browseVignettes('SFEData') for documentation
loading from cache
The downloaded files are in /private/tmp/Rtmp493oeU/file3f2516089873/cosmx 
>>> Constructing cell polygons
>>> Checking polygon validity
>>> File cell_boundaries_sf.parquet found
>>> Checking polygon validity
see ?SFEData and browseVignettes('SFEData') for documentation
loading from cache
The downloaded files are in /private/tmp/Rtmp493oeU/file3f254204629b/cosmx 
>>> Constructing cell polygons
>>> Checking polygon validity
see ?SFEData and browseVignettes('SFEData') for documentation
loading from cache
The downloaded files are in /private/tmp/Rtmp493oeU/file3f2534873f3f/cosmx 
>>> Constructing cell polygons
>>> Checking polygon validity
>>> Reading transcript coordinates
>>> Converting transcript spots to geometry
>>> Writing reformatted transcript spots to disk
>>> File cell_boundaries_sf.parquet found
>>> Checking polygon validity
>>> Reading transcript coordinates
see ?SFEData and browseVignettes('SFEData') for documentation
loading from cache
The downloaded files are in /private/tmp/Rtmp493oeU/file3f25a4b6cf6/cosmx 
>>> Constructing cell polygons
>>> Checking polygon validity
>>> Reading transcript coordinates
>>> Converting transcript spots to geometry
>>> Writing reformatted transcript spots to disk

  |                                                                            
  |                                                                      |   0%
  |                                                                            
  |===================================                                   |  50%
  |                                                                            
  |======================================================================| 100%

>>> File cell_boundaries_sf.parquet found
>>> Checking polygon validity
>>> Reading transcript coordinates
>>> File cell_boundaries_sf.parquet found
>>> Checking polygon validity
>>> Reading transcript coordinates
see ?SFEData and browseVignettes('SFEData') for documentation
loading from cache
The downloaded files are in /private/tmp/Rtmp493oeU/file3f2540fc8ab3/cosmx 
>>> Constructing cell polygons
>>> Checking polygon validity
>>> Reading transcript coordinates
>>> Converting transcript spots to geometry
>>> Writing reformatted transcript spots to disk
see ?SFEData and browseVignettes('SFEData') for documentation
loading from cache
The downloaded files are in /private/tmp/Rtmp493oeU/file3f254f9ac841/cosmx 
>>> Constructing cell polygons
>>> Checking polygon validity
>>> Reading transcript coordinates
>>> Converting transcript spots to geometry
>>> Writing reformatted transcript spots to disk

  |                                                                            
  |                                                                      |   0%
  |                                                                            
  |=========                                                             |  12%
  |                                                                            
  |==================                                                    |  25%
  |                                                                            
  |==========================                                            |  38%
  |                                                                            
  |===================================                                   |  50%
  |                                                                            
  |============================================                          |  62%
  |                                                                            
  |====================================================                  |  75%
  |                                                                            
  |=============================================================         |  88%
  |                                                                            
  |======================================================================| 100%

>>> File cell_boundaries_sf.parquet found
>>> Checking polygon validity
>>> Reading transcript coordinates
>>> File cell_boundaries_sf.parquet found
>>> Checking polygon validity
>>> Reading transcript coordinates
see ?SFEData and browseVignettes('SFEData') for documentation
loading from cache
The downloaded files are in /private/tmp/Rtmp493oeU/file3f256feaccc1/xenium_lr 
>>> Must use gene symbols as row names when adding transcript spots.
>>> Cell segmentations are found in `.csv` file(s)
>>> Reading cell and nucleus segmentations
>>> Making POLYGON geometries
>>> Checking polygon validity
>>> Saving geometries to parquet files
>>> Reading cell metadata -> `cells.csv`
>>> Reading h5 gene count matrix
>>> filtering cellSeg geometries to match 16324 cells with counts > 0
>>> filtering nucSeg geometries to match 16324 cells with counts > 0
>>> Reading transcript coordinates
>>> Converting transcript spots to geometry
>>> Writing reformatted transcript spots to disk
>>> Total of 484 features/genes with no transcript detected or `min_phred` < 20 are removed from SFE object
>>> To keep all features -> set `min_phred = NULL`
see ?SFEData and browseVignettes('SFEData') for documentation
loading from cache
The downloaded files are in /private/tmp/Rtmp493oeU/file3f255840d034/xenium_lr 
>>> Must use gene symbols as row names when adding transcript spots.
>>> Cell segmentations are found in `.csv` file(s)
>>> Reading cell and nucleus segmentations
>>> Making POLYGON geometries
>>> Checking polygon validity
>>> Saving geometries to parquet files
>>> Reading cell metadata -> `cells.csv`
>>> Reading h5 gene count matrix
>>> filtering cellSeg geometries to match 16324 cells with counts > 0
>>> filtering nucSeg geometries to match 16324 cells with counts > 0
>>> Reading transcript coordinates
>>> Converting transcript spots to geometry
>>> Writing reformatted transcript spots to disk
>>> Total of 484 features/genes with no transcript detected or `min_phred` < 20 are removed from SFE object
>>> To keep all features -> set `min_phred = NULL`
see ?SFEData and browseVignettes('SFEData') for documentation
loading from cache
The downloaded files are in /private/tmp/Rtmp493oeU/file3f257179b4ce/xenium_lr 
>>> Cell segmentations are found in `.parquet` file(s)
>>> Reading cell and nucleus segmentations
>>> Converting columns with raw bytes (ie 'arrow_binary') to character
>>> Making POLYGON geometries
>>> Checking polygon validity
>>> Saving geometries to parquet files
>>> Reading cell metadata -> `cells.csv`
>>> Reading h5 gene count matrix
>>> filtering cellSeg geometries to match 163 cells with counts > 0
>>> filtering nucSeg geometries to match 163 cells with counts > 0
see ?SFEData and browseVignettes('SFEData') for documentation
loading from cache
The downloaded files are in /private/tmp/Rtmp493oeU/file3f252bab8058/xenium_lr 
>>> Cell segmentations are found in `.csv` file(s)
>>> Reading nucleus segmentations
>>> Making POLYGON geometries
>>> Checking polygon validity
>>> Saving geometries to parquet files
>>> Reading cell metadata -> `cells.csv`
>>> Reading h5 gene count matrix
>>> filtering nucSeg geometries to match 16324 cells with counts > 0
>>> Making POLYGON geometries
>>> Checking polygon validity
>>> Saving geometries to parquet files
>>> Reading cell metadata -> `cells.csv`
>>> Reading h5 gene count matrix
see ?SFEData and browseVignettes('SFEData') for documentation
loading from cache
The downloaded files are in /private/tmp/Rtmp493oeU/file3f254647a91e/xenium_lr 
>>> Cell segmentations are found in `.csv` file(s)
>>> Reading cell and nucleus segmentations
>>> Making POLYGON geometries
>>> Checking polygon validity
>>> Saving geometries to parquet files
>>> Reading cell metadata -> `cells.csv`
>>> Reading h5 gene count matrix
>>> filtering cellSeg geometries to match 16324 cells with counts > 0
>>> filtering nucSeg geometries to match 16324 cells with counts > 0
>>> Preprocessed sf segmentations found
>>> Reading cell and nucleus segmentations
>>> Reading cell metadata -> `cells.csv`
>>> Reading h5 gene count matrix
>>> filtering cellSeg geometries to match 16324 cells with counts > 0
>>> filtering nucSeg geometries to match 16324 cells with counts > 0
see ?SFEData and browseVignettes('SFEData') for documentation
loading from cache
The downloaded files are in /private/tmp/Rtmp493oeU/file3f253373f9e3/xenium_lr 
>>> Must use gene symbols as row names when adding transcript spots.
>>> Cell segmentations are found in `.csv` file(s)
>>> Reading cell and nucleus segmentations
>>> Making POLYGON geometries
>>> Checking polygon validity
>>> Saving geometries to parquet files
>>> Reading cell metadata -> `cells.csv`
>>> Reading h5 gene count matrix
>>> filtering cellSeg geometries to match 16324 cells with counts > 0
>>> filtering nucSeg geometries to match 16324 cells with counts > 0
>>> Reading transcript coordinates
>>> Converting transcript spots to geometry
>>> Writing reformatted transcript spots to disk
>>> Total of 484 features/genes with no transcript detected or `min_phred` < 20 are removed from SFE object
>>> To keep all features -> set `min_phred = NULL`
see ?SFEData and browseVignettes('SFEData') for documentation
loading from cache
The downloaded files are in /private/tmp/Rtmp493oeU/file3f253cf30df/xenium2 
>>> Must use gene symbols as row names when adding transcript spots.
>>> Cell segmentations are found in `.parquet` file(s)
>>> Reading cell and nucleus segmentations
>>> Making MULTIPOLYGON nuclei geometries
>>> Making POLYGON cell geometries
Sanity checks on cell segmentation polygons:
>>> ..found 132 cells with (nested) polygon lists
>>> ..applying filtering
>>> Checking polygon validity
>>> Saving geometries to parquet files
>>> Reading cell metadata -> `cells.parquet`
>>> Reading h5 gene count matrix
>>> filtering cellSeg geometries to match 6272 cells with counts > 0
>>> filtering nucSeg geometries to match 6158 cells with counts > 0
>>> Reading transcript coordinates
>>> Converting transcript spots to geometry
>>> Writing reformatted transcript spots to disk
>>> Total of 116 features/genes with no transcript detected or `min_phred` < 20 are removed from SFE object
>>> To keep all features -> set `min_phred = NULL`
Actual mean  0.8930166see ?SFEData and browseVignettes('SFEData') for documentation
loading from cache
The downloaded files are in /private/tmp/Rtmp493oeU/file3f2572ce8743/xenium2 
>>> Cell segmentations are found in `.parquet` file(s)
>>> Reading cell and nucleus segmentations
>>> Making MULTIPOLYGON nuclei geometries
>>> Making POLYGON cell geometries
Sanity checks on cell segmentation polygons:
>>> ..found 132 cells with (nested) polygon lists
>>> ..applying filtering
>>> Checking polygon validity
>>> Saving geometries to parquet files
>>> Reading cell metadata -> `cells.parquet`
>>> Reading h5 gene count matrix
>>> filtering cellSeg geometries to match 6272 cells with counts > 0
>>> filtering nucSeg geometries to match 6158 cells with counts > 0
see ?SFEData and browseVignettes('SFEData') for documentation
loading from cache
The downloaded files are in /private/tmp/Rtmp493oeU/file3f2528fef50f/xenium2 
>>> Must use gene symbols as row names when adding transcript spots.
>>> Making MULTIPOLYGON nuclei geometries
>>> Making POLYGON cell geometries
Sanity checks on cell segmentation polygons:
>>> ..found 132 cells with (nested) polygon lists
>>> ..applying filtering
>>> Checking polygon validity
>>> Saving geometries to parquet files
>>> Reading cell metadata -> `cells.csv`
>>> Reading h5 gene count matrix
>>> filtering cellSeg geometries to match 6272 cells with counts > 0
>>> filtering nucSeg geometries to match 6158 cells with counts > 0
>>> Reading transcript coordinates
>>> Converting transcript spots to geometry
>>> Writing reformatted transcript spots to disk
>>> Total of 116 features/genes with no transcript detected or `min_phred` < 20 are removed from SFE object
>>> To keep all features -> set `min_phred = NULL`
Actual mean  0.8930166see ?SFEData and browseVignettes('SFEData') for documentation
loading from cache
The downloaded files are in /private/tmp/Rtmp493oeU/file3f254e66222d/xenium2 
>>> Must use gene symbols as row names when adding transcript spots.
>>> Cell segmentations are found in `.parquet` file(s)
>>> Reading cell and nucleus segmentations
>>> Making MULTIPOLYGON nuclei geometries
>>> Making POLYGON cell geometries
Sanity checks on cell segmentation polygons:
>>> ..found 132 cells with (nested) polygon lists
>>> ..applying filtering
>>> Checking polygon validity
>>> Saving geometries to parquet files
>>> Reading cell metadata -> `cells.parquet`
>>> Reading h5 gene count matrix
>>> filtering cellSeg geometries to match 6272 cells with counts > 0
>>> filtering nucSeg geometries to match 6158 cells with counts > 0
>>> Reading transcript coordinates
>>> Converting transcript spots to geometry
>>> Writing reformatted transcript spots to disk
>>> Total of 116 features/genes with no transcript detected or `min_phred` < 20 are removed from SFE object
>>> To keep all features -> set `min_phred = NULL`
>>> Preprocessed sf segmentations found
>>> Reading cell and nucleus segmentations
>>> Reading cell metadata -> `cells.parquet`
>>> Reading h5 gene count matrix
>>> filtering cellSeg geometries to match 6272 cells with counts > 0
>>> filtering nucSeg geometries to match 6158 cells with counts > 0
Actual mean  0.8930166>>> 10X Visium data will be loaded: outs

>>> Adding spatial neighborhood graph to sample01

>>> 10X Visium data will be loaded: outs

>>> Adding spatial neighborhood graph to sample02

see ?SFEData and browseVignettes('SFEData') for documentation
loading from cache
The downloaded files are in /private/tmp/Rtmp493oeU/file3f252ea19c74/xenium2 
>>> Cell segmentations are found in `.parquet` file(s)
>>> Reading cell and nucleus segmentations
>>> Making MULTIPOLYGON nuclei geometries
>>> Making POLYGON cell geometries
Sanity checks on cell segmentation polygons:
>>> ..found 132 cells with (nested) polygon lists
>>> ..applying filtering
>>> Checking polygon validity
>>> Saving geometries to parquet files
>>> Reading cell metadata -> `cells.parquet`
>>> Reading h5 gene count matrix
>>> filtering cellSeg geometries to match 6272 cells with counts > 0
>>> filtering nucSeg geometries to match 6158 cells with counts > 0
>>> Preprocessed sf segmentations found
>>> Reading cell and nucleus segmentations
>>> Reading cell metadata -> `cells.parquet`
>>> Reading h5 gene count matrix
>>> filtering cellSeg geometries to match 6272 cells with counts > 0
>>> filtering nucSeg geometries to match 6158 cells with counts > 0
>>> 10X Visium data will be loaded: outs

>>> Converting pixels to microns
>>> Adding spatial neighborhood graph to ob

>>> 10X Visium data will be loaded: outs

>>> Converting pixels to microns
>>> Adding spatial neighborhood graph to kidney

[updateObject] DFrame object is current.
[updateObject] Nothing to update.
updateObject(object="ANY") default for object of class 'NULL'
[updateObject] Validating the updated object ... OK
[updateObject] Validating the updated object ... OK
[updateObject] DFrame object is current.
[updateObject] Nothing to update.
updateObject(object="ANY") default for object of class 'NULL'
[updateObject] Validating the updated object ... OK
[updateObject] Validating the updated object ... OK
updateObject(object="ANY") default for object of class 'dgCMatrix'
updateObjectFromSlots(object = 'dgCMatrix' class = 'dgCMatrix')
updateObject(object="ANY") default for object of class 'integer'
[updateObject] Validating the updated object ... OK
updateObject(object="ANY") default for object of class 'integer'
[updateObject] Validating the updated object ... OK
updateObject(object="ANY") default for object of class 'integer'
[updateObject] Validating the updated object ... OK
updateObject(object = 'list')
updateObject(object="ANY") default for object of class 'character'
[updateObject] Validating the updated object ... OK
updateObject(object="ANY") default for object of class 'character'
[updateObject] Validating the updated object ... OK
[updateObject] Validating the updated object ... OK
updateObject(object="ANY") default for object of class 'numeric'
[updateObject] Validating the updated object ... OK
updateObject(object = 'list')
[updateObject] Validating the updated object ... OK
heuristic updateObjectFromSlots, method 1
[updateObject] Validating the updated object ... OK
[updateObject] Validating the updated object ... OK
[updateObject] DFrame object is current.
[updateObject] Nothing to update.
updateObject(object="ANY") default for object of class 'NULL'
[updateObject] Validating the updated object ... OK
[updateObject] Validating the updated object ... OK
[updateObject] DFrame object is current.
[updateObject] Nothing to update.
updateObject(object="ANY") default for object of class 'NULL'
[updateObject] Validating the updated object ... OK
[updateObject] Validating the updated object ... OK
[updateObject] CompressedGRangesList object is current.
[updateObject] Nothing to update.
[updateObject] Internal representation of GRanges object is current.
[updateObject] Nothing to update.
[updateObject] Internal representation of IRanges object is current.
[updateObject] Nothing to update.
updateObject(object="ANY") default for object of class 'NULL'
[updateObject] Validating the updated object ... OK
[updateObject] Validating the updated object ... OK
[updateObject] DFrame object is current.
[updateObject] Nothing to update.
updateObject(object="ANY") default for object of class 'NULL'
[updateObject] Validating the updated object ... OK
[updateObject] Validating the updated object ... OK
[updateObject] Validating the updated object ... OK
[updateObject] Internal representation of GRanges object is current.
[updateObject] Nothing to update.
[updateObject] Internal representation of IRanges object is current.
[updateObject] Nothing to update.
updateObject(object="ANY") default for object of class 'NULL'
[updateObject] Validating the updated object ... OK
[updateObject] Validating the updated object ... OK
[updateObject] DFrame object is current.
[updateObject] Nothing to update.
updateObject(object="ANY") default for object of class 'NULL'
[updateObject] Validating the updated object ... OK
[updateObject] Validating the updated object ... OK
[updateObject] Validating the updated object ... OK
[updateObject] Internal representation of PartitioningByEnd object is current.
[updateObject] Nothing to update.
updateObject(object="ANY") default for object of class 'NULL'
[updateObject] Validating the updated object ... OK
[updateObject] Validating the updated object ... OK
[updateObject] DFrame object is current.
[updateObject] Nothing to update.
updateObject(object="ANY") default for object of class 'NULL'
[updateObject] Validating the updated object ... OK
[updateObject] Validating the updated object ... OK
[updateObject] Validating the updated object ... OK
[updateObject] Validating the updated object ... OK
see ?SFEData and browseVignettes('SFEData') for documentation
loading from cache
see ?SFEData and browseVignettes('SFEData') for documentation
loading from cache
The downloaded files are in /private/tmp/Rtmp493oeU/file3f257f6c9066/xenium_lr 
>>> Cell segmentations are found in `.csv` file(s)
>>> Reading cell and nucleus segmentations
>>> Making POLYGON geometries
>>> Checking polygon validity
>>> Saving geometries to parquet files
>>> Reading cell metadata -> `cells.csv`
>>> Reading h5 gene count matrix
>>> filtering cellSeg geometries to match 16324 cells with counts > 0
>>> filtering nucSeg geometries to match 16324 cells with counts > 0
[ FAIL 1 | WARN 0 | SKIP 10 | PASS 1256 ]

══ Skipped tests (10) ══════════════════════════════════════════════════════════
• On Bioconductor (1): 'test-read.R:692:5'
• Skipping (6): 'test-graph_wrappers.R:169:5', 'test-read.R:144:5',
  'test-read.R:158:5', 'test-read.R:168:5', 'test-read.R:175:5',
  'test-read.R:187:5'
• gdalParquetAvailable() is not TRUE (3): 'test-formatTxSpots.R:113:5',
  'test-formatTxSpots.R:140:5', 'test-formatTxSpots.R:157:5'

══ Failed tests ════════════════════════════════════════════════════════════════
── Failure ('test-formatTxSpots.R:13:5'): Read MERFISH transcript spots into rowGeometries ──
sum(v$mosaic_PolyT_z3 < 30, na.rm = TRUE) < 10 is not TRUE

`actual`:   FALSE
`expected`: TRUE 

[ FAIL 1 | WARN 0 | SKIP 10 | PASS 1256 ]
Error: Test failures
Execution halted

Example timings

SpatialFeatureExperiment.Rcheck/SpatialFeatureExperiment-Ex.timings

nameusersystemelapsed
Img-set-SpatialExperiment-method19.269 1.68520.895
SFE-image2.5990.1713.800
SFE-transform5.4760.2036.531
SpatRasterImage0.0000.0010.001
SpatialFeatureExperiment-coercion1.9830.0872.082
SpatialFeatureExperiment-subset3.2150.2024.257
SpatialFeatureExperiment0.4420.0150.462
addVisiumSpotPoly2.0740.0752.154
aggBboxes0.0010.0000.000
aggregate-SpatialFeatureExperiment-method000
annotGeometries2.4320.1903.478
annotOp4.0220.1855.073
annotPred4.0640.1795.113
annotSummary4.4200.1805.493
bbox-SpatialFeatureExperiment-method4.1230.1835.164
bbox_center0.0000.0000.001
cbind-SpatialFeatureExperiment-method 8.897 0.35710.968
changeSampleIDs3.9540.1844.962
colFeatureData3.8060.2364.939
colGeometries3.4260.1914.533
crop5.8530.2167.028
df2sf0.0130.0030.017
dimGeometries 8.877 0.36311.016
findSpatialNeighbors-SpatialFeatureExperiment-method6.9320.3569.102
findVisiumGraph7.5850.3699.667
formatTxSpots22.368 1.31325.207
formatTxTech7.2700.4907.806
gdalParquetAvailable0.0020.0010.003
getParams3.9580.2485.482
getPixelSize6.0090.3096.774
imageIDs0.5690.0130.584
listw2sparse4.3200.1945.382
localResults0.9900.0171.010
multi_listw2sparse0.0000.0010.000
read10xVisiumSFE1.4420.0301.476
readCosMX3.1970.2014.081
readSelectTx0.0330.0020.023
readVisiumHD0.0000.0000.001
readVizgen5.3220.2615.958
readXenium15.782 0.69216.100
removeEmptySpace11.352 0.36612.819
rowGeometries13.021 0.71413.790
sampleIDs3.4390.1594.683
saveRDS-SpatialFeatureExperiment-method1.5380.0331.582
show-SpatialFeatureExperiment-method3.5920.1814.643
spatialGraphs11.802 0.38313.945
splitByCol000
st_any_pred0.0310.0020.034
unit-SpatialFeatureExperiment-method3.3690.1814.451
updateObject3.9230.1854.993