Back to Multiple platform build/check report for BioC 3.20:   simplified   long
ABCDEFGHIJKLMNOPQR[S]TUVWXYZ

This page was generated on 2025-02-06 12:05 -0500 (Thu, 06 Feb 2025).

HostnameOSArch (*)R versionInstalled pkgs
nebbiolo2Linux (Ubuntu 24.04.1 LTS)x86_644.4.2 (2024-10-31) -- "Pile of Leaves" 4753
palomino8Windows Server 2022 Datacenterx644.4.2 (2024-10-31 ucrt) -- "Pile of Leaves" 4501
merida1macOS 12.7.5 Montereyx86_644.4.2 (2024-10-31) -- "Pile of Leaves" 4524
kjohnson1macOS 13.6.6 Venturaarm644.4.2 (2024-10-31) -- "Pile of Leaves" 4476
taishanLinux (openEuler 24.03 LTS)aarch644.4.2 (2024-10-31) -- "Pile of Leaves" 4407
Click on any hostname to see more info about the system (e.g. compilers)      (*) as reported by 'uname -p', except on Windows and Mac OS X

Package 2039/2289HostnameOS / ArchINSTALLBUILDCHECKBUILD BIN
SpliceWiz 1.8.0  (landing page)
Alex Chit Hei Wong
Snapshot Date: 2025-02-03 13:00 -0500 (Mon, 03 Feb 2025)
git_url: https://git.bioconductor.org/packages/SpliceWiz
git_branch: RELEASE_3_20
git_last_commit: 12996a5
git_last_commit_date: 2024-10-29 11:12:40 -0500 (Tue, 29 Oct 2024)
nebbiolo2Linux (Ubuntu 24.04.1 LTS) / x86_64  OK    OK    OK  UNNEEDED, same version is already published
palomino8Windows Server 2022 Datacenter / x64  OK    OK    OK    OK  UNNEEDED, same version is already published
merida1macOS 12.7.5 Monterey / x86_64  OK    OK    OK    NA  
kjohnson1macOS 13.6.6 Ventura / arm64  OK    OK    OK    OK  UNNEEDED, same version is already published
taishanLinux (openEuler 24.03 LTS) / aarch64  OK    OK    OK  


CHECK results for SpliceWiz on nebbiolo2

To the developers/maintainers of the SpliceWiz package:
- Allow up to 24 hours (and sometimes 48 hours) for your latest push to git@git.bioconductor.org:packages/SpliceWiz.git to reflect on this report. See Troubleshooting Build Report for more information.
- Use the following Renviron settings to reproduce errors and warnings.
- If 'R CMD check' started to fail recently on the Linux builder(s) over a missing dependency, add the missing dependency to 'Suggests:' in your DESCRIPTION file. See Renviron.bioc for more information.

raw results


Summary

Package: SpliceWiz
Version: 1.8.0
Command: /home/biocbuild/bbs-3.20-bioc/R/bin/R CMD check --install=check:SpliceWiz.install-out.txt --library=/home/biocbuild/bbs-3.20-bioc/R/site-library --timings SpliceWiz_1.8.0.tar.gz
StartedAt: 2025-02-04 02:48:47 -0500 (Tue, 04 Feb 2025)
EndedAt: 2025-02-04 03:06:35 -0500 (Tue, 04 Feb 2025)
EllapsedTime: 1068.0 seconds
RetCode: 0
Status:   OK  
CheckDir: SpliceWiz.Rcheck
Warnings: 0

Command output

##############################################################################
##############################################################################
###
### Running command:
###
###   /home/biocbuild/bbs-3.20-bioc/R/bin/R CMD check --install=check:SpliceWiz.install-out.txt --library=/home/biocbuild/bbs-3.20-bioc/R/site-library --timings SpliceWiz_1.8.0.tar.gz
###
##############################################################################
##############################################################################


* using log directory ‘/home/biocbuild/bbs-3.20-bioc/meat/SpliceWiz.Rcheck’
* using R version 4.4.2 (2024-10-31)
* using platform: x86_64-pc-linux-gnu
* R was compiled by
    gcc (Ubuntu 13.2.0-23ubuntu4) 13.2.0
    GNU Fortran (Ubuntu 13.2.0-23ubuntu4) 13.2.0
* running under: Ubuntu 24.04.1 LTS
* using session charset: UTF-8
* checking for file ‘SpliceWiz/DESCRIPTION’ ... OK
* this is package ‘SpliceWiz’ version ‘1.8.0’
* package encoding: UTF-8
* checking package namespace information ... OK
* checking package dependencies ... OK
* checking if this is a source package ... OK
* checking if there is a namespace ... OK
* checking for hidden files and directories ... OK
* checking for portable file names ... OK
* checking for sufficient/correct file permissions ... OK
* checking whether package ‘SpliceWiz’ can be installed ... OK
* used C++ compiler: ‘g++ (Ubuntu 13.3.0-6ubuntu2~24.04) 13.3.0’
* checking C++ specification ... NOTE
  Specified C++11: please drop specification unless essential
* checking installed package size ... NOTE
  installed size is 12.3Mb
  sub-directories of 1Mb or more:
    R      2.2Mb
    libs   8.8Mb
* checking package directory ... OK
* checking ‘build’ directory ... OK
* checking DESCRIPTION meta-information ... NOTE
License stub is invalid DCF.
* checking top-level files ... OK
* checking for left-over files ... OK
* checking index information ... OK
* checking package subdirectories ... OK
* checking code files for non-ASCII characters ... OK
* checking R files for syntax errors ... OK
* checking whether the package can be loaded ... OK
* checking whether the package can be loaded with stated dependencies ... OK
* checking whether the package can be unloaded cleanly ... OK
* checking whether the namespace can be loaded with stated dependencies ... OK
* checking whether the namespace can be unloaded cleanly ... OK
* checking loading without being on the library search path ... OK
* checking whether startup messages can be suppressed ... OK
* checking dependencies in R code ... OK
* checking S3 generic/method consistency ... OK
* checking replacement functions ... OK
* checking foreign function calls ... OK
* checking R code for possible problems ... OK
* checking Rd files ... OK
* checking Rd metadata ... OK
* checking Rd cross-references ... OK
* checking for missing documentation entries ... OK
* checking for code/documentation mismatches ... OK
* checking Rd \usage sections ... OK
* checking Rd contents ... OK
* checking for unstated dependencies in examples ... OK
* checking line endings in shell scripts ... OK
* checking line endings in C/C++/Fortran sources/headers ... OK
* checking line endings in Makefiles ... OK
* checking compilation flags in Makevars ... OK
* checking for GNU extensions in Makefiles ... OK
* checking for portable use of $(BLAS_LIBS) and $(LAPACK_LIBS) ... OK
* checking use of PKG_*FLAGS in Makefiles ... OK
* checking compiled code ... NOTE
Note: information on .o files is not available
* checking files in ‘vignettes’ ... OK
* checking examples ... OK
Examples with CPU (user + system) or elapsed time > 5s
                          user system elapsed
Build-Reference-methods 49.600  3.878  54.003
NxtSE-class             50.078  2.946  53.042
ASE-methods             27.214  0.573  27.784
covPlotObject-class     19.358  0.890  20.042
plotCoverage            12.138  0.608  12.646
Run_SpliceWiz_Filters    7.599  0.919   8.517
* checking for unstated dependencies in ‘tests’ ... OK
* checking tests ...
  Running ‘testthat.R’
 OK
* checking for unstated dependencies in vignettes ... OK
* checking package vignettes ... OK
* checking re-building of vignette outputs ... OK
* checking PDF version of manual ... OK
* DONE

Status: 4 NOTEs
See
  ‘/home/biocbuild/bbs-3.20-bioc/meat/SpliceWiz.Rcheck/00check.log’
for details.


Installation output

SpliceWiz.Rcheck/00install.out

##############################################################################
##############################################################################
###
### Running command:
###
###   /home/biocbuild/bbs-3.20-bioc/R/bin/R CMD INSTALL SpliceWiz
###
##############################################################################
##############################################################################


* installing to library ‘/home/biocbuild/bbs-3.20-bioc/R/site-library’
* installing *source* package ‘SpliceWiz’ ...
** using staged installation
** libs
using C++ compiler: ‘g++ (Ubuntu 13.3.0-6ubuntu2~24.04) 13.3.0’
using C++11
g++ -std=gnu++11 -I"/home/biocbuild/bbs-3.20-bioc/R/include" -DNDEBUG  -I'/home/biocbuild/bbs-3.20-bioc/R/site-library/ompBAM/include' -I'/home/biocbuild/bbs-3.20-bioc/R/site-library/Rcpp/include' -I'/home/biocbuild/bbs-3.20-bioc/R/site-library/RcppProgress/include' -I/usr/local/include   -fopenmp -DSPLICEWIZ -fpic  -g -O2  -Wall  -c BAM2blocks.cpp -o BAM2blocks.o
g++ -std=gnu++11 -I"/home/biocbuild/bbs-3.20-bioc/R/include" -DNDEBUG  -I'/home/biocbuild/bbs-3.20-bioc/R/site-library/ompBAM/include' -I'/home/biocbuild/bbs-3.20-bioc/R/site-library/Rcpp/include' -I'/home/biocbuild/bbs-3.20-bioc/R/site-library/RcppProgress/include' -I/usr/local/include   -fopenmp -DSPLICEWIZ -fpic  -g -O2  -Wall  -c FastaReader.cpp -o FastaReader.o
g++ -std=gnu++11 -I"/home/biocbuild/bbs-3.20-bioc/R/include" -DNDEBUG  -I'/home/biocbuild/bbs-3.20-bioc/R/site-library/ompBAM/include' -I'/home/biocbuild/bbs-3.20-bioc/R/site-library/Rcpp/include' -I'/home/biocbuild/bbs-3.20-bioc/R/site-library/RcppProgress/include' -I/usr/local/include   -fopenmp -DSPLICEWIZ -fpic  -g -O2  -Wall  -c FragmentBlocks.cpp -o FragmentBlocks.o
g++ -std=gnu++11 -I"/home/biocbuild/bbs-3.20-bioc/R/include" -DNDEBUG  -I'/home/biocbuild/bbs-3.20-bioc/R/site-library/ompBAM/include' -I'/home/biocbuild/bbs-3.20-bioc/R/site-library/Rcpp/include' -I'/home/biocbuild/bbs-3.20-bioc/R/site-library/RcppProgress/include' -I/usr/local/include   -fopenmp -DSPLICEWIZ -fpic  -g -O2  -Wall  -c GZTools.cpp -o GZTools.o
g++ -std=gnu++11 -I"/home/biocbuild/bbs-3.20-bioc/R/include" -DNDEBUG  -I'/home/biocbuild/bbs-3.20-bioc/R/site-library/ompBAM/include' -I'/home/biocbuild/bbs-3.20-bioc/R/site-library/Rcpp/include' -I'/home/biocbuild/bbs-3.20-bioc/R/site-library/RcppProgress/include' -I/usr/local/include   -fopenmp -DSPLICEWIZ -fpic  -g -O2  -Wall  -c RcppExports.cpp -o RcppExports.o
g++ -std=gnu++11 -I"/home/biocbuild/bbs-3.20-bioc/R/include" -DNDEBUG  -I'/home/biocbuild/bbs-3.20-bioc/R/site-library/ompBAM/include' -I'/home/biocbuild/bbs-3.20-bioc/R/site-library/Rcpp/include' -I'/home/biocbuild/bbs-3.20-bioc/R/site-library/RcppProgress/include' -I/usr/local/include   -fopenmp -DSPLICEWIZ -fpic  -g -O2  -Wall  -c ReadBlockProcessor.cpp -o ReadBlockProcessor.o
g++ -std=gnu++11 -I"/home/biocbuild/bbs-3.20-bioc/R/include" -DNDEBUG  -I'/home/biocbuild/bbs-3.20-bioc/R/site-library/ompBAM/include' -I'/home/biocbuild/bbs-3.20-bioc/R/site-library/Rcpp/include' -I'/home/biocbuild/bbs-3.20-bioc/R/site-library/RcppProgress/include' -I/usr/local/include   -fopenmp -DSPLICEWIZ -fpic  -g -O2  -Wall  -c ReadBlockProcessor_CoverageBlocks.cpp -o ReadBlockProcessor_CoverageBlocks.o
g++ -std=gnu++11 -I"/home/biocbuild/bbs-3.20-bioc/R/include" -DNDEBUG  -I'/home/biocbuild/bbs-3.20-bioc/R/site-library/ompBAM/include' -I'/home/biocbuild/bbs-3.20-bioc/R/site-library/Rcpp/include' -I'/home/biocbuild/bbs-3.20-bioc/R/site-library/RcppProgress/include' -I/usr/local/include   -fopenmp -DSPLICEWIZ -fpic  -g -O2  -Wall  -c ReadBlockProcessor_FragmentsMap.cpp -o ReadBlockProcessor_FragmentsMap.o
g++ -std=gnu++11 -I"/home/biocbuild/bbs-3.20-bioc/R/include" -DNDEBUG  -I'/home/biocbuild/bbs-3.20-bioc/R/site-library/ompBAM/include' -I'/home/biocbuild/bbs-3.20-bioc/R/site-library/Rcpp/include' -I'/home/biocbuild/bbs-3.20-bioc/R/site-library/RcppProgress/include' -I/usr/local/include   -fopenmp -DSPLICEWIZ -fpic  -g -O2  -Wall  -c ReadBlockProcessor_TandemJunctions.cpp -o ReadBlockProcessor_TandemJunctions.o
g++ -std=gnu++11 -I"/home/biocbuild/bbs-3.20-bioc/R/include" -DNDEBUG  -I'/home/biocbuild/bbs-3.20-bioc/R/site-library/ompBAM/include' -I'/home/biocbuild/bbs-3.20-bioc/R/site-library/Rcpp/include' -I'/home/biocbuild/bbs-3.20-bioc/R/site-library/RcppProgress/include' -I/usr/local/include   -fopenmp -DSPLICEWIZ -fpic  -g -O2  -Wall  -c covTools.cpp -o covTools.o
g++ -std=gnu++11 -I"/home/biocbuild/bbs-3.20-bioc/R/include" -DNDEBUG  -I'/home/biocbuild/bbs-3.20-bioc/R/site-library/ompBAM/include' -I'/home/biocbuild/bbs-3.20-bioc/R/site-library/Rcpp/include' -I'/home/biocbuild/bbs-3.20-bioc/R/site-library/RcppProgress/include' -I/usr/local/include   -fopenmp -DSPLICEWIZ -fpic  -g -O2  -Wall  -c main.cpp -o main.o
g++ -std=gnu++11 -I"/home/biocbuild/bbs-3.20-bioc/R/include" -DNDEBUG  -I'/home/biocbuild/bbs-3.20-bioc/R/site-library/ompBAM/include' -I'/home/biocbuild/bbs-3.20-bioc/R/site-library/Rcpp/include' -I'/home/biocbuild/bbs-3.20-bioc/R/site-library/RcppProgress/include' -I/usr/local/include   -fopenmp -DSPLICEWIZ -fpic  -g -O2  -Wall  -c swEngine.cpp -o swEngine.o
g++ -std=gnu++11 -I"/home/biocbuild/bbs-3.20-bioc/R/include" -DNDEBUG  -I'/home/biocbuild/bbs-3.20-bioc/R/site-library/ompBAM/include' -I'/home/biocbuild/bbs-3.20-bioc/R/site-library/Rcpp/include' -I'/home/biocbuild/bbs-3.20-bioc/R/site-library/RcppProgress/include' -I/usr/local/include   -fopenmp -DSPLICEWIZ -fpic  -g -O2  -Wall  -c synthReadGenerator.cpp -o synthReadGenerator.o
g++ -std=gnu++11 -shared -L/home/biocbuild/bbs-3.20-bioc/R/lib -L/usr/local/lib -o SpliceWiz.so BAM2blocks.o FastaReader.o FragmentBlocks.o GZTools.o RcppExports.o ReadBlockProcessor.o ReadBlockProcessor_CoverageBlocks.o ReadBlockProcessor_FragmentsMap.o ReadBlockProcessor_TandemJunctions.o covTools.o main.o swEngine.o synthReadGenerator.o -fopenmp -DSPLICEWIZ -L/home/biocbuild/bbs-3.20-bioc/R/lib -lR
installing to /home/biocbuild/bbs-3.20-bioc/R/site-library/00LOCK-SpliceWiz/00new/SpliceWiz/libs
** R
** inst
** byte-compile and prepare package for lazy loading
** help
*** installing help indices
** building package indices
** installing vignettes
** testing if installed package can be loaded from temporary location
** checking absolute paths in shared objects and dynamic libraries
** testing if installed package can be loaded from final location
** testing if installed package keeps a record of temporary installation path
* DONE (SpliceWiz)

Tests output

SpliceWiz.Rcheck/tests/testthat.Rout


R version 4.4.2 (2024-10-31) -- "Pile of Leaves"
Copyright (C) 2024 The R Foundation for Statistical Computing
Platform: x86_64-pc-linux-gnu

R is free software and comes with ABSOLUTELY NO WARRANTY.
You are welcome to redistribute it under certain conditions.
Type 'license()' or 'licence()' for distribution details.

R is a collaborative project with many contributors.
Type 'contributors()' for more information and
'citation()' on how to cite R or R packages in publications.

Type 'demo()' for some demos, 'help()' for on-line help, or
'help.start()' for an HTML browser interface to help.
Type 'q()' to quit R.

> library(testthat)
> library(SpliceWiz)
Loading required package: NxtIRFdata
SpliceWiz package loaded with 2 threads
Use setSWthreads() to set the number of SpliceWiz threads
> 
> test_check("SpliceWiz")
Loading required package: Rsubread
Feb 04 02:57:39 Converting FASTA to local TwoBitFile...done
Feb 04 02:57:41 Connecting to genome TwoBitFile...done
Feb 04 02:57:41 Making local copy of GTF file...done
Feb 04 02:57:41 Extracting temp genome FASTA from TwoBit file
Feb 04 02:57:42 Generating synthetic reads, saving to /home/biocbuild/bbs-3.20-bioc/tmpdir/RtmpPkSA5h/refWithMapExcl/Mappability/Reads.fa
0%   10   20   30   40   50   60   70   80   90   100%
[----|----|----|----|----|----|----|----|----|----|
**************************************************|
10145 synthetic reads generated
Feb 04 02:57:42 Cleaning temp genome / gene annotation files

        ==========     _____ _    _ ____  _____  ______          _____  
        =====         / ____| |  | |  _ \|  __ \|  ____|   /\   |  __ \ 
          =====      | (___ | |  | | |_) | |__) | |__     /  \  | |  | |
            ====      \___ \| |  | |  _ <|  _  /|  __|   / /\ \ | |  | |
              ====    ____) | |__| | |_) | | \ \| |____ / ____ \| |__| |
        ==========   |_____/ \____/|____/|_|  \_\______/_/    \_\_____/
       Rsubread 2.20.0

//================================= setting ==================================\\
||                                                                            ||
||                Index name : reference_index                                ||
||               Index space : base space                                     ||
||               Index split : no-split                                       ||
||          Repeat threshold : 100 repeats                                    ||
||              Gapped index : no                                             ||
||                                                                            ||
||       Free / total memory : 89.0GB / 125.4GB                               ||
||                                                                            ||
||               Input files : 1 file in total                                ||
||                             o genome.fa                                    ||
||                                                                            ||
\\============================================================================//

//================================= Running ==================================\\
||                                                                            ||
|| Check the integrity of provided reference sequences ...                    ||
|| No format issues were found                                                ||
|| Scan uninformative subreads in reference sequences ...                     ||
|| Estimate the index size...                                                 ||
||    8%,   0 mins elapsed, rate=42.3k bps/s                                  ||
||   16%,   0 mins elapsed, rate=83.9k bps/s                                  ||
||   24%,   0 mins elapsed, rate=124.9k bps/s                                 ||
||   33%,   0 mins elapsed, rate=165.2k bps/s                                 ||
||   41%,   0 mins elapsed, rate=204.9k bps/s                                 ||
||   49%,   0 mins elapsed, rate=244.1k bps/s                                 ||
||   58%,   0 mins elapsed, rate=282.7k bps/s                                 ||
||   66%,   0 mins elapsed, rate=320.7k bps/s                                 ||
||   74%,   0 mins elapsed, rate=358.3k bps/s                                 ||
||   83%,   0 mins elapsed, rate=395.5k bps/s                                 ||
||   91%,   0 mins elapsed, rate=431.9k bps/s                                 ||
|| 3.0 GB of memory is needed for index building.                             ||
|| Build the index...                                                         ||
||    8%,   0 mins elapsed, rate=4.4k bps/s                                   ||
||   16%,   0 mins elapsed, rate=8.7k bps/s                                   ||
||   24%,   0 mins elapsed, rate=13.1k bps/s                                  ||
||   33%,   0 mins elapsed, rate=17.4k bps/s                                  ||
||   41%,   0 mins elapsed, rate=21.7k bps/s                                  ||
||   49%,   0 mins elapsed, rate=26.0k bps/s                                  ||
||   58%,   0 mins elapsed, rate=30.2k bps/s                                  ||
||   66%,   0 mins elapsed, rate=34.5k bps/s                                  ||
||   74%,   0 mins elapsed, rate=38.7k bps/s                                  ||
||   83%,   0 mins elapsed, rate=43.0k bps/s                                  ||
||   91%,   0 mins elapsed, rate=47.2k bps/s                                  ||
|| Save current index block...                                                ||
||  [ 0.0% finished ]                                                         ||
||  [ 10.0% finished ]                                                        ||
||  [ 20.0% finished ]                                                        ||
||  [ 30.0% finished ]                                                        ||
||  [ 40.0% finished ]                                                        ||
||  [ 50.0% finished ]                                                        ||
||  [ 60.0% finished ]                                                        ||
||  [ 70.0% finished ]                                                        ||
||  [ 80.0% finished ]                                                        ||
||  [ 90.0% finished ]                                                        ||
||  [ 100.0% finished ]                                                       ||
||                                                                            ||
||                      Total running time: 0.2 minutes.                      ||
||              Index ./reference_index was successfully built.               ||
||                                                                            ||
\\============================================================================//


        ==========     _____ _    _ ____  _____  ______          _____  
        =====         / ____| |  | |  _ \|  __ \|  ____|   /\   |  __ \ 
          =====      | (___ | |  | | |_) | |__) | |__     /  \  | |  | |
            ====      \___ \| |  | |  _ <|  _  /|  __|   / /\ \ | |  | |
              ====    ____) | |__| | |_) | | \ \| |____ / ____ \| |__| |
        ==========   |_____/ \____/|____/|_|  \_\______/_/    \_\_____/
       Rsubread 2.20.0

//================================= setting ==================================\\
||                                                                            ||
|| Function      : Read alignment + Junction detection (RNA-Seq)              ||
|| Input file    : Reads.fa                                                   ||
|| Output file   : AlignedReads.bam (BAM)                                     ||
|| Index name    : reference_index                                            ||
||                                                                            ||
||                    ------------------------------------                    ||
||                                                                            ||
||                               Threads : 1                                  ||
||                          Phred offset : 33                                 ||
||                             Min votes : 1 / 14                             ||
||                        Max mismatches : 3                                  ||
||                      Max indel length : 5                                  ||
||            Report multi-mapping reads : yes                                ||
|| Max alignments per multi-mapping read : 1                                  ||
||                           Annotations : transcripts.gtf (GTF)              ||
||                                                                            ||
\\============================================================================//

//================ Running (04-Feb-2025 02:57:52, pid=818760) ================\\
||                                                                            ||
|| Check the input reads.                                                     ||
|| The input file contains base space reads.                                  ||
|| Initialise the memory objects.                                             ||
|| Estimate the mean read length.                                             ||
|| Create the output BAM file.                                                ||
|| Check the index.                                                           ||
|| Init the voting space.                                                     ||
|| Load the annotation file.                                                  ||
|| 538 annotation records were loaded.                                        ||
|| Global environment is initialised.                                         ||
|| Load the 1-th index block...                                               ||
|| The index block has been loaded.                                           ||
|| Start read mapping in chunk.                                               ||
||   65% completed, 0.6 mins elapsed, rate=46.6k reads per second             ||
||   83% completed, 0.6 mins elapsed, rate=0.2k reads per second              ||
||   99% completed, 0.6 mins elapsed, rate=0.3k reads per second              ||
||                                                                            ||
||                           Completed successfully.                          ||
||                                                                            ||
\\====================================    ====================================//

//================================   Summary =================================\\
||                                                                            ||
||                 Total reads : 10,145                                       ||
||                      Mapped : 10,145 (100.0%)                              ||
||             Uniquely mapped : 10,145                                       ||
||               Multi-mapping : 0                                            ||
||                                                                            ||
||                    Unmapped : 0                                            ||
||                                                                            ||
||                   Junctions : 0                                            ||
||                      Indels : 1                                            ||
||                                                                            ||
||                Running time : 0.6 minutes                                  ||
||                                                                            ||
\\============================================================================//

Feb 04 02:58:28 Calculating Mappability Exclusion regions from: /home/biocbuild/bbs-3.20-bioc/tmpdir/RtmpPkSA5h/refWithMapExcl/Mappability/AlignedReads.bam
Calculating Mappability Exclusions: /home/biocbuild/bbs-3.20-bioc/tmpdir/RtmpPkSA5h/refWithMapExcl/Mappability/AlignedReads.bam
0%   10   20   30   40   50   60   70   80   90   100%
[----|----|----|----|----|----|----|----|----|----|
**************************************************|
Performing final sort of fragment maps
Writing Mappability Exclusions
**************************************************|
0%   10   20   30   40   50   60   70   80   90   100%
[----|----|----|----|----|----|----|----|----|----|
**************************************************|
Feb 04 02:58:31 Reference generated without non-polyA reference
Feb 04 02:58:31 Reference generated without Mappability reference
Feb 04 02:58:31 Reference generated without Blacklist exclusion
Feb 04 02:58:31 Converting FASTA to local TwoBitFile...done
Feb 04 02:58:33 Connecting to genome TwoBitFile...done
Feb 04 02:58:33 Making local copy of GTF file...done
Feb 04 02:58:33 Reading source GTF file...done
Feb 04 02:58:33 Processing gtf file...
...genes
...transcripts
...CDS
...exons
done
Feb 04 02:58:34 Gene ontology not prepared for this reference
Feb 04 02:58:36 Processing introns...
...data
...basic annotations
...splice motifs
...other info
...defining flanking exon clusters
done
Feb 04 02:58:40 Generating processBAM reference
...prepping data
...determining measurable introns (directional)
...determining measurable introns (non-directional)
...writing ref-cover.bed
...writing ref-ROI.bed
...writing ref-read-continues.ref
...writing ref-sj.ref
...writing ref-tj.ref
processBAM reference generated
Feb 04 02:58:46 Predicting NMD transcripts from genome sequence
...exonic transcripts
...retained introns

  |                                                                            
  |                                                                      |   0%
  |                                                                            
  |======================================================================| 100%
done
Feb 04 02:58:48 Annotating Splice Events
Annotating Mutually-Exclusive-Exon Splice Events...done
Annotating Skipped-Exon Splice Events...done
Annotating Alternate 5' / 3' Splice Site Splice Events...done
Annotating Alternate First / Last Exon Splice Events...done
Annotating known retained introns...done
Feb 04 02:58:49 Splice Annotations Filtered
Feb 04 02:58:50 Translating Alternate Splice Peptides...done
Feb 04 02:58:51 Splice Annotations finished

Reference build finished
Feb 04 02:58:52 Running SpliceWiz processBAM
Reading reference file
Allocating memory to 1 threads for SpliceWiz (ompBAM)...initialized (0 milliseconds)
Processing BAM file /home/biocbuild/bbs-3.20-bioc/tmpdir/RtmpPkSA5h/02H003.bam
0%   10   20   30   40   50   60   70   80   90   100%
[----|----|----|----|----|----|----|----|----|----|
**************************************************|
Performing final sort of fragment maps
Writing COV file
**************************************************|
0%   10   20   30   40   50   60   70   80   90   100%
[----|----|----|----|----|----|----|----|----|----|
**************************************************|
Writing output file
/home/biocbuild/bbs-3.20-bioc/tmpdir/RtmpPkSA5h/02H003.bam processed (360 milliseconds)
Feb 04 02:58:52 Running SpliceWiz processBAM
Reading reference file
Allocating memory to 2 threads for SpliceWiz (ompBAM)...initialized (0 milliseconds)
Processing BAM file /home/biocbuild/bbs-3.20-bioc/tmpdir/RtmpPkSA5h/02H003.bam
0%   10   20   30   40   50   60   70   80   90   100%
[----|----|----|----|----|----|----|----|----|----|
**************************************************|
Compiling data from threads
Performing final sort of fragment maps
Writing COV file
**************************************************|
0%   10   20   30   40   50   60   70   80   90   100%
[----|----|----|----|----|----|----|----|----|----|
**************************************************|
Writing output file
/home/biocbuild/bbs-3.20-bioc/tmpdir/RtmpPkSA5h/02H003.bam processed (237 milliseconds)
Feb 04 02:58:52 Reference generated without non-polyA reference
Feb 04 02:58:52 Reference generated without Mappability reference
Feb 04 02:58:52 Reference generated without Blacklist exclusion
Feb 04 02:58:52 Converting FASTA to local TwoBitFile...done
Feb 04 02:58:53 Connecting to genome TwoBitFile...done
Feb 04 02:58:53 Making local copy of GTF file...done
Feb 04 02:58:53 Reading source GTF file...done
Feb 04 02:58:54 Processing gtf file...
...genes
...transcripts
...CDS
Feb 04 02:58:54 No protein information detected in reference! For full functionality, ensure there are valid entries with type == `CDS` in the gtf file. Protein reference and NMD annotation is skipped.
...exons
done
Feb 04 02:58:54 Gene ontology not prepared for this reference
Feb 04 02:58:57 Processing introns...
...data
...basic annotations
...splice motifs
...other info
...defining flanking exon clusters
done
Feb 04 02:59:00 Generating processBAM reference
...prepping data
...determining measurable introns (directional)
...determining measurable introns (non-directional)
...writing ref-cover.bed
...writing ref-ROI.bed
...writing ref-read-continues.ref
...writing ref-sj.ref
...writing ref-tj.ref
processBAM reference generated
Feb 04 02:59:06 Annotating Splice Events
Annotating Mutually-Exclusive-Exon Splice Events...done
Annotating Skipped-Exon Splice Events...done
Annotating Alternate 5' / 3' Splice Site Splice Events...done
Annotating Alternate First / Last Exon Splice Events...done
Annotating known retained introns...done
Feb 04 02:59:07 Splice Annotations Filtered
Reference build finished
Feb 04 02:59:09 Running SpliceWiz processBAM
Allocating memory to 1 threads for SpliceWiz (ompBAM)...initialized (0 milliseconds)
/home/biocbuild/bbs-3.20-bioc/tmpdir/RtmpPkSA5h/02H003.bam processed (365 milliseconds)
/home/biocbuild/bbs-3.20-bioc/tmpdir/RtmpPkSA5h/02H025.bam processed (294 milliseconds)
/home/biocbuild/bbs-3.20-bioc/tmpdir/RtmpPkSA5h/02H026.bam processed (452 milliseconds)
/home/biocbuild/bbs-3.20-bioc/tmpdir/RtmpPkSA5h/02H033.bam processed (447 milliseconds)
/home/biocbuild/bbs-3.20-bioc/tmpdir/RtmpPkSA5h/02H043.bam processed (283 milliseconds)
/home/biocbuild/bbs-3.20-bioc/tmpdir/RtmpPkSA5h/02H046.bam processed (409 milliseconds)
Feb 04 02:59:12 Using MulticoreParam 1 threads
Feb 04 02:59:12 Validating Experiment; checking COV files...
Feb 04 02:59:12 Compiling Sample Stats
Feb 04 02:59:13 Compiling Junction List...merging...done
Feb 04 02:59:14 Compiling Junction Stats...merging...done
Feb 04 02:59:21 Compiling Intron Retention List...done
Feb 04 02:59:22 Tidying up splice junctions and intron retentions...
...annotating splice junctions
...copying splicing reference
...grouping splice junctions
...grouping introns
...loading splice events
...compiling rowEvents
done

Feb 04 02:59:32 Generating NxtSE assays
Feb 04 02:59:34 Using MulticoreParam 1 threads

  |                                                                            
  |                                                                      |   0%
  |                                                                            
  |============                                                          |  17%
  |                                                                            
  |=======================                                               |  33%
  |                                                                            
  |===================================                                   |  50%
  |                                                                            
  |===============================================                       |  67%
  |                                                                            
  |==========================================================            |  83%
  |                                                                            
  |======================================================================| 100%

Feb 04 02:59:49 Building Final NxtSE Object
Feb 04 02:59:49 ...consolidating assays to H5 file
Feb 04 02:59:51 ...packaging reference
Feb 04 02:59:51 ...synthesising NxtSE
Feb 04 02:59:51 ...determining how overlapping introns should be removed
Feb 04 02:59:54 SpliceWiz (NxtSE) Collation Finished
Feb 04 02:59:54 Loading NxtSE object from file...
Feb 04 02:59:54 ...loading reference (NxtSE)
Feb 04 02:59:54 ...linking assays
Feb 04 02:59:54 ...linking COV files
Feb 04 02:59:54 ...loading rowData
Feb 04 02:59:54 ...removing overlapping introns...
Feb 04 02:59:54 NxtSE loaded
Feb 04 02:59:54 SpliceWiz reference already exists in given directory
Feb 04 02:59:54 Running SpliceWiz processBAM
Allocating memory to 1 threads for SpliceWiz (ompBAM)...initialized (0 milliseconds)
/home/biocbuild/bbs-3.20-bioc/tmpdir/RtmpPkSA5h/02H003.bam processed (364 milliseconds)
/home/biocbuild/bbs-3.20-bioc/tmpdir/RtmpPkSA5h/02H025.bam processed (300 milliseconds)
/home/biocbuild/bbs-3.20-bioc/tmpdir/RtmpPkSA5h/02H026.bam processed (448 milliseconds)
/home/biocbuild/bbs-3.20-bioc/tmpdir/RtmpPkSA5h/02H033.bam processed (442 milliseconds)
/home/biocbuild/bbs-3.20-bioc/tmpdir/RtmpPkSA5h/02H043.bam processed (290 milliseconds)
/home/biocbuild/bbs-3.20-bioc/tmpdir/RtmpPkSA5h/02H046.bam processed (411 milliseconds)
Feb 04 02:59:58 Using MulticoreParam 1 threads
Feb 04 02:59:58 Validating Experiment; checking COV files...
Feb 04 02:59:59 Compiling Sample Stats
Feb 04 02:59:59 Compiling Junction List...merging...done
Feb 04 03:00:00 Compiling Junction Stats...merging...done
Feb 04 03:00:08 Compiling Intron Retention List...done
Feb 04 03:00:09 Compiling Tandem Junction List...merging...done
Feb 04 03:00:10 Tidying up splice junctions and intron retentions...
...annotating splice junctions
...looking for novel exons
Feb 04 03:00:13 Assembling novel splicing reference:
...loading reference FASTA/GTF
...injecting novel transcripts to GTF
...processing GTF
...processing introns from GTF
...annotating alternative splicing events
done
Feb 04 03:00:23 Tidying up splice junctions and intron retentions (part 2)...
...grouping splice junctions
...grouping introns
...loading splice events
...compiling rowEvents
done

Feb 04 03:00:31 Generating NxtSE assays
Feb 04 03:00:32 Using MulticoreParam 1 threads

  |                                                                            
  |                                                                      |   0%
  |                                                                            
  |============                                                          |  17%
  |                                                                            
  |=======================                                               |  33%
  |                                                                            
  |===================================                                   |  50%
  |                                                                            
  |===============================================                       |  67%
  |                                                                            
  |==========================================================            |  83%
  |                                                                            
  |======================================================================| 100%

Feb 04 03:00:47 Building Final NxtSE Object
Feb 04 03:00:47 ...consolidating assays to H5 file
Feb 04 03:00:48 ...packaging reference
Feb 04 03:00:48 ...synthesising NxtSE
Feb 04 03:00:48 ...determining how overlapping introns should be removed
Feb 04 03:00:51 SpliceWiz (NxtSE) Collation Finished
Feb 04 03:00:51 Loading NxtSE object from file...
Feb 04 03:00:51 ...loading reference (NxtSE)
Feb 04 03:00:51 ...linking assays
Feb 04 03:00:51 ...linking COV files
Feb 04 03:00:51 ...loading rowData
Feb 04 03:00:51 ...removing overlapping introns...
Feb 04 03:00:51 NxtSE loaded
Feb 04 03:00:51 SpliceWiz reference already exists in given directory
Feb 04 03:00:51 Running SpliceWiz processBAM
Allocating memory to 1 threads for SpliceWiz (ompBAM)...initialized (0 milliseconds)
/home/biocbuild/bbs-3.20-bioc/tmpdir/RtmpPkSA5h/02H003.bam processed (366 milliseconds)
/home/biocbuild/bbs-3.20-bioc/tmpdir/RtmpPkSA5h/02H025.bam processed (288 milliseconds)
/home/biocbuild/bbs-3.20-bioc/tmpdir/RtmpPkSA5h/02H026.bam processed (441 milliseconds)
/home/biocbuild/bbs-3.20-bioc/tmpdir/RtmpPkSA5h/02H033.bam processed (452 milliseconds)
/home/biocbuild/bbs-3.20-bioc/tmpdir/RtmpPkSA5h/02H043.bam processed (277 milliseconds)
/home/biocbuild/bbs-3.20-bioc/tmpdir/RtmpPkSA5h/02H046.bam processed (401 milliseconds)
Feb 04 03:00:55 Using MulticoreParam 1 threads
Feb 04 03:00:55 Validating Experiment; checking COV files...
Feb 04 03:00:55 Compiling Sample Stats
Feb 04 03:00:55 Compiling Junction List...merging...done
Feb 04 03:00:56 Compiling Junction Stats...merging...done
Feb 04 03:01:03 Compiling Intron Retention List...done
Feb 04 03:01:04 Tidying up splice junctions and intron retentions...
...annotating splice junctions
...copying splicing reference
...grouping splice junctions
...grouping introns
...loading splice events
...compiling rowEvents
done

Feb 04 03:01:14 Generating NxtSE assays
Feb 04 03:01:15 Using MulticoreParam 1 threads

  |                                                                            
  |                                                                      |   0%
  |                                                                            
  |============                                                          |  17%
  |                                                                            
  |=======================                                               |  33%
  |                                                                            
  |===================================                                   |  50%
  |                                                                            
  |===============================================                       |  67%
  |                                                                            
  |==========================================================            |  83%
  |                                                                            
  |======================================================================| 100%

Feb 04 03:01:30 Building Final NxtSE Object
Feb 04 03:01:30 ...consolidating assays to H5 file
Feb 04 03:01:32 ...packaging reference
Feb 04 03:01:32 ...synthesising NxtSE
Feb 04 03:01:32 ...determining how overlapping introns should be removed
Feb 04 03:01:35 SpliceWiz (NxtSE) Collation Finished
Feb 04 03:01:35 Loading NxtSE object from file...
Feb 04 03:01:35 ...loading reference (NxtSE)
Feb 04 03:01:35 ...linking assays
Feb 04 03:01:35 ...linking COV files
Feb 04 03:01:35 ...loading rowData
Feb 04 03:01:35 ...removing overlapping introns...
Feb 04 03:01:35 NxtSE loaded
                                    path paired strand  depth mean_frag_size
02H003 ../SpliceWiz_Output/02H003.txt.gz   TRUE     -1 106256       149.3108
02H025 ../SpliceWiz_Output/02H025.txt.gz   TRUE     -1  84872       151.5914
02H026 ../SpliceWiz_Output/02H026.txt.gz   TRUE     -1 131514       150.3238
02H033 ../SpliceWiz_Output/02H033.txt.gz   TRUE     -1 129013       153.9754
02H043 ../SpliceWiz_Output/02H043.txt.gz   TRUE     -1  80254       155.4004
02H046 ../SpliceWiz_Output/02H046.txt.gz   TRUE     -1 120174       151.2840
       directionality_strength Intergenic_Fraction rRNA_Fraction
02H003                    9850                   0             0
02H025                    9848                   0             0
02H026                    9848                   0             0
02H033                    9855                   0             0
02H043                    9841                   0             0
02H046                    9857                   0             0
       NonPolyA_Fraction Mitochondrial_Fraction Unanno_Jn_Fraction
02H003                 0                      0        0.013449472
02H025                 0                      0        0.011203515
02H026                 0                      0        0.007282382
02H033                 0                      0        0.006310241
02H043                 0                      0        0.005871040
02H046                 0                      0        0.009819533
       NMD_Jn_Fraction Fraction_Splice_Reads Fraction_Span_Reads IRBurden_clean
02H003     0.019509970             0.3506908           0.1735243     0.05796583
02H025     0.019360162             0.3712414           0.1591691     0.03963531
02H026     0.004298323             0.3980261           0.1615037     0.02576549
02H033     0.007705562             0.4003550           0.1734089     0.03090263
02H043     0.028069104             0.3671219           0.1807511     0.03762138
02H046     0.010542303             0.3725598           0.1603508     0.05099352
       IRBurden_exitrons IRBurden_clean_unstranded IRBurden_exitrons_unstranded
02H003         0.1291810                0.03844293                    0.1296020
02H025         0.1192351                0.02730399                    0.1194005
02H026         0.1231055                0.02010410                    0.1231939
02H033         0.1378958                0.02300500                    0.1380215
02H043         0.1392935                0.02286515                    0.1397365
02H046         0.1132136                0.03359077                    0.1133852
       IRBurden_antisense
02H003        0.021393335
02H025        0.013191532
02H026        0.006007119
02H033        0.008453742
02H043        0.015837096
02H046        0.019043703
MD5 is fcdc53e0f7fbd843529077ebd26dd058
Feb 04 03:01:39 Reference generated without non-polyA reference
Feb 04 03:01:39 Reference generated without Mappability reference
Feb 04 03:01:39 Reference generated without Blacklist exclusion
Feb 04 03:01:39 Converting FASTA to local TwoBitFile...done
Feb 04 03:01:40 Connecting to genome TwoBitFile...done
Feb 04 03:01:40 Making local copy of GTF file...done
Feb 04 03:01:40 Reading source GTF file...done
Feb 04 03:01:40 Processing gtf file...
...genes
...transcripts
...CDS
...exons
done
Feb 04 03:01:41 Gene ontology not prepared for this reference
Feb 04 03:01:43 Processing introns...
...data
...basic annotations
...splice motifs
...other info
...defining flanking exon clusters
done
Feb 04 03:01:48 Generating processBAM reference
...prepping data
...determining measurable introns (directional)
...determining measurable introns (non-directional)
...writing ref-cover.bed
...writing ref-ROI.bed
...writing ref-read-continues.ref
...writing ref-sj.ref
...writing ref-tj.ref
processBAM reference generated
Feb 04 03:01:54 Predicting NMD transcripts from genome sequence
...exonic transcripts
...retained introns

  |                                                                            
  |                                                                      |   0%
  |                                                                            
  |======================================================================| 100%
done
Feb 04 03:01:57 Annotating Splice Events
Annotating Mutually-Exclusive-Exon Splice Events...done
Annotating Skipped-Exon Splice Events...done
Annotating Alternate 5' / 3' Splice Site Splice Events...done
Annotating Alternate First / Last Exon Splice Events...done
Annotating known retained introns...done
Feb 04 03:01:58 Splice Annotations Filtered
Feb 04 03:01:59 Translating Alternate Splice Peptides...done
Feb 04 03:02:00 Splice Annotations finished

Reference build finished
[ FAIL 0 | WARN 0 | SKIP 0 | PASS 47 ]
> 
> # bump to trigger r cmd check
> 
> proc.time()
   user  system elapsed 
246.070  30.332 276.579 

Example timings

SpliceWiz.Rcheck/SpliceWiz-Ex.timings

nameusersystemelapsed
ASE-GLM-edgeR2.1040.1632.268
ASE-methods27.214 0.57327.784
ASEFilter-class0.0420.0000.042
Build-Reference-methods49.600 3.87854.003
Coverage0.8490.0450.886
Gene-ontology-methods1.6180.1171.697
Graphics-User-Interface000
Mappability-methods2.3560.2322.587
NxtSE-class50.078 2.94653.042
Run_SpliceWiz_Filters7.5990.9198.517
STAR-methods0.0010.0020.005
View-Reference-methods0.1830.0230.206
collateData2.5460.2632.806
coord2GR0.0190.0000.020
covDataObject-class1.4170.0721.485
covPlotObject-class19.358 0.89020.042
covPlotly-class0.9570.0100.960
example-SpliceWiz-data0.0100.0010.011
findSamples0.0050.0000.005
isCOV0.0110.0000.011
makeSE1.7950.2742.066
make_plot_data0.0390.0000.040
plotCoverage12.138 0.60812.646
processBAM2.2240.2741.460
setSWthreads0.0000.0060.005
theme_white0.1190.0010.120