Back to Multiple platform build/check report for BioC 3.20:   simplified   long
ABCDEFGHIJKLMNOPQR[S]TUVWXYZ

This page was generated on 2025-02-06 12:12 -0500 (Thu, 06 Feb 2025).

HostnameOSArch (*)R versionInstalled pkgs
nebbiolo2Linux (Ubuntu 24.04.1 LTS)x86_644.4.2 (2024-10-31) -- "Pile of Leaves" 4753
palomino8Windows Server 2022 Datacenterx644.4.2 (2024-10-31 ucrt) -- "Pile of Leaves" 4501
merida1macOS 12.7.5 Montereyx86_644.4.2 (2024-10-31) -- "Pile of Leaves" 4524
kjohnson1macOS 13.6.6 Venturaarm644.4.2 (2024-10-31) -- "Pile of Leaves" 4476
taishanLinux (openEuler 24.03 LTS)aarch644.4.2 (2024-10-31) -- "Pile of Leaves" 4407
Click on any hostname to see more info about the system (e.g. compilers)      (*) as reported by 'uname -p', except on Windows and Mac OS X

Package 2106/2289HostnameOS / ArchINSTALLBUILDCHECKBUILD BIN
SynExtend 1.18.0  (landing page)
Nicholas Cooley
Snapshot Date: 2025-02-03 13:00 -0500 (Mon, 03 Feb 2025)
git_url: https://git.bioconductor.org/packages/SynExtend
git_branch: RELEASE_3_20
git_last_commit: 75461e3
git_last_commit_date: 2024-10-29 10:46:40 -0500 (Tue, 29 Oct 2024)
nebbiolo2Linux (Ubuntu 24.04.1 LTS) / x86_64  OK    OK    OK  UNNEEDED, same version is already published
palomino8Windows Server 2022 Datacenter / x64  OK    OK    OK    OK  UNNEEDED, same version is already published
merida1macOS 12.7.5 Monterey / x86_64  OK    OK    OK    NA  
kjohnson1macOS 13.6.6 Ventura / arm64  OK    OK    OK    OK  UNNEEDED, same version is already published
taishanLinux (openEuler 24.03 LTS) / aarch64  OK    OK    OK  


CHECK results for SynExtend on taishan

To the developers/maintainers of the SynExtend package:
- Allow up to 24 hours (and sometimes 48 hours) for your latest push to git@git.bioconductor.org:packages/SynExtend.git to reflect on this report. See Troubleshooting Build Report for more information.
- Use the following Renviron settings to reproduce errors and warnings.
- If 'R CMD check' started to fail recently on the Linux builder(s) over a missing dependency, add the missing dependency to 'Suggests:' in your DESCRIPTION file. See Renviron.bioc for more information.
- See Martin Grigorov's blog post for how to debug Linux ARM64 related issues on a x86_64 host.

raw results


Summary

Package: SynExtend
Version: 1.18.0
Command: /home/biocbuild/R/R/bin/R CMD check --install=check:SynExtend.install-out.txt --library=/home/biocbuild/R/R/site-library --no-vignettes --timings SynExtend_1.18.0.tar.gz
StartedAt: 2025-02-04 11:34:55 -0000 (Tue, 04 Feb 2025)
EndedAt: 2025-02-04 11:44:54 -0000 (Tue, 04 Feb 2025)
EllapsedTime: 598.8 seconds
RetCode: 0
Status:   OK  
CheckDir: SynExtend.Rcheck
Warnings: 0

Command output

##############################################################################
##############################################################################
###
### Running command:
###
###   /home/biocbuild/R/R/bin/R CMD check --install=check:SynExtend.install-out.txt --library=/home/biocbuild/R/R/site-library --no-vignettes --timings SynExtend_1.18.0.tar.gz
###
##############################################################################
##############################################################################


* using log directory ‘/home/biocbuild/bbs-3.20-bioc/meat/SynExtend.Rcheck’
* using R version 4.4.2 (2024-10-31)
* using platform: aarch64-unknown-linux-gnu
* R was compiled by
    aarch64-unknown-linux-gnu-gcc (GCC) 14.2.0
    GNU Fortran (GCC) 12.3.1 (openEuler 12.3.1-36.oe2403)
* running under: openEuler 24.03 (LTS)
* using session charset: UTF-8
* using option ‘--no-vignettes’
* checking for file ‘SynExtend/DESCRIPTION’ ... OK
* checking extension type ... Package
* this is package ‘SynExtend’ version ‘1.18.0’
* package encoding: UTF-8
* checking package namespace information ... OK
* checking package dependencies ... OK
* checking if this is a source package ... OK
* checking if there is a namespace ... OK
* checking for hidden files and directories ... OK
* checking for portable file names ... OK
* checking for sufficient/correct file permissions ... OK
* checking whether package ‘SynExtend’ can be installed ... OK
* used C compiler: ‘aarch64-unknown-linux-gnu-gcc (GCC) 14.2.0’
* used Fortran compiler: ‘GNU Fortran (GCC) 12.3.1 (openEuler 12.3.1-36.oe2403)’
* checking installed package size ... OK
* checking package directory ... OK
* checking ‘build’ directory ... OK
* checking DESCRIPTION meta-information ... OK
* checking top-level files ... OK
* checking for left-over files ... OK
* checking index information ... OK
* checking package subdirectories ... OK
* checking code files for non-ASCII characters ... OK
* checking R files for syntax errors ... OK
* checking whether the package can be loaded ... OK
* checking whether the package can be loaded with stated dependencies ... OK
* checking whether the package can be unloaded cleanly ... OK
* checking whether the namespace can be loaded with stated dependencies ... OK
* checking whether the namespace can be unloaded cleanly ... OK
* checking loading without being on the library search path ... OK
* checking dependencies in R code ... NOTE
Unexported object imported by a ':::' call: ‘DECIPHER:::.detectCores’
  See the note in ?`:::` about the use of this operator.
* checking S3 generic/method consistency ... OK
* checking replacement functions ... OK
* checking foreign function calls ... OK
* checking R code for possible problems ... OK
* checking Rd files ... OK
* checking Rd metadata ... OK
* checking Rd cross-references ... OK
* checking for missing documentation entries ... OK
* checking for code/documentation mismatches ... OK
* checking Rd \usage sections ... OK
* checking Rd contents ... OK
* checking for unstated dependencies in examples ... OK
* checking contents of ‘data’ directory ... OK
* checking data for non-ASCII characters ... OK
* checking data for ASCII and uncompressed saves ... OK
* checking line endings in C/C++/Fortran sources/headers ... OK
* checking line endings in Makefiles ... OK
* checking compilation flags in Makevars ... OK
* checking for GNU extensions in Makefiles ... OK
* checking for portable use of $(BLAS_LIBS) and $(LAPACK_LIBS) ... OK
* checking use of PKG_*FLAGS in Makefiles ... OK
* checking compiled code ... NOTE
Note: information on .o files is not available
* checking usage of KIND in Fortran files ... OK
* checking files in ‘vignettes’ ... OK
* checking examples ... OK
Examples with CPU (user + system) or elapsed time > 5s
                           user system elapsed
BuiltInEnsembles        113.107  0.124 113.513
BlockExpansion          105.194  1.267 106.764
ExampleStreptomycesData  79.832  0.024  80.061
SelectByK                66.507  0.327  67.019
ExpandDiagonal           38.478  0.355  38.939
SummarizePairs           21.127  0.275  21.460
predict.EvoWeaver        10.435  0.004  10.468
gffToDataFrame            9.530  0.000   9.559
PairSummaries             5.182  0.004   5.199
* checking for unstated dependencies in vignettes ... OK
* checking package vignettes ... OK
* checking running R code from vignettes ... SKIPPED
* checking re-building of vignette outputs ... SKIPPED
* checking PDF version of manual ... OK
* DONE

Status: 2 NOTEs
See
  ‘/home/biocbuild/bbs-3.20-bioc/meat/SynExtend.Rcheck/00check.log’
for details.


Installation output

SynExtend.Rcheck/00install.out

##############################################################################
##############################################################################
###
### Running command:
###
###   /home/biocbuild/R/R/bin/R CMD INSTALL SynExtend
###
##############################################################################
##############################################################################


* installing to library ‘/home/biocbuild/R/R-4.4.2/site-library’
* installing *source* package ‘SynExtend’ ...
** using staged installation
** libs
using C compiler: ‘aarch64-unknown-linux-gnu-gcc (GCC) 14.2.0’
using Fortran compiler: ‘GNU Fortran (GCC) 12.3.1 (openEuler 12.3.1-36.oe2403)’
/opt/ohpc/pub/compiler/gcc/14.2.0/bin/aarch64-unknown-linux-gnu-gcc -I"/home/biocbuild/R/R/include" -DNDEBUG   -I/usr/local/include   -fopenmp -fPIC  -g -O2  -Wall -Werror=format-security -c CDend.c -o CDend.o
/opt/ohpc/pub/compiler/gcc/14.2.0/bin/aarch64-unknown-linux-gnu-gcc -I"/home/biocbuild/R/R/include" -DNDEBUG   -I/usr/local/include   -fopenmp -fPIC  -g -O2  -Wall -Werror=format-security -c CShuffle.c -o CShuffle.o
/opt/ohpc/pub/compiler/gcc/14.2.0/bin/aarch64-unknown-linux-gnu-gcc -I"/home/biocbuild/R/R/include" -DNDEBUG   -I/usr/local/include   -fopenmp -fPIC  -g -O2  -Wall -Werror=format-security -c HungarianAlgo.c -o HungarianAlgo.o
/opt/ohpc/pub/compiler/gcc/14.2.0/bin/aarch64-unknown-linux-gnu-gcc -I"/home/biocbuild/R/R/include" -DNDEBUG   -I/usr/local/include   -fopenmp -fPIC  -g -O2  -Wall -Werror=format-security -c MoranI.c -o MoranI.o
/opt/ohpc/pub/compiler/gcc/14.2.0/bin/aarch64-unknown-linux-gnu-gcc -I"/home/biocbuild/R/R/include" -DNDEBUG   -I/usr/local/include   -fopenmp -fPIC  -g -O2  -Wall -Werror=format-security -c NucleotideCounts.c -o NucleotideCounts.o
/opt/ohpc/pub/compiler/gcc/14.2.0/bin/aarch64-unknown-linux-gnu-gcc -I"/home/biocbuild/R/R/include" -DNDEBUG   -I/usr/local/include   -fopenmp -fPIC  -g -O2  -Wall -Werror=format-security -c OnDiskLP.c -o OnDiskLP.o
/opt/ohpc/pub/compiler/gcc/14.2.0/bin/aarch64-unknown-linux-gnu-gcc -I"/home/biocbuild/R/R/include" -DNDEBUG   -I/usr/local/include   -fopenmp -fPIC  -g -O2  -Wall -Werror=format-security -c PrefixTrie.c -o PrefixTrie.o
/opt/ohpc/pub/compiler/gcc/14.2.0/bin/aarch64-unknown-linux-gnu-gcc -I"/home/biocbuild/R/R/include" -DNDEBUG   -I/usr/local/include   -fopenmp -fPIC  -g -O2  -Wall -Werror=format-security -c R_init_synextend.c -o R_init_synextend.o
/opt/ohpc/pub/compiler/gcc/14.2.0/bin/aarch64-unknown-linux-gnu-gcc -I"/home/biocbuild/R/R/include" -DNDEBUG   -I/usr/local/include   -fopenmp -fPIC  -g -O2  -Wall -Werror=format-security -c RandomForest.c -o RandomForest.o
/opt/ohpc/pub/compiler/gcc/14.2.0/bin/aarch64-unknown-linux-gnu-gcc -I"/home/biocbuild/R/R/include" -DNDEBUG   -I/usr/local/include   -fopenmp -fPIC  -g -O2  -Wall -Werror=format-security -c SEutils.c -o SEutils.o
/opt/ohpc/pub/compiler/gcc/14.2.0/bin/aarch64-unknown-linux-gnu-gcc -I"/home/biocbuild/R/R/include" -DNDEBUG   -I/usr/local/include   -fopenmp -fPIC  -g -O2  -Wall -Werror=format-security -c XORRand.c -o XORRand.o
gfortran  -fPIC  -g -O2  -Wall -Werror=format-security -c  _fortran_tabulate.f95 -o _fortran_tabulate.o
f951: Warning: ‘-Werror=’ argument ‘-Werror=format-security’ is not valid for Fortran
gfortran  -fPIC  -g -O2  -Wall -Werror=format-security -c  _fortran_utils.f95 -o _fortran_utils.o
f951: Warning: ‘-Werror=’ argument ‘-Werror=format-security’ is not valid for Fortran
/opt/ohpc/pub/compiler/gcc/14.2.0/bin/aarch64-unknown-linux-gnu-gcc -I"/home/biocbuild/R/R/include" -DNDEBUG   -I/usr/local/include   -fopenmp -fPIC  -g -O2  -Wall -Werror=format-security -c calcMIR2C.c -o calcMIR2C.o
gfortran  -fPIC  -g -O2  -Wall -Werror=format-security -c  cart_fort.f95 -o cart_fort.o
f951: Warning: ‘-Werror=’ argument ‘-Werror=format-security’ is not valid for Fortran
/opt/ohpc/pub/compiler/gcc/14.2.0/bin/aarch64-unknown-linux-gnu-gcc -I"/home/biocbuild/R/R/include" -DNDEBUG   -I/usr/local/include   -fopenmp -fPIC  -g -O2  -Wall -Werror=format-security -c dendrapply.c -o dendrapply.o
/opt/ohpc/pub/compiler/gcc/14.2.0/bin/aarch64-unknown-linux-gnu-gcc -shared -L/home/biocbuild/R/R/lib -L/usr/local/lib -o SynExtend.so CDend.o CShuffle.o HungarianAlgo.o MoranI.o NucleotideCounts.o OnDiskLP.o PrefixTrie.o R_init_synextend.o RandomForest.o SEutils.o XORRand.o _fortran_tabulate.o _fortran_utils.o calcMIR2C.o cart_fort.o dendrapply.o -fopenmp -L/usr/lib/gcc/aarch64-openEuler-linux/12 -lgfortran -lm -L/home/biocbuild/R/R/lib -lR
installing to /home/biocbuild/R/R-4.4.2/site-library/00LOCK-SynExtend/00new/SynExtend/libs
** R
** data
** inst
** byte-compile and prepare package for lazy loading
** help
*** installing help indices
** building package indices
** installing vignettes
** testing if installed package can be loaded from temporary location
** checking absolute paths in shared objects and dynamic libraries
** testing if installed package can be loaded from final location
** testing if installed package keeps a record of temporary installation path
* DONE (SynExtend)

Tests output


Example timings

SynExtend.Rcheck/SynExtend-Ex.timings

nameusersystemelapsed
BlastSeqs000
BlockExpansion105.194 1.267106.764
BlockReconciliation000
BuiltInEnsembles113.107 0.124113.513
CIDist_NullDist0.0020.0000.001
ClusterByK3.9610.0083.975
DPhyloStatistic0.0410.0000.041
DecisionTree-class0.0490.0000.049
DisjointSet0.1130.0000.113
Endosymbionts_GeneCalls0.0120.0000.011
Endosymbionts_LinkedFeatures0.0250.0000.026
Endosymbionts_Pairs010.0190.0040.024
Endosymbionts_Pairs020.0200.0040.024
Endosymbionts_Pairs030.0230.0000.022
Endosymbionts_Sets0.0030.0000.004
Endosymbionts_Synteny0.0080.0040.012
EstimRearrScen2.0940.0162.118
EstimateExoLabel0.0030.0000.003
EvoWeaver0.0040.0000.004
EvoWeb0.0370.0000.038
ExampleStreptomycesData79.832 0.02480.061
ExoLabel0.0240.0040.027
ExpandDiagonal38.478 0.35538.939
ExtractBy0.3530.0040.358
FastQFromSRR000
FindSets0.0020.0000.002
FitchParsimony0.0970.0000.098
Generic0.0020.0000.002
MakeBlastDb000
MoransI0.0010.0000.001
NucleotideOverlap1.5140.0001.518
PairSummaries5.1820.0045.199
PhyloDistance-CI0.0050.0000.005
PhyloDistance-JRF0.0050.0000.004
PhyloDistance-KF0.0020.0000.002
PhyloDistance-RF0.0030.0000.003
PhyloDistance0.0050.0000.005
PrepareSeqs0.0190.0080.027
RandForest0.0160.0000.016
SelectByK66.507 0.32767.019
SequenceSimilarity0.0810.0040.088
SubSetPairs0.5630.0000.565
SummarizePairs21.127 0.27521.460
SuperTree0.3030.0000.305
SuperTreeEx0.0110.0000.011
dendrapply0.1330.0120.145
gffToDataFrame9.5300.0009.559
plot.EvoWeb1.1930.0041.200
predict.EvoWeaver10.435 0.00410.468
simMat0.0240.0040.028
subset-dendrogram0.3830.0040.388