Back to Multiple platform build/check report for BioC 3.20: simplified long |
|
This page was generated on 2024-11-20 12:07 -0500 (Wed, 20 Nov 2024).
Hostname | OS | Arch (*) | R version | Installed pkgs |
---|---|---|---|---|
teran2 | Linux (Ubuntu 24.04.1 LTS) | x86_64 | 4.4.2 (2024-10-31) -- "Pile of Leaves" | 4481 |
nebbiolo2 | Linux (Ubuntu 24.04.1 LTS) | x86_64 | 4.4.2 (2024-10-31) -- "Pile of Leaves" | 4479 |
palomino8 | Windows Server 2022 Datacenter | x64 | 4.4.2 (2024-10-31 ucrt) -- "Pile of Leaves" | 4359 |
lconway | macOS 12.7.1 Monterey | x86_64 | 4.4.1 (2024-06-14) -- "Race for Your Life" | 4539 |
kunpeng2 | Linux (openEuler 22.03 LTS-SP1) | aarch64 | 4.4.1 (2024-06-14) -- "Race for Your Life" | 4493 |
Click on any hostname to see more info about the system (e.g. compilers) (*) as reported by 'uname -p', except on Windows and Mac OS X |
Package 303/2289 | Hostname | OS / Arch | INSTALL | BUILD | CHECK | BUILD BIN | ||||||||
cellmigRation 1.14.0 (landing page) Waldir Leoncio
| teran2 | Linux (Ubuntu 24.04.1 LTS) / x86_64 | OK | OK | OK | |||||||||
nebbiolo2 | Linux (Ubuntu 24.04.1 LTS) / x86_64 | OK | OK | OK | ||||||||||
palomino8 | Windows Server 2022 Datacenter / x64 | OK | OK | OK | OK | |||||||||
lconway | macOS 12.7.1 Monterey / x86_64 | OK | OK | OK | OK | |||||||||
kunpeng2 | Linux (openEuler 22.03 LTS-SP1) / aarch64 | OK | OK | OK | ||||||||||
To the developers/maintainers of the cellmigRation package: - Allow up to 24 hours (and sometimes 48 hours) for your latest push to git@git.bioconductor.org:packages/cellmigRation.git to reflect on this report. See Troubleshooting Build Report for more information. - Use the following Renviron settings to reproduce errors and warnings. - If 'R CMD check' started to fail recently on the Linux builder(s) over a missing dependency, add the missing dependency to 'Suggests:' in your DESCRIPTION file. See Renviron.bioc for more information. - See Martin Grigorov's blog post for how to debug Linux ARM64 related issues on a x86_64 host. |
Package: cellmigRation |
Version: 1.14.0 |
Command: /home/biocbuild/R/R/bin/R CMD check --install=check:cellmigRation.install-out.txt --library=/home/biocbuild/R/R/site-library --no-vignettes --timings cellmigRation_1.14.0.tar.gz |
StartedAt: 2024-11-20 06:03:59 -0000 (Wed, 20 Nov 2024) |
EndedAt: 2024-11-20 06:06:35 -0000 (Wed, 20 Nov 2024) |
EllapsedTime: 156.3 seconds |
RetCode: 0 |
Status: OK |
CheckDir: cellmigRation.Rcheck |
Warnings: 0 |
############################################################################## ############################################################################## ### ### Running command: ### ### /home/biocbuild/R/R/bin/R CMD check --install=check:cellmigRation.install-out.txt --library=/home/biocbuild/R/R/site-library --no-vignettes --timings cellmigRation_1.14.0.tar.gz ### ############################################################################## ############################################################################## * using log directory ‘/home/biocbuild/bbs-3.20-bioc/meat/cellmigRation.Rcheck’ * using R version 4.4.1 (2024-06-14) * using platform: aarch64-unknown-linux-gnu * R was compiled by gcc (GCC) 12.2.1 20220819 (openEuler 12.2.1-14) GNU Fortran (GCC) 10.3.1 * running under: openEuler 22.03 (LTS-SP1) * using session charset: UTF-8 * using option ‘--no-vignettes’ * checking for file ‘cellmigRation/DESCRIPTION’ ... OK * checking extension type ... Package * this is package ‘cellmigRation’ version ‘1.14.0’ * package encoding: UTF-8 * checking package namespace information ... OK * checking package dependencies ... OK * checking if this is a source package ... OK * checking if there is a namespace ... OK * checking for hidden files and directories ... OK * checking for portable file names ... OK * checking for sufficient/correct file permissions ... OK * checking whether package ‘cellmigRation’ can be installed ... OK * checking installed package size ... OK * checking package directory ... OK * checking ‘build’ directory ... OK * checking DESCRIPTION meta-information ... OK * checking top-level files ... OK * checking for left-over files ... OK * checking index information ... OK * checking package subdirectories ... OK * checking code files for non-ASCII characters ... OK * checking R files for syntax errors ... OK * checking whether the package can be loaded ... OK * checking whether the package can be loaded with stated dependencies ... OK * checking whether the package can be unloaded cleanly ... OK * checking whether the namespace can be loaded with stated dependencies ... OK * checking whether the namespace can be unloaded cleanly ... OK * checking loading without being on the library search path ... OK * checking dependencies in R code ... OK * checking S3 generic/method consistency ... OK * checking replacement functions ... OK * checking foreign function calls ... OK * checking R code for possible problems ... OK * checking Rd files ... OK * checking Rd metadata ... OK * checking Rd cross-references ... OK * checking for missing documentation entries ... OK * checking for code/documentation mismatches ... OK * checking Rd \usage sections ... NOTE Documented arguments not in \usage in Rd file 'fixDA.Rd': ‘object’ Documented arguments not in \usage in Rd file 'fixFM1.Rd': ‘object’ Documented arguments not in \usage in Rd file 'fixFM2.Rd': ‘object’ Documented arguments not in \usage in Rd file 'fixFM3.Rd': ‘object’ Documented arguments not in \usage in Rd file 'fixFM4.Rd': ‘object’ Documented arguments not in \usage in Rd file 'fixFM5.Rd': ‘object’ Documented arguments not in \usage in Rd file 'fixFM6.Rd': ‘object’ Documented arguments not in \usage in Rd file 'fixID2.Rd': ‘TimeInterval’ Documented arguments not in \usage in Rd file 'fixID3.Rd': ‘TimeInterval’ Documented arguments not in \usage in Rd file 'fixID4.Rd': ‘TimeInterval’ Documented arguments not in \usage in Rd file 'fixMSD.Rd': ‘object’ Documented arguments not in \usage in Rd file 'fixPER1.Rd': ‘x’ Documented arguments not in \usage in Rd file 'fixPER2.Rd': ‘x’ Documented arguments not in \usage in Rd file 'innerBondRaster.Rd': ‘i’ Functions with \usage entries need to have the appropriate \alias entries, and all their arguments documented. The \usage entries must correspond to syntactically valid R code. See chapter ‘Writing R documentation files’ in the ‘Writing R Extensions’ manual. * checking Rd contents ... OK * checking for unstated dependencies in examples ... OK * checking contents of ‘data’ directory ... OK * checking data for non-ASCII characters ... OK * checking data for ASCII and uncompressed saves ... OK * checking files in ‘vignettes’ ... OK * checking examples ... OK Examples with CPU (user + system) or elapsed time > 5s user system elapsed getMSDtable 6.307 0.04 6.36 * checking for unstated dependencies in ‘tests’ ... OK * checking tests ... Running ‘runTests.R’ OK * checking for unstated dependencies in vignettes ... OK * checking package vignettes ... OK * checking running R code from vignettes ... SKIPPED * checking re-building of vignette outputs ... SKIPPED * checking PDF version of manual ... OK * DONE Status: 1 NOTE See ‘/home/biocbuild/bbs-3.20-bioc/meat/cellmigRation.Rcheck/00check.log’ for details.
cellmigRation.Rcheck/00install.out
############################################################################## ############################################################################## ### ### Running command: ### ### /home/biocbuild/R/R/bin/R CMD INSTALL cellmigRation ### ############################################################################## ############################################################################## * installing to library ‘/home/biocbuild/R/R-4.4.1/site-library’ * installing *source* package ‘cellmigRation’ ... ** using staged installation ** R ** data ** inst ** byte-compile and prepare package for lazy loading ** help *** installing help indices ** building package indices ** installing vignettes ** testing if installed package can be loaded from temporary location ** testing if installed package can be loaded from final location ** testing if installed package keeps a record of temporary installation path * DONE (cellmigRation)
cellmigRation.Rcheck/tests/runTests.Rout
R version 4.4.1 (2024-06-14) -- "Race for Your Life" Copyright (C) 2024 The R Foundation for Statistical Computing Platform: aarch64-unknown-linux-gnu R is free software and comes with ABSOLUTELY NO WARRANTY. You are welcome to redistribute it under certain conditions. Type 'license()' or 'licence()' for distribution details. R is a collaborative project with many contributors. Type 'contributors()' for more information and 'citation()' on how to cite R or R packages in publications. Type 'demo()' for some demos, 'help()' for on-line help, or 'help.start()' for an HTML browser interface to help. Type 'q()' to quit R. > BiocGenerics:::testPackage("cellmigRation") RUNIT TEST PROTOCOL -- Wed Nov 20 06:06:30 2024 *********************************************** Number of test functions: 7 Number of errors: 0 Number of failures: 0 1 Test Suite : cellmigRation RUnit Tests - 7 test functions, 0 errors, 0 failures Number of test functions: 7 Number of errors: 0 Number of failures: 0 > > proc.time() user system elapsed 3.526 0.221 3.656
cellmigRation.Rcheck/cellmigRation-Ex.timings
name | user | system | elapsed | |
AddDimension | 0.002 | 0.001 | 0.002 | |
CellMig-class | 0.027 | 0.000 | 0.027 | |
CellMigPCA | 2.071 | 0.079 | 2.155 | |
CellMigPCAclust | 0.008 | 0.000 | 0.007 | |
CellMigPCAclustALL | 1.194 | 0.008 | 1.204 | |
CellTracker | 0.019 | 0.000 | 0.018 | |
CellTrackerMainLoop | 0.005 | 0.002 | 0.006 | |
CentroidArray | 0.019 | 0.000 | 0.020 | |
CentroidValidation | 0.818 | 0.000 | 0.819 | |
ComputeTracksStats | 0.025 | 0.007 | 0.033 | |
DetectRadii | 0.003 | 0.000 | 0.004 | |
DiAutoCor | 2.455 | 0.044 | 2.504 | |
DiRatio | 0.020 | 0.004 | 0.023 | |
DiRatioPlot | 0.043 | 0.000 | 0.042 | |
EstimateDiameterRange | 0.021 | 0.000 | 0.021 | |
FMI | 0.849 | 0.000 | 0.850 | |
FianlizeOptiParams | 0.001 | 0.000 | 0.000 | |
FilterTrackedCells | 0.004 | 0.000 | 0.003 | |
FinRes | 1.149 | 0.032 | 1.183 | |
ForwardMigration | 1.692 | 0.003 | 1.698 | |
GenAllCombos | 0.005 | 0.000 | 0.005 | |
LinearConv2 | 0.031 | 0.000 | 0.031 | |
LoadTiff | 0.000 | 0.001 | 0.001 | |
MSD | 2.593 | 0.021 | 2.622 | |
MakeHypercube | 0.002 | 0.000 | 0.001 | |
MigrationStats | 0.000 | 0.001 | 0.001 | |
NextOdd | 0.000 | 0.000 | 0.001 | |
NonParallel4OptimizeParams | 0.000 | 0.001 | 0.001 | |
NonParallelTrackLoop | 0 | 0 | 0 | |
OptimizeParams | 0.012 | 0.004 | 0.016 | |
OptimizeParamsMainLoop | 0.005 | 0.002 | 0.006 | |
Parallel4OptimizeParams | 0.001 | 0.000 | 0.001 | |
ParallelTrackLoop | 0.001 | 0.000 | 0.000 | |
PerAndSpeed | 0.432 | 0.012 | 0.449 | |
PlotTracksSeparately | 0.006 | 0.004 | 0.010 | |
PostProcessTracking | 0.000 | 0.000 | 0.001 | |
Prep4OptimizeParams | 0.148 | 0.020 | 0.169 | |
ThreeConditions | 0.014 | 0.000 | 0.013 | |
TrackCellsDataset | 0.012 | 0.004 | 0.016 | |
TrajectoryDataset | 0.02 | 0.00 | 0.02 | |
ValidateTrackingArgs | 0.000 | 0.000 | 0.001 | |
VeAutoCor | 1.959 | 0.008 | 1.971 | |
VisualizeCntr | 0.002 | 0.000 | 0.002 | |
VisualizeImg | 0.006 | 0.000 | 0.007 | |
VisualizeStackCentroids | 0.060 | 0.000 | 0.061 | |
WSADataset | 0.006 | 0.000 | 0.006 | |
aggregateFR | 1.160 | 0.008 | 1.170 | |
aggregateTrackedCells | 0.024 | 0.000 | 0.024 | |
bpass | 0.096 | 0.000 | 0.096 | |
circshift | 0.000 | 0.000 | 0.001 | |
cntrd | 1.277 | 0.008 | 1.288 | |
fixDA | 0.001 | 0.000 | 0.000 | |
fixExpName | 0.001 | 0.000 | 0.000 | |
fixFM1 | 0.001 | 0.000 | 0.000 | |
fixFM2 | 0 | 0 | 0 | |
fixFM3 | 0.000 | 0.000 | 0.001 | |
fixFM4 | 0.000 | 0.000 | 0.001 | |
fixFM5 | 0.001 | 0.000 | 0.000 | |
fixFM6 | 0.001 | 0.000 | 0.000 | |
fixID1 | 0.001 | 0.000 | 0.000 | |
fixMSD | 0.001 | 0.000 | 0.000 | |
fixPER1 | 0 | 0 | 0 | |
fixPER2 | 0 | 0 | 0 | |
fixPER3 | 0.000 | 0.000 | 0.001 | |
getAvailableAggrMetrics | 1.695 | 0.020 | 1.719 | |
getCellImages | 0.184 | 0.164 | 0.349 | |
getCellMigSlot | 0.280 | 0.099 | 0.381 | |
getCellTrackMeta | 0.017 | 0.000 | 0.017 | |
getCellTrackStats | 0.018 | 0.004 | 0.021 | |
getCellTracks | 0.013 | 0.004 | 0.017 | |
getCellsMeta | 0.013 | 0.004 | 0.017 | |
getCellsStats | 0.034 | 0.004 | 0.039 | |
getDACtable | 3.799 | 0.036 | 3.843 | |
getDiRatio | 0.026 | 0.000 | 0.026 | |
getFMItable | 0.826 | 0.000 | 0.828 | |
getForMigtable | 1.006 | 0.000 | 1.008 | |
getImageCentroids | 0.024 | 0.000 | 0.024 | |
getImageStacks | 0.060 | 0.000 | 0.061 | |
getMSDtable | 6.307 | 0.040 | 6.360 | |
getOptimizedParameters | 0.011 | 0.004 | 0.016 | |
getOptimizedParams | 0.014 | 0.004 | 0.017 | |
getPerAndSpeed | 0.437 | 0.008 | 0.445 | |
getPopulationStats | 0.013 | 0.004 | 0.017 | |
getProcessedImages | 0.181 | 0.140 | 0.321 | |
getProcessingStatus | 0.017 | 0.000 | 0.017 | |
getResults | 1.133 | 0.028 | 1.164 | |
getTracks | 0.014 | 0.004 | 0.018 | |
getVACtable | 1.919 | 0.000 | 1.922 | |
initializeTrackParams | 0 | 0 | 0 | |
innerBondRaster | 0.000 | 0.002 | 0.002 | |
internalPermutation | 0.001 | 0.000 | 0.002 | |
matfix | 0.002 | 0.000 | 0.001 | |
nontrivialBondTracking | 0.001 | 0.000 | 0.001 | |
pkfnd | 1.282 | 0.004 | 1.288 | |
plot3DAllTracks | 0.049 | 0.000 | 0.050 | |
plot3DTracks | 0.008 | 0.000 | 0.008 | |
plotAllTracks | 0.023 | 0.000 | 0.022 | |
plotSampleTracks | 0.013 | 0.004 | 0.016 | |
preProcCellMig | 0.006 | 0.000 | 0.007 | |
rmPreProcessing | 0.136 | 0.000 | 0.136 | |
runTrackingPermutation | 0.002 | 0.000 | 0.002 | |
setAnalyticParams | 0.015 | 0.000 | 0.015 | |
setCellMigSlot | 0.017 | 0.004 | 0.020 | |
setCellTracks | 0.016 | 0.000 | 0.017 | |
setCellsMeta | 0.016 | 0.000 | 0.017 | |
setExpName | 0.02 | 0.00 | 0.02 | |
setOptimizedParams | 0.016 | 0.000 | 0.017 | |
setProcessedImages | 0.013 | 0.004 | 0.016 | |
setProcessingStatus | 0.016 | 0.000 | 0.016 | |
setTrackedCellsMeta | 0.012 | 0.004 | 0.016 | |
setTrackedCentroids | 0.016 | 0.000 | 0.017 | |
setTrackedPositions | 0.016 | 0.000 | 0.016 | |
setTrackingStats | 0.029 | 0.000 | 0.029 | |
sinkAway | 0.001 | 0.000 | 0.001 | |
subNetworkTracking | 0.002 | 0.000 | 0.002 | |
track | 0.014 | 0.000 | 0.014 | |
trackHypercubeBuild | 0.001 | 0.000 | 0.001 | |
trackSlideProcessing | 0.001 | 0.000 | 0.001 | |
trackSlideWrapUp | 0.001 | 0.000 | 0.000 | |
trivialBondRaster | 0.002 | 0.000 | 0.002 | |
trivialBondTracking | 0 | 0 | 0 | |
visualizeCellTracks | 0.060 | 0.004 | 0.064 | |
visualizeTrcks | 0.033 | 0.000 | 0.033 | |
warnMessage | 0 | 0 | 0 | |
wsaPreProcessing | 0.087 | 0.000 | 0.087 | |