Back to Multiple platform build/check report for BioC 3.20:   simplified   long
AB[C]DEFGHIJKLMNOPQRSTUVWXYZ

This page was generated on 2025-02-06 12:11 -0500 (Thu, 06 Feb 2025).

HostnameOSArch (*)R versionInstalled pkgs
nebbiolo2Linux (Ubuntu 24.04.1 LTS)x86_644.4.2 (2024-10-31) -- "Pile of Leaves" 4753
palomino8Windows Server 2022 Datacenterx644.4.2 (2024-10-31 ucrt) -- "Pile of Leaves" 4501
merida1macOS 12.7.5 Montereyx86_644.4.2 (2024-10-31) -- "Pile of Leaves" 4524
kjohnson1macOS 13.6.6 Venturaarm644.4.2 (2024-10-31) -- "Pile of Leaves" 4476
taishanLinux (openEuler 24.03 LTS)aarch644.4.2 (2024-10-31) -- "Pile of Leaves" 4407
Click on any hostname to see more info about the system (e.g. compilers)      (*) as reported by 'uname -p', except on Windows and Mac OS X

Package 410/2289HostnameOS / ArchINSTALLBUILDCHECKBUILD BIN
cola 2.12.0  (landing page)
Zuguang Gu
Snapshot Date: 2025-02-03 13:00 -0500 (Mon, 03 Feb 2025)
git_url: https://git.bioconductor.org/packages/cola
git_branch: RELEASE_3_20
git_last_commit: a5fa7af
git_last_commit_date: 2024-10-29 10:34:13 -0500 (Tue, 29 Oct 2024)
nebbiolo2Linux (Ubuntu 24.04.1 LTS) / x86_64  OK    OK    OK  UNNEEDED, same version is already published
palomino8Windows Server 2022 Datacenter / x64  OK    OK    OK    OK  UNNEEDED, same version is already published
merida1macOS 12.7.5 Monterey / x86_64  OK    OK    OK    OK  UNNEEDED, same version is already published
kjohnson1macOS 13.6.6 Ventura / arm64  OK    OK    OK    OK  UNNEEDED, same version is already published
taishanLinux (openEuler 24.03 LTS) / aarch64  OK    OK    OK  


CHECK results for cola on taishan

To the developers/maintainers of the cola package:
- Allow up to 24 hours (and sometimes 48 hours) for your latest push to git@git.bioconductor.org:packages/cola.git to reflect on this report. See Troubleshooting Build Report for more information.
- Use the following Renviron settings to reproduce errors and warnings.
- If 'R CMD check' started to fail recently on the Linux builder(s) over a missing dependency, add the missing dependency to 'Suggests:' in your DESCRIPTION file. See Renviron.bioc for more information.
- See Martin Grigorov's blog post for how to debug Linux ARM64 related issues on a x86_64 host.

raw results


Summary

Package: cola
Version: 2.12.0
Command: /home/biocbuild/R/R/bin/R CMD check --install=check:cola.install-out.txt --library=/home/biocbuild/R/R/site-library --no-vignettes --timings cola_2.12.0.tar.gz
StartedAt: 2025-02-04 05:49:28 -0000 (Tue, 04 Feb 2025)
EndedAt: 2025-02-04 05:53:08 -0000 (Tue, 04 Feb 2025)
EllapsedTime: 220.2 seconds
RetCode: 0
Status:   OK  
CheckDir: cola.Rcheck
Warnings: 0

Command output

##############################################################################
##############################################################################
###
### Running command:
###
###   /home/biocbuild/R/R/bin/R CMD check --install=check:cola.install-out.txt --library=/home/biocbuild/R/R/site-library --no-vignettes --timings cola_2.12.0.tar.gz
###
##############################################################################
##############################################################################


* using log directory ‘/home/biocbuild/bbs-3.20-bioc/meat/cola.Rcheck’
* using R version 4.4.2 (2024-10-31)
* using platform: aarch64-unknown-linux-gnu
* R was compiled by
    aarch64-unknown-linux-gnu-gcc (GCC) 14.2.0
    GNU Fortran (GCC) 12.3.1 (openEuler 12.3.1-36.oe2403)
* running under: openEuler 24.03 (LTS)
* using session charset: UTF-8
* using option ‘--no-vignettes’
* checking for file ‘cola/DESCRIPTION’ ... OK
* checking extension type ... Package
* this is package ‘cola’ version ‘2.12.0’
* checking package namespace information ... OK
* checking package dependencies ... OK
* checking if this is a source package ... OK
* checking if there is a namespace ... OK
* checking for hidden files and directories ... OK
* checking for portable file names ... OK
* checking for sufficient/correct file permissions ... OK
* checking whether package ‘cola’ can be installed ... OK
* used C++ compiler: ‘aarch64-unknown-linux-gnu-g++ (GCC) 14.2.0’
* checking installed package size ... NOTE
  installed size is  7.7Mb
  sub-directories of 1Mb or more:
    data      3.2Mb
    extdata   1.0Mb
    libs      2.1Mb
* checking package directory ... OK
* checking ‘build’ directory ... OK
* checking DESCRIPTION meta-information ... OK
* checking top-level files ... OK
* checking for left-over files ... OK
* checking index information ... OK
* checking package subdirectories ... OK
* checking code files for non-ASCII characters ... OK
* checking R files for syntax errors ... OK
* checking whether the package can be loaded ... OK
* checking whether the package can be loaded with stated dependencies ... OK
* checking whether the package can be unloaded cleanly ... OK
* checking whether the namespace can be loaded with stated dependencies ... OK
* checking whether the namespace can be unloaded cleanly ... OK
* checking loading without being on the library search path ... OK
* checking whether startup messages can be suppressed ... OK
* checking dependencies in R code ... OK
* checking S3 generic/method consistency ... OK
* checking replacement functions ... OK
* checking foreign function calls ... OK
* checking R code for possible problems ... OK
* checking Rd files ... OK
* checking Rd metadata ... OK
* checking Rd cross-references ... OK
* checking for missing documentation entries ... OK
* checking for code/documentation mismatches ... OK
* checking Rd \usage sections ... OK
* checking Rd contents ... OK
* checking for unstated dependencies in examples ... OK
* checking contents of ‘data’ directory ... OK
* checking data for non-ASCII characters ... OK
* checking data for ASCII and uncompressed saves ... OK
* checking line endings in C/C++/Fortran sources/headers ... OK
* checking compiled code ... NOTE
Note: information on .o files is not available
* checking files in ‘vignettes’ ... OK
* checking examples ... OK
Examples with CPU (user + system) or elapsed time > 5s
                                                  user system elapsed
consensus_partition                             28.464  0.435  28.993
get_signatures-ConsensusPartition-method         5.821  0.044   5.883
compare_signatures-HierarchicalPartition-method  5.381  0.083   5.488
* checking for unstated dependencies in ‘tests’ ... OK
* checking tests ...
  Running ‘test-all.R’
 OK
* checking for unstated dependencies in vignettes ... OK
* checking package vignettes ... OK
* checking running R code from vignettes ... SKIPPED
* checking re-building of vignette outputs ... SKIPPED
* checking PDF version of manual ... OK
* DONE

Status: 2 NOTEs
See
  ‘/home/biocbuild/bbs-3.20-bioc/meat/cola.Rcheck/00check.log’
for details.


Installation output

cola.Rcheck/00install.out

##############################################################################
##############################################################################
###
### Running command:
###
###   /home/biocbuild/R/R/bin/R CMD INSTALL cola
###
##############################################################################
##############################################################################


* installing to library ‘/home/biocbuild/R/R-4.4.2/site-library’
* installing *source* package ‘cola’ ...
** using staged installation
** libs
using C++ compiler: ‘aarch64-unknown-linux-gnu-g++ (GCC) 14.2.0’
/opt/ohpc/pub/compiler/gcc/14.2.0/bin/aarch64-unknown-linux-gnu-g++ -std=gnu++17 -I"/home/biocbuild/R/R/include" -DNDEBUG  -I'/home/biocbuild/R/R-4.4.2/site-library/Rcpp/include' -I/usr/local/include    -fPIC  -g -O2  -Wall -Werror=format-security  -c RcppExports.cpp -o RcppExports.o
/opt/ohpc/pub/compiler/gcc/14.2.0/bin/aarch64-unknown-linux-gnu-g++ -std=gnu++17 -I"/home/biocbuild/R/R/include" -DNDEBUG  -I'/home/biocbuild/R/R-4.4.2/site-library/Rcpp/include' -I/usr/local/include    -fPIC  -g -O2  -Wall -Werror=format-security  -c atc.cpp -o atc.o
/opt/ohpc/pub/compiler/gcc/14.2.0/bin/aarch64-unknown-linux-gnu-g++ -std=gnu++17 -I"/home/biocbuild/R/R/include" -DNDEBUG  -I'/home/biocbuild/R/R-4.4.2/site-library/Rcpp/include' -I/usr/local/include    -fPIC  -g -O2  -Wall -Werror=format-security  -c cal_consensus_mat.cpp -o cal_consensus_mat.o
/opt/ohpc/pub/compiler/gcc/14.2.0/bin/aarch64-unknown-linux-gnu-g++ -std=gnu++17 -I"/home/biocbuild/R/R/include" -DNDEBUG  -I'/home/biocbuild/R/R-4.4.2/site-library/Rcpp/include' -I/usr/local/include    -fPIC  -g -O2  -Wall -Werror=format-security  -c pdist.cpp -o pdist.o
/opt/ohpc/pub/compiler/gcc/14.2.0/bin/aarch64-unknown-linux-gnu-g++ -std=gnu++17 -shared -L/home/biocbuild/R/R/lib -L/usr/local/lib -o cola.so RcppExports.o atc.o cal_consensus_mat.o pdist.o -L/home/biocbuild/R/R/lib -lR
installing to /home/biocbuild/R/R-4.4.2/site-library/00LOCK-cola/00new/cola/libs
** R
** data
** inst
** byte-compile and prepare package for lazy loading
** help
*** installing help indices
** building package indices
** installing vignettes
** testing if installed package can be loaded from temporary location
** checking absolute paths in shared objects and dynamic libraries
** testing if installed package can be loaded from final location
** testing if installed package keeps a record of temporary installation path
* DONE (cola)

Tests output

cola.Rcheck/tests/test-all.Rout


R version 4.4.2 (2024-10-31) -- "Pile of Leaves"
Copyright (C) 2024 The R Foundation for Statistical Computing
Platform: aarch64-unknown-linux-gnu

R is free software and comes with ABSOLUTELY NO WARRANTY.
You are welcome to redistribute it under certain conditions.
Type 'license()' or 'licence()' for distribution details.

R is a collaborative project with many contributors.
Type 'contributors()' for more information and
'citation()' on how to cite R or R packages in publications.

Type 'demo()' for some demos, 'help()' for on-line help, or
'help.start()' for an HTML browser interface to help.
Type 'q()' to quit R.

> library(testthat)
> suppressWarnings(suppressPackageStartupMessages(library(cola)))
> 
> test_check("cola")
[ FAIL 0 | WARN 0 | SKIP 0 | PASS 18 ]
> 
> 
> proc.time()
   user  system elapsed 
  6.284   0.321   6.695 

Example timings

cola.Rcheck/cola-Ex.timings

nameusersystemelapsed
ATC0.1560.0000.156
ATC_approx000
ConsensusPartition-class0.0010.0000.000
ConsensusPartitionList-class000
DownSamplingConsensusPartition-class000
Extract.ConsensusPartitionList0.5390.0080.548
Extract.HierarchicalPartition0.2310.0040.236
ExtractExtract.ConsensusPartitionList0.1690.0000.171
ExtractExtract.HierarchicalPartition000
FCC0.1730.0000.173
HierarchicalPartition-class000
PAC0.4240.0000.425
aPAC0.1320.0120.144
adjust_matrix0.0080.0000.008
adjust_outlier0.0010.0000.001
all_leaves-HierarchicalPartition-method0.1200.0000.121
all_nodes-HierarchicalPartition-method0.1250.0000.126
all_partition_methods0.0010.0000.001
all_top_value_methods000
cola0.0710.0000.071
cola_opt0.0290.0000.029
cola_report-ConsensusPartition-method000
cola_report-ConsensusPartitionList-method000
cola_report-HierarchicalPartition-method000
cola_report-dispatch0.0000.0000.001
cola_rl0.0790.0000.079
collect_classes-ConsensusPartition-method2.3640.0682.439
collect_classes-ConsensusPartitionList-method4.1000.0084.119
collect_classes-HierarchicalPartition-method1.6670.0121.684
collect_classes-dispatch000
collect_plots-ConsensusPartition-method000
collect_plots-ConsensusPartitionList-method000
collect_plots-dispatch000
collect_stats-ConsensusPartition-method000
collect_stats-ConsensusPartitionList-method0.5170.0070.526
collect_stats-dispatch000
colnames-ConsensusPartition-method000
colnames-ConsensusPartitionList-method000
colnames-DownSamplingConsensusPartition-method000
colnames-HierarchicalPartition-method000
colnames-dispatch0.0000.0000.001
compare_partitions-ConsensusPartition-method000
compare_signatures-ConsensusPartition-method0.0010.0000.000
compare_signatures-HierarchicalPartition-method5.3810.0835.488
compare_signatures-dispatch000
concordance0.1400.0040.144
config_ATC0.0010.0000.001
consensus_heatmap-ConsensusPartition-method0.7050.0080.715
consensus_partition28.464 0.43528.993
consensus_partition_by_down_sampling000
correspond_between_rankings0.0750.0040.079
correspond_between_two_rankings0.0350.0000.036
david_enrichment000
dim.ConsensusPartition000
dim.ConsensusPartitionList000
dim.DownSamplingConsensusPartition000
dim.HierarchicalPartition000
dimension_reduction-ConsensusPartition-method0.8100.0320.844
dimension_reduction-DownSamplingConsensusPartition-method1.9870.0001.993
dimension_reduction-HierarchicalPartition-method0.6880.0000.690
dimension_reduction-dispatch000
dimension_reduction-matrix-method000
find_best_km000
functional_enrichment-ANY-method000
functional_enrichment-ConsensusPartition-method000
functional_enrichment-ConsensusPartitionList-method0.0000.0010.000
functional_enrichment-HierarchicalPartition-method000
functional_enrichment-dispatch000
get_anno-ConsensusPartition-method000
get_anno-ConsensusPartitionList-method000
get_anno-DownSamplingConsensusPartition-method0.0920.0030.095
get_anno-HierarchicalPartition-method000
get_anno-dispatch0.0000.0000.001
get_anno_col-ConsensusPartition-method000
get_anno_col-ConsensusPartitionList-method000
get_anno_col-HierarchicalPartition-method000
get_anno_col-dispatch000
get_children_nodes-HierarchicalPartition-method000
get_classes-ConsensusPartition-method0.1340.0070.140
get_classes-ConsensusPartitionList-method0.1330.0040.137
get_classes-DownSamplingConsensusPartition-method0.0730.0000.074
get_classes-HierarchicalPartition-method0.1320.0080.141
get_classes-dispatch0.0000.0000.001
get_consensus-ConsensusPartition-method0.1410.0080.149
get_matrix-ConsensusPartition-method0.2630.1350.400
get_matrix-ConsensusPartitionList-method0.2970.1240.421
get_matrix-DownSamplingConsensusPartition-method000
get_matrix-HierarchicalPartition-method0.0010.0000.000
get_matrix-dispatch0.0010.0000.000
get_membership-ConsensusPartition-method0.1370.0080.145
get_membership-ConsensusPartitionList-method0.1300.0080.138
get_membership-dispatch000
get_param-ConsensusPartition-method0.1410.0040.145
get_signatures-ConsensusPartition-method5.8210.0445.883
get_signatures-DownSamplingConsensusPartition-method0.0010.0000.000
get_signatures-HierarchicalPartition-method000
get_signatures-dispatch000
get_stats-ConsensusPartition-method0.140.000.14
get_stats-ConsensusPartitionList-method0.1390.0000.140
get_stats-dispatch000
golub_cola0.1770.0000.178
golub_cola_ds0.1120.0000.112
golub_cola_rh0.2020.0000.202
hierarchical_partition000
is_best_k-ConsensusPartition-method0.1410.0000.141
is_best_k-ConsensusPartitionList-method0.1440.0000.144
is_best_k-dispatch000
is_leaf_node-HierarchicalPartition-method0.1170.0000.117
is_stable_k-ConsensusPartition-method0.1370.0000.138
is_stable_k-ConsensusPartitionList-method0.1620.0000.162
is_stable_k-dispatch000
knee_finder20.0290.0000.029
knitr_add_tab_item000
knitr_insert_tabs000
map_to_entrez_id000
max_depth-HierarchicalPartition-method0.1170.0000.117
membership_heatmap-ConsensusPartition-method0.5750.0080.585
merge_node-HierarchicalPartition-method000
merge_node_param000
ncol-ConsensusPartition-method000
ncol-ConsensusPartitionList-method000
ncol-DownSamplingConsensusPartition-method0.0010.0000.000
ncol-HierarchicalPartition-method000
ncol-dispatch000
node_info-HierarchicalPartition-method000
node_level-HierarchicalPartition-method000
nrow-ConsensusPartition-method0.0010.0000.000
nrow-ConsensusPartitionList-method000
nrow-HierarchicalPartition-method000
nrow-dispatch000
plot_ecdf-ConsensusPartition-method0.1650.0040.170
predict_classes-ConsensusPartition-method000
predict_classes-dispatch000
predict_classes-matrix-method000
print.hc_table_suggest_best_k000
recalc_stats000
register_NMF000
register_SOM0.0000.0010.000
register_partition_methods0.5860.0260.613
register_top_value_methods0.0020.0000.002
relabel_class0.0110.0000.011
remove_partition_methods000
remove_top_value_methods000
rownames-ConsensusPartition-method000
rownames-ConsensusPartitionList-method000
rownames-HierarchicalPartition-method000
rownames-dispatch000
run_all_consensus_partition_methods000
select_partition_number-ConsensusPartition-method0.1480.0080.157
show-ConsensusPartition-method000
show-ConsensusPartitionList-method000
show-DownSamplingConsensusPartition-method0.110.000.11
show-HierarchicalPartition-method0.1780.0000.179
show-dispatch000
split_node-HierarchicalPartition-method000
suggest_best_k-ConsensusPartition-method0.1360.0040.141
suggest_best_k-ConsensusPartitionList-method0.1500.0000.151
suggest_best_k-HierarchicalPartition-method0.1250.0000.125
suggest_best_k-dispatch000
test_between_factors0.0110.0000.011
test_to_known_factors-ConsensusPartition-method0.1600.0040.164
test_to_known_factors-ConsensusPartitionList-method0.3180.0000.318
test_to_known_factors-DownSamplingConsensusPartition-method0.1050.0000.106
test_to_known_factors-HierarchicalPartition-method0.1310.0040.135
test_to_known_factors-dispatch000
top_elements_overlap0.2870.0000.288
top_rows_heatmap-ConsensusPartition-method000
top_rows_heatmap-ConsensusPartitionList-method000
top_rows_heatmap-HierarchicalPartition-method000
top_rows_heatmap-dispatch000
top_rows_heatmap-matrix-method4.0270.0274.068
top_rows_overlap-ConsensusPartitionList-method0.9200.0160.938
top_rows_overlap-HierarchicalPartition-method0.6170.0000.619
top_rows_overlap-dispatch000
top_rows_overlap-matrix-method0.1700.0040.175