Back to Multiple platform build/check report for BioC 3.20:   simplified   long
AB[C]DEFGHIJKLMNOPQRSTUVWXYZ

This page was generated on 2025-02-03 12:11 -0500 (Mon, 03 Feb 2025).

HostnameOSArch (*)R versionInstalled pkgs
nebbiolo2Linux (Ubuntu 24.04.1 LTS)x86_644.4.2 (2024-10-31) -- "Pile of Leaves" 4746
palomino8Windows Server 2022 Datacenterx644.4.2 (2024-10-31 ucrt) -- "Pile of Leaves" 4494
merida1macOS 12.7.5 Montereyx86_644.4.2 (2024-10-31) -- "Pile of Leaves" 4517
kjohnson1macOS 13.6.6 Venturaarm644.4.2 (2024-10-31) -- "Pile of Leaves" 4469
taishanLinux (openEuler 24.03 LTS)aarch644.4.2 (2024-10-31) -- "Pile of Leaves" 4400
Click on any hostname to see more info about the system (e.g. compilers)      (*) as reported by 'uname -p', except on Windows and Mac OS X

Package 481/2289HostnameOS / ArchINSTALLBUILDCHECKBUILD BIN
cyanoFilter 1.14.0  (landing page)
Oluwafemi Olusoji
Snapshot Date: 2025-01-30 13:00 -0500 (Thu, 30 Jan 2025)
git_url: https://git.bioconductor.org/packages/cyanoFilter
git_branch: RELEASE_3_20
git_last_commit: 197384a
git_last_commit_date: 2024-10-29 10:58:03 -0500 (Tue, 29 Oct 2024)
nebbiolo2Linux (Ubuntu 24.04.1 LTS) / x86_64  OK    OK    OK  UNNEEDED, same version is already published
palomino8Windows Server 2022 Datacenter / x64  OK    OK    OK    OK  UNNEEDED, same version is already published
merida1macOS 12.7.5 Monterey / x86_64  OK    OK    OK    OK  UNNEEDED, same version is already published
kjohnson1macOS 13.6.6 Ventura / arm64  OK    OK    OK    OK  UNNEEDED, same version is already published
taishanLinux (openEuler 24.03 LTS) / aarch64  OK    OK    OK  


CHECK results for cyanoFilter on taishan

To the developers/maintainers of the cyanoFilter package:
- Allow up to 24 hours (and sometimes 48 hours) for your latest push to git@git.bioconductor.org:packages/cyanoFilter.git to reflect on this report. See Troubleshooting Build Report for more information.
- Use the following Renviron settings to reproduce errors and warnings.
- If 'R CMD check' started to fail recently on the Linux builder(s) over a missing dependency, add the missing dependency to 'Suggests:' in your DESCRIPTION file. See Renviron.bioc for more information.
- See Martin Grigorov's blog post for how to debug Linux ARM64 related issues on a x86_64 host.

raw results


Summary

Package: cyanoFilter
Version: 1.14.0
Command: /home/biocbuild/R/R/bin/R CMD check --install=check:cyanoFilter.install-out.txt --library=/home/biocbuild/R/R/site-library --no-vignettes --timings cyanoFilter_1.14.0.tar.gz
StartedAt: 2025-01-31 05:21:54 -0000 (Fri, 31 Jan 2025)
EndedAt: 2025-01-31 05:23:47 -0000 (Fri, 31 Jan 2025)
EllapsedTime: 113.1 seconds
RetCode: 0
Status:   OK  
CheckDir: cyanoFilter.Rcheck
Warnings: 0

Command output

##############################################################################
##############################################################################
###
### Running command:
###
###   /home/biocbuild/R/R/bin/R CMD check --install=check:cyanoFilter.install-out.txt --library=/home/biocbuild/R/R/site-library --no-vignettes --timings cyanoFilter_1.14.0.tar.gz
###
##############################################################################
##############################################################################


* using log directory ‘/home/biocbuild/bbs-3.20-bioc/meat/cyanoFilter.Rcheck’
* using R version 4.4.2 (2024-10-31)
* using platform: aarch64-unknown-linux-gnu
* R was compiled by
    aarch64-unknown-linux-gnu-gcc (GCC) 14.2.0
    GNU Fortran (GCC) 12.3.1 (openEuler 12.3.1-36.oe2403)
* running under: openEuler 24.03 (LTS)
* using session charset: UTF-8
* using option ‘--no-vignettes’
* checking for file ‘cyanoFilter/DESCRIPTION’ ... OK
* checking extension type ... Package
* this is package ‘cyanoFilter’ version ‘1.14.0’
* package encoding: UTF-8
* checking package namespace information ... OK
* checking package dependencies ... OK
* checking if this is a source package ... OK
* checking if there is a namespace ... OK
* checking for hidden files and directories ... OK
* checking for portable file names ... OK
* checking for sufficient/correct file permissions ... OK
* checking whether package ‘cyanoFilter’ can be installed ... OK
* checking installed package size ... OK
* checking package directory ... OK
* checking ‘build’ directory ... OK
* checking DESCRIPTION meta-information ... OK
* checking top-level files ... OK
* checking for left-over files ... OK
* checking index information ... OK
* checking package subdirectories ... OK
* checking code files for non-ASCII characters ... OK
* checking R files for syntax errors ... OK
* checking whether the package can be loaded ... OK
* checking whether the package can be loaded with stated dependencies ... OK
* checking whether the package can be unloaded cleanly ... OK
* checking whether the namespace can be loaded with stated dependencies ... OK
* checking whether the namespace can be unloaded cleanly ... OK
* checking loading without being on the library search path ... OK
* checking dependencies in R code ... OK
* checking S3 generic/method consistency ... OK
* checking replacement functions ... OK
* checking foreign function calls ... OK
* checking R code for possible problems ... OK
* checking Rd files ... OK
* checking Rd metadata ... OK
* checking Rd cross-references ... OK
* checking for missing documentation entries ... OK
* checking for code/documentation mismatches ... OK
* checking Rd \usage sections ... OK
* checking Rd contents ... OK
* checking for unstated dependencies in examples ... OK
* checking files in ‘vignettes’ ... OK
* checking examples ... OK
Examples with CPU (user + system) or elapsed time > 5s
           user system elapsed
gateFunc 12.418  0.538  10.533
* checking for unstated dependencies in vignettes ... OK
* checking package vignettes ... OK
* checking running R code from vignettes ... SKIPPED
* checking re-building of vignette outputs ... SKIPPED
* checking PDF version of manual ... OK
* DONE

Status: OK


Installation output

cyanoFilter.Rcheck/00install.out

##############################################################################
##############################################################################
###
### Running command:
###
###   /home/biocbuild/R/R/bin/R CMD INSTALL cyanoFilter
###
##############################################################################
##############################################################################


* installing to library ‘/home/biocbuild/R/R-4.4.2/site-library’
* installing *source* package ‘cyanoFilter’ ...
** using staged installation
** R
** inst
** byte-compile and prepare package for lazy loading
** help
*** installing help indices
** building package indices
** installing vignettes
** testing if installed package can be loaded from temporary location
** testing if installed package can be loaded from final location
** testing if installed package keeps a record of temporary installation path
* DONE (cyanoFilter)

Tests output


Example timings

cyanoFilter.Rcheck/cyanoFilter-Ex.timings

nameusersystemelapsed
MarginEvents0.8860.0200.913
PhytoFilter0.7440.0830.830
PhytopFilter0.7800.0090.791
accTest0.4670.0430.512
accuracy0.5780.0200.599
cellmargin0.3790.0200.399
clusterExtract1.2070.0321.243
clusterExtractp1.0330.0401.077
debrisNc0.4260.0120.439
fullFlowframe-MarginEvents-method0.6000.0160.619
fullFlowframe-PhytopFilter-method0.9720.0040.979
fullFlowframe0.3790.0040.385
gateFunc12.418 0.53810.533
ggpairsDens4.0730.2714.358
ggplotDens0.9150.0961.014
ggplotDens21.0980.0201.122
goodfcs0.0670.0000.067
is.DebrisFilter0.0000.0010.000
is.MarginEvents0.0000.0010.000
is.PhytopFilter000
is.flowFrame0.0000.0000.001
is.flowSet0.0010.0000.000
lnTrans0.2640.0040.268
newFlowframe0.2670.0120.280
nona0.1130.0040.117
noneg0.2160.0000.216
oneDgate0.2750.0200.295
pairsPlot2.0300.0482.085
pigmentGate0.3550.0240.379
reducedFlowframe-MarginEvents-method0.3820.0040.387
reducedFlowframe0.3860.0080.395
retain0.0210.0000.022
rowNumbers0.2730.0190.294
summaries-DebrisFilter-method0.3710.0240.396
summaries-MarginEvents-method0.3960.0040.401
summaries-PhytopFilter-method0.7830.0200.805
summaries0.3940.0280.423