Back to Multiple platform build/check report for BioC 3.20: simplified long |
|
This page was generated on 2025-02-06 12:08 -0500 (Thu, 06 Feb 2025).
Hostname | OS | Arch (*) | R version | Installed pkgs |
---|---|---|---|---|
nebbiolo2 | Linux (Ubuntu 24.04.1 LTS) | x86_64 | 4.4.2 (2024-10-31) -- "Pile of Leaves" | 4753 |
palomino8 | Windows Server 2022 Datacenter | x64 | 4.4.2 (2024-10-31 ucrt) -- "Pile of Leaves" | 4501 |
merida1 | macOS 12.7.5 Monterey | x86_64 | 4.4.2 (2024-10-31) -- "Pile of Leaves" | 4524 |
kjohnson1 | macOS 13.6.6 Ventura | arm64 | 4.4.2 (2024-10-31) -- "Pile of Leaves" | 4476 |
taishan | Linux (openEuler 24.03 LTS) | aarch64 | 4.4.2 (2024-10-31) -- "Pile of Leaves" | 4407 |
Click on any hostname to see more info about the system (e.g. compilers) (*) as reported by 'uname -p', except on Windows and Mac OS X |
Package 605/2289 | Hostname | OS / Arch | INSTALL | BUILD | CHECK | BUILD BIN | ||||||||
dreamlet 1.4.1 (landing page) Gabriel Hoffman
| nebbiolo2 | Linux (Ubuntu 24.04.1 LTS) / x86_64 | OK | OK | OK | ![]() | ||||||||
palomino8 | Windows Server 2022 Datacenter / x64 | OK | OK | OK | OK | ![]() | ||||||||
merida1 | macOS 12.7.5 Monterey / x86_64 | OK | OK | OK | OK | ![]() | ||||||||
kjohnson1 | macOS 13.6.6 Ventura / arm64 | OK | OK | OK | OK | ![]() | ||||||||
taishan | Linux (openEuler 24.03 LTS) / aarch64 | OK | OK | OK | ||||||||||
To the developers/maintainers of the dreamlet package: - Allow up to 24 hours (and sometimes 48 hours) for your latest push to git@git.bioconductor.org:packages/dreamlet.git to reflect on this report. See Troubleshooting Build Report for more information. - Use the following Renviron settings to reproduce errors and warnings. - If 'R CMD check' started to fail recently on the Linux builder(s) over a missing dependency, add the missing dependency to 'Suggests:' in your DESCRIPTION file. See Renviron.bioc for more information. |
Package: dreamlet |
Version: 1.4.1 |
Command: /Library/Frameworks/R.framework/Resources/bin/R CMD check --install=check:dreamlet.install-out.txt --library=/Library/Frameworks/R.framework/Resources/library --no-vignettes --timings dreamlet_1.4.1.tar.gz |
StartedAt: 2025-02-04 03:01:03 -0500 (Tue, 04 Feb 2025) |
EndedAt: 2025-02-04 03:26:45 -0500 (Tue, 04 Feb 2025) |
EllapsedTime: 1542.5 seconds |
RetCode: 0 |
Status: OK |
CheckDir: dreamlet.Rcheck |
Warnings: 0 |
############################################################################## ############################################################################## ### ### Running command: ### ### /Library/Frameworks/R.framework/Resources/bin/R CMD check --install=check:dreamlet.install-out.txt --library=/Library/Frameworks/R.framework/Resources/library --no-vignettes --timings dreamlet_1.4.1.tar.gz ### ############################################################################## ############################################################################## * using log directory ‘/Users/biocbuild/bbs-3.20-bioc/meat/dreamlet.Rcheck’ * using R version 4.4.2 (2024-10-31) * using platform: x86_64-apple-darwin20 * R was compiled by Apple clang version 14.0.0 (clang-1400.0.29.202) GNU Fortran (GCC) 12.2.0 * running under: macOS Monterey 12.7.6 * using session charset: UTF-8 * using option ‘--no-vignettes’ * checking for file ‘dreamlet/DESCRIPTION’ ... OK * checking extension type ... Package * this is package ‘dreamlet’ version ‘1.4.1’ * package encoding: UTF-8 * checking package namespace information ... OK * checking package dependencies ... OK * checking if this is a source package ... OK * checking if there is a namespace ... OK * checking for hidden files and directories ... OK * checking for portable file names ... OK * checking for sufficient/correct file permissions ... OK * checking whether package ‘dreamlet’ can be installed ... OK * used C++ compiler: ‘Apple clang version 14.0.0 (clang-1400.0.29.202)’ * used SDK: ‘MacOSX11.3.sdk’ * checking C++ specification ... NOTE Specified C++11: please drop specification unless essential * checking installed package size ... OK * checking package directory ... OK * checking ‘build’ directory ... OK * checking DESCRIPTION meta-information ... OK * checking top-level files ... OK * checking for left-over files ... OK * checking index information ... OK * checking package subdirectories ... OK * checking code files for non-ASCII characters ... OK * checking R files for syntax errors ... OK * checking whether the package can be loaded ... OK * checking whether the package can be loaded with stated dependencies ... OK * checking whether the package can be unloaded cleanly ... OK * checking whether the namespace can be loaded with stated dependencies ... OK * checking whether the namespace can be unloaded cleanly ... OK * checking dependencies in R code ... OK * checking S3 generic/method consistency ... OK * checking replacement functions ... OK * checking foreign function calls ... OK * checking R code for possible problems ... OK * checking Rd files ... NOTE checkRd: (-1) meta_analysis.Rd:28: Lost braces in \itemize; meant \describe ? checkRd: (-1) meta_analysis.Rd:29: Lost braces in \itemize; meant \describe ? checkRd: (-1) meta_analysis.Rd:30: Lost braces in \itemize; meant \describe ? checkRd: (-1) outlierByAssay.Rd:22: Lost braces in \itemize; \value handles \item{}{} directly checkRd: (-1) outlierByAssay.Rd:23: Lost braces in \itemize; \value handles \item{}{} directly checkRd: (-1) outlierByAssay.Rd:24: Lost braces in \itemize; \value handles \item{}{} directly checkRd: (-1) outlierByAssay.Rd:25: Lost braces in \itemize; \value handles \item{}{} directly checkRd: (-1) outlierByAssay.Rd:26: Lost braces in \itemize; \value handles \item{}{} directly * checking Rd metadata ... OK * checking Rd cross-references ... OK * checking for missing documentation entries ... OK * checking for code/documentation mismatches ... OK * checking Rd \usage sections ... OK * checking Rd contents ... OK * checking for unstated dependencies in examples ... OK * checking line endings in C/C++/Fortran sources/headers ... OK * checking line endings in Makefiles ... OK * checking compilation flags in Makevars ... OK * checking for GNU extensions in Makefiles ... OK * checking for portable use of $(BLAS_LIBS) and $(LAPACK_LIBS) ... OK * checking use of PKG_*FLAGS in Makefiles ... OK * checking compiled code ... NOTE Note: information on .o files is not available * checking files in ‘vignettes’ ... NOTE The following directory looks like a leftover from 'knitr': ‘figure’ Please remove from your package. * checking examples ... OK Examples with CPU (user + system) or elapsed time > 5s user system elapsed zenith_gsa-methods 167.823 9.881 197.064 fitVarPart 48.208 0.406 53.440 plotVarPart-methods 46.256 0.416 51.408 sortCols-method 46.156 0.439 51.036 plotPercentBars-methods 45.090 0.408 50.996 meta_analysis 36.997 0.578 41.992 stackAssays 26.270 0.337 29.007 run_mash 14.727 0.267 16.528 aggregateNonCountSignal 13.727 0.856 17.319 compositePosteriorTest 12.780 0.209 14.293 diffVar-methods 10.039 0.112 10.886 plotVolcano-methods 9.856 0.128 10.870 processAssays 8.333 0.129 9.189 plotPCA 8.309 0.109 9.461 dreamlet 8.276 0.098 9.505 plotBeeswarm 7.993 0.161 9.082 plotGeneHeatmap-methods 7.797 0.076 8.688 plotForest-methods 7.638 0.079 8.822 getTreat-methods 7.270 0.095 8.137 topTable-methods 7.227 0.099 7.921 seeErrors-methods 7.077 0.096 7.843 residuals-methods 7.064 0.076 7.796 coefNames-methods 7.008 0.077 8.087 plotVoom-methods 6.073 0.086 6.692 dreamletCompareClusters 5.947 0.091 6.889 cellTypeSpecificity 4.685 0.157 5.561 * checking for unstated dependencies in ‘tests’ ... OK * checking tests ... Running ‘runTests.R’ OK * checking for unstated dependencies in vignettes ... OK * checking package vignettes ... OK * checking running R code from vignettes ... SKIPPED * checking re-building of vignette outputs ... SKIPPED * checking PDF version of manual ... OK * DONE Status: 4 NOTEs See ‘/Users/biocbuild/bbs-3.20-bioc/meat/dreamlet.Rcheck/00check.log’ for details.
dreamlet.Rcheck/00install.out
############################################################################## ############################################################################## ### ### Running command: ### ### /Library/Frameworks/R.framework/Resources/bin/R CMD INSTALL dreamlet ### ############################################################################## ############################################################################## * installing to library ‘/Library/Frameworks/R.framework/Versions/4.4-x86_64/Resources/library’ * installing *source* package ‘dreamlet’ ... ** using staged installation ** libs using C++ compiler: ‘Apple clang version 14.0.0 (clang-1400.0.29.202)’ using C++11 using SDK: ‘MacOSX11.3.sdk’ clang++ -arch x86_64 -std=gnu++11 -I"/Library/Frameworks/R.framework/Resources/include" -DNDEBUG -I'/Library/Frameworks/R.framework/Versions/4.4-x86_64/Resources/library/Rcpp/include' -I'/Library/Frameworks/R.framework/Versions/4.4-x86_64/Resources/library/beachmat/include' -I/opt/R/x86_64/include -fPIC -falign-functions=64 -Wall -g -O2 -c RcppExports.cpp -o RcppExports.o clang++ -arch x86_64 -std=gnu++11 -I"/Library/Frameworks/R.framework/Resources/include" -DNDEBUG -I'/Library/Frameworks/R.framework/Versions/4.4-x86_64/Resources/library/Rcpp/include' -I'/Library/Frameworks/R.framework/Versions/4.4-x86_64/Resources/library/beachmat/include' -I/opt/R/x86_64/include -fPIC -falign-functions=64 -Wall -g -O2 -c colsum_beachmat.cpp -o colsum_beachmat.o In file included from colsum_beachmat.cpp:1: In file included from /Library/Frameworks/R.framework/Versions/4.4-x86_64/Resources/library/beachmat/include/beachmat3/beachmat.h:24: In file included from /Library/Frameworks/R.framework/Versions/4.4-x86_64/Resources/library/beachmat/include/beachmat3/read_lin_block.h:11: /Library/Frameworks/R.framework/Versions/4.4-x86_64/Resources/library/beachmat/include/beachmat3/lin_matrix.h:218:43: warning: 'beachmat::lin_sparse_matrix::get_row' hides overloaded virtual functions [-Woverloaded-virtual] virtual sparse_index<const int*, int> get_row(size_t r, int* work_x, int* work_i, size_t first, size_t last) = 0; ^ /Library/Frameworks/R.framework/Versions/4.4-x86_64/Resources/library/beachmat/include/beachmat3/lin_matrix.h:66:24: note: hidden overloaded virtual function 'beachmat::lin_matrix::get_row' declared here: different number of parameters (4 vs 5) virtual const int* get_row(size_t r, int* work, size_t first, size_t last) = 0; ^ /Library/Frameworks/R.framework/Versions/4.4-x86_64/Resources/library/beachmat/include/beachmat3/lin_matrix.h:95:27: note: hidden overloaded virtual function 'beachmat::lin_matrix::get_row' declared here: different number of parameters (4 vs 5) virtual const double* get_row(size_t r, double* work, size_t first, size_t last) = 0; ^ /Library/Frameworks/R.framework/Versions/4.4-x86_64/Resources/library/beachmat/include/beachmat3/lin_matrix.h:236:43: warning: 'beachmat::lin_sparse_matrix::get_col' hides overloaded virtual functions [-Woverloaded-virtual] virtual sparse_index<const int*, int> get_col(size_t c, int* work_x, int* work_i, size_t first, size_t last) = 0; ^ /Library/Frameworks/R.framework/Versions/4.4-x86_64/Resources/library/beachmat/include/beachmat3/lin_matrix.h:52:24: note: hidden overloaded virtual function 'beachmat::lin_matrix::get_col' declared here: different number of parameters (4 vs 5) virtual const int* get_col(size_t c, int* work, size_t first, size_t last) = 0; ^ /Library/Frameworks/R.framework/Versions/4.4-x86_64/Resources/library/beachmat/include/beachmat3/lin_matrix.h:81:27: note: hidden overloaded virtual function 'beachmat::lin_matrix::get_col' declared here: different number of parameters (4 vs 5) virtual const double* get_col(size_t c, double* work, size_t first, size_t last) = 0; ^ /Library/Frameworks/R.framework/Versions/4.4-x86_64/Resources/library/beachmat/include/beachmat3/lin_matrix.h:254:46: warning: 'beachmat::lin_sparse_matrix::get_row' hides overloaded virtual functions [-Woverloaded-virtual] virtual sparse_index<const double*, int> get_row(size_t r, double* work_x, int* work_i, size_t first, size_t last) = 0; ^ /Library/Frameworks/R.framework/Versions/4.4-x86_64/Resources/library/beachmat/include/beachmat3/lin_matrix.h:66:24: note: hidden overloaded virtual function 'beachmat::lin_matrix::get_row' declared here: different number of parameters (4 vs 5) virtual const int* get_row(size_t r, int* work, size_t first, size_t last) = 0; ^ /Library/Frameworks/R.framework/Versions/4.4-x86_64/Resources/library/beachmat/include/beachmat3/lin_matrix.h:95:27: note: hidden overloaded virtual function 'beachmat::lin_matrix::get_row' declared here: different number of parameters (4 vs 5) virtual const double* get_row(size_t r, double* work, size_t first, size_t last) = 0; ^ /Library/Frameworks/R.framework/Versions/4.4-x86_64/Resources/library/beachmat/include/beachmat3/lin_matrix.h:272:46: warning: 'beachmat::lin_sparse_matrix::get_col' hides overloaded virtual functions [-Woverloaded-virtual] virtual sparse_index<const double*, int> get_col(size_t c, double* work_x, int* work_i, size_t first, size_t last) = 0; ^ /Library/Frameworks/R.framework/Versions/4.4-x86_64/Resources/library/beachmat/include/beachmat3/lin_matrix.h:52:24: note: hidden overloaded virtual function 'beachmat::lin_matrix::get_col' declared here: different number of parameters (4 vs 5) virtual const int* get_col(size_t c, int* work, size_t first, size_t last) = 0; ^ /Library/Frameworks/R.framework/Versions/4.4-x86_64/Resources/library/beachmat/include/beachmat3/lin_matrix.h:81:27: note: hidden overloaded virtual function 'beachmat::lin_matrix::get_col' declared here: different number of parameters (4 vs 5) virtual const double* get_col(size_t c, double* work, size_t first, size_t last) = 0; ^ /Library/Frameworks/R.framework/Versions/4.4-x86_64/Resources/library/beachmat/include/beachmat3/lin_matrix.h:287:35: warning: 'beachmat::lin_sparse_matrix::get_col' hides overloaded virtual functions [-Woverloaded-virtual] sparse_index<const int*, int> get_col(size_t c, int* work_x, int* work_i) { ^ /Library/Frameworks/R.framework/Versions/4.4-x86_64/Resources/library/beachmat/include/beachmat3/lin_matrix.h:52:24: note: hidden overloaded virtual function 'beachmat::lin_matrix::get_col' declared here: different number of parameters (4 vs 3) virtual const int* get_col(size_t c, int* work, size_t first, size_t last) = 0; ^ /Library/Frameworks/R.framework/Versions/4.4-x86_64/Resources/library/beachmat/include/beachmat3/lin_matrix.h:81:27: note: hidden overloaded virtual function 'beachmat::lin_matrix::get_col' declared here: different number of parameters (4 vs 3) virtual const double* get_col(size_t c, double* work, size_t first, size_t last) = 0; ^ /Library/Frameworks/R.framework/Versions/4.4-x86_64/Resources/library/beachmat/include/beachmat3/lin_matrix.h:304:35: warning: 'beachmat::lin_sparse_matrix::get_row' hides overloaded virtual functions [-Woverloaded-virtual] sparse_index<const int*, int> get_row(size_t r, int* work_x, int* work_i) { ^ /Library/Frameworks/R.framework/Versions/4.4-x86_64/Resources/library/beachmat/include/beachmat3/lin_matrix.h:66:24: note: hidden overloaded virtual function 'beachmat::lin_matrix::get_row' declared here: different number of parameters (4 vs 3) virtual const int* get_row(size_t r, int* work, size_t first, size_t last) = 0; ^ /Library/Frameworks/R.framework/Versions/4.4-x86_64/Resources/library/beachmat/include/beachmat3/lin_matrix.h:95:27: note: hidden overloaded virtual function 'beachmat::lin_matrix::get_row' declared here: different number of parameters (4 vs 3) virtual const double* get_row(size_t r, double* work, size_t first, size_t last) = 0; ^ /Library/Frameworks/R.framework/Versions/4.4-x86_64/Resources/library/beachmat/include/beachmat3/lin_matrix.h:321:38: warning: 'beachmat::lin_sparse_matrix::get_col' hides overloaded virtual functions [-Woverloaded-virtual] sparse_index<const double*, int> get_col(size_t c, double* work_x, int* work_i) { ^ /Library/Frameworks/R.framework/Versions/4.4-x86_64/Resources/library/beachmat/include/beachmat3/lin_matrix.h:52:24: note: hidden overloaded virtual function 'beachmat::lin_matrix::get_col' declared here: different number of parameters (4 vs 3) virtual const int* get_col(size_t c, int* work, size_t first, size_t last) = 0; ^ /Library/Frameworks/R.framework/Versions/4.4-x86_64/Resources/library/beachmat/include/beachmat3/lin_matrix.h:81:27: note: hidden overloaded virtual function 'beachmat::lin_matrix::get_col' declared here: different number of parameters (4 vs 3) virtual const double* get_col(size_t c, double* work, size_t first, size_t last) = 0; ^ /Library/Frameworks/R.framework/Versions/4.4-x86_64/Resources/library/beachmat/include/beachmat3/lin_matrix.h:338:38: warning: 'beachmat::lin_sparse_matrix::get_row' hides overloaded virtual functions [-Woverloaded-virtual] sparse_index<const double*, int> get_row(size_t r, double* work_x, int* work_i) { ^ /Library/Frameworks/R.framework/Versions/4.4-x86_64/Resources/library/beachmat/include/beachmat3/lin_matrix.h:66:24: note: hidden overloaded virtual function 'beachmat::lin_matrix::get_row' declared here: different number of parameters (4 vs 3) virtual const int* get_row(size_t r, int* work, size_t first, size_t last) = 0; ^ /Library/Frameworks/R.framework/Versions/4.4-x86_64/Resources/library/beachmat/include/beachmat3/lin_matrix.h:95:27: note: hidden overloaded virtual function 'beachmat::lin_matrix::get_row' declared here: different number of parameters (4 vs 3) virtual const double* get_row(size_t r, double* work, size_t first, size_t last) = 0; ^ 8 warnings generated. clang++ -arch x86_64 -std=gnu++11 -dynamiclib -Wl,-headerpad_max_install_names -undefined dynamic_lookup -L/Library/Frameworks/R.framework/Resources/lib -L/opt/R/x86_64/lib -o dreamlet.so RcppExports.o colsum_beachmat.o -F/Library/Frameworks/R.framework/.. -framework R -Wl,-framework -Wl,CoreFoundation installing to /Library/Frameworks/R.framework/Versions/4.4-x86_64/Resources/library/00LOCK-dreamlet/00new/dreamlet/libs ** R ** inst ** byte-compile and prepare package for lazy loading ** help Loading required namespace: variancePartition Loading required namespace: dreamlet *** installing help indices *** copying figures ** building package indices ** installing vignettes ** testing if installed package can be loaded from temporary location ** checking absolute paths in shared objects and dynamic libraries ** testing if installed package can be loaded from final location ** testing if installed package keeps a record of temporary installation path * DONE (dreamlet)
dreamlet.Rcheck/tests/runTests.Rout
R version 4.4.2 (2024-10-31) -- "Pile of Leaves" Copyright (C) 2024 The R Foundation for Statistical Computing Platform: x86_64-apple-darwin20 R is free software and comes with ABSOLUTELY NO WARRANTY. You are welcome to redistribute it under certain conditions. Type 'license()' or 'licence()' for distribution details. R is a collaborative project with many contributors. Type 'contributors()' for more information and 'citation()' on how to cite R or R packages in publications. Type 'demo()' for some demos, 'help()' for on-line help, or 'help.start()' for an HTML browser interface to help. Type 'q()' to quit R. > library(Matrix) > library(dreamlet) Loading required package: variancePartition Loading required package: ggplot2 Loading required package: limma Loading required package: BiocParallel Attaching package: 'variancePartition' The following object is masked from 'package:limma': topTable Loading required package: SingleCellExperiment Loading required package: SummarizedExperiment Loading required package: MatrixGenerics Loading required package: matrixStats Attaching package: 'MatrixGenerics' The following objects are masked from 'package:matrixStats': colAlls, colAnyNAs, colAnys, colAvgsPerRowSet, colCollapse, colCounts, colCummaxs, colCummins, colCumprods, colCumsums, colDiffs, colIQRDiffs, colIQRs, colLogSumExps, colMadDiffs, colMads, colMaxs, colMeans2, colMedians, colMins, colOrderStats, colProds, colQuantiles, colRanges, colRanks, colSdDiffs, colSds, colSums2, colTabulates, colVarDiffs, colVars, colWeightedMads, colWeightedMeans, colWeightedMedians, colWeightedSds, colWeightedVars, rowAlls, rowAnyNAs, rowAnys, rowAvgsPerColSet, rowCollapse, rowCounts, rowCummaxs, rowCummins, rowCumprods, rowCumsums, rowDiffs, rowIQRDiffs, rowIQRs, rowLogSumExps, rowMadDiffs, rowMads, rowMaxs, rowMeans2, rowMedians, rowMins, rowOrderStats, rowProds, rowQuantiles, rowRanges, rowRanks, rowSdDiffs, rowSds, rowSums2, rowTabulates, rowVarDiffs, rowVars, rowWeightedMads, rowWeightedMeans, rowWeightedMedians, rowWeightedSds, rowWeightedVars Loading required package: GenomicRanges Loading required package: stats4 Loading required package: BiocGenerics Attaching package: 'BiocGenerics' The following object is masked from 'package:limma': plotMA The following objects are masked from 'package:stats': IQR, mad, sd, var, xtabs The following objects are masked from 'package:base': Filter, Find, Map, Position, Reduce, anyDuplicated, aperm, append, as.data.frame, basename, cbind, colnames, dirname, do.call, duplicated, eval, evalq, get, grep, grepl, intersect, is.unsorted, lapply, mapply, match, mget, order, paste, pmax, pmax.int, pmin, pmin.int, rank, rbind, rownames, sapply, saveRDS, setdiff, table, tapply, union, unique, unsplit, which.max, which.min Loading required package: S4Vectors Attaching package: 'S4Vectors' The following objects are masked from 'package:Matrix': expand, unname The following object is masked from 'package:utils': findMatches The following objects are masked from 'package:base': I, expand.grid, unname Loading required package: IRanges Loading required package: GenomeInfoDb Loading required package: Biobase Welcome to Bioconductor Vignettes contain introductory material; view with 'browseVignettes()'. To cite Bioconductor, see 'citation("Biobase")', and for packages 'citation("pkgname")'. Attaching package: 'Biobase' The following object is masked from 'package:MatrixGenerics': rowMedians The following objects are masked from 'package:matrixStats': anyMissing, rowMedians > library(DelayedArray) Loading required package: S4Arrays Loading required package: abind Attaching package: 'S4Arrays' The following object is masked from 'package:abind': abind The following object is masked from 'package:base': rowsum Loading required package: SparseArray Attaching package: 'DelayedArray' The following objects are masked from 'package:base': apply, scale, sweep > library(edgeR) Attaching package: 'edgeR' The following object is masked from 'package:SingleCellExperiment': cpm > library(muscat) Warning message: In check_dep_version(dep_pkg = "TMB") : package version mismatch: glmmTMB was built with TMB package version 1.9.15 Current TMB package version is 1.9.16 Please re-install glmmTMB from source or restore original 'TMB' package (see '?reinstalling' for more information) > library(RUnit) > > BiocGenerics:::testPackage("dreamlet") B cells...0.72 secs B cells...0.64 secs Processing block [[1/1, 1/1]] ... OK B cells...0.56 secs CD14+ Monocytes...0.74 secs CD4 T cells...0.67 secs CD8 T cells...0.43 secs FCGR3A+ Monocytes...0.67 secs B cells...8.7 secs CD14+ Monocytes...12 secs CD4 T cells...9.2 secs CD8 T cells...5.7 secs FCGR3A+ Monocytes...12 secs B cells...0.74 secs CD14+ Monocytes...1 secs CD4 T cells...0.69 secs CD8 T cells...0.44 secs FCGR3A+ Monocytes...0.86 secs RUNIT TEST PROTOCOL -- Tue Feb 4 03:26:26 2025 *********************************************** Number of test functions: 10 Number of errors: 0 Number of failures: 0 1 Test Suite : dreamlet RUnit Tests - 10 test functions, 0 errors, 0 failures Number of test functions: 10 Number of errors: 0 Number of failures: 0 > > proc.time() user system elapsed 118.599 4.114 169.426
dreamlet.Rcheck/dreamlet-Ex.timings
name | user | system | elapsed | |
aggregateNonCountSignal | 13.727 | 0.856 | 17.319 | |
aggregateToPseudoBulk | 1.632 | 0.041 | 2.036 | |
aggregateVar | 2.217 | 0.048 | 2.643 | |
as.dreamletResult | 2.755 | 0.061 | 3.230 | |
buildClusterTreeFromPB | 2.172 | 0.054 | 2.585 | |
cellCounts | 0.866 | 0.020 | 1.018 | |
cellTypeSpecificity | 4.685 | 0.157 | 5.561 | |
checkFormula | 0.001 | 0.001 | 0.002 | |
coefNames-methods | 7.008 | 0.077 | 8.087 | |
compositePosteriorTest | 12.780 | 0.209 | 14.293 | |
computeCellCounts | 0.283 | 0.015 | 0.329 | |
computeLogCPM | 0.654 | 0.085 | 0.813 | |
computeNormCounts | 0.429 | 0.031 | 0.501 | |
details-methods | 3.934 | 0.063 | 4.360 | |
diffVar-methods | 10.039 | 0.112 | 10.886 | |
dreamlet | 8.276 | 0.098 | 9.505 | |
dreamletCompareClusters | 5.947 | 0.091 | 6.889 | |
dropRedundantTerms | 0.010 | 0.001 | 0.014 | |
equalFormulas | 0.001 | 0.000 | 0.001 | |
extractData-methods | 4.152 | 0.058 | 4.600 | |
fitVarPart | 48.208 | 0.406 | 53.440 | |
getTreat-methods | 7.270 | 0.095 | 8.137 | |
meta_analysis | 36.997 | 0.578 | 41.992 | |
outlier | 0.006 | 0.002 | 0.007 | |
outlierByAssay | 4.106 | 0.041 | 4.548 | |
plotBeeswarm | 7.993 | 0.161 | 9.082 | |
plotCellComposition | 1.944 | 0.033 | 2.211 | |
plotForest-methods | 7.638 | 0.079 | 8.822 | |
plotGeneHeatmap-methods | 7.797 | 0.076 | 8.688 | |
plotHeatmap-methods | 1.363 | 0.026 | 1.503 | |
plotPCA | 8.309 | 0.109 | 9.461 | |
plotPercentBars-methods | 45.090 | 0.408 | 50.996 | |
plotProjection | 2.297 | 0.101 | 2.731 | |
plotVarPart-methods | 46.256 | 0.416 | 51.408 | |
plotViolin-methods | 1.961 | 0.035 | 2.161 | |
plotVolcano-methods | 9.856 | 0.128 | 10.870 | |
plotVoom-methods | 6.073 | 0.086 | 6.692 | |
processAssays | 8.333 | 0.129 | 9.189 | |
removeConstantTerms | 0.010 | 0.001 | 0.012 | |
residuals-methods | 7.064 | 0.076 | 7.796 | |
run_mash | 14.727 | 0.267 | 16.528 | |
seeErrors-methods | 7.077 | 0.096 | 7.843 | |
sortCols-method | 46.156 | 0.439 | 51.036 | |
stackAssays | 26.270 | 0.337 | 29.007 | |
topTable-methods | 7.227 | 0.099 | 7.921 | |
zenith_gsa-methods | 167.823 | 9.881 | 197.064 | |