Back to Multiple platform build/check report for BioC 3.20:   simplified   long
ABCDEF[G]HIJKLMNOPQRSTUVWXYZ

This page was generated on 2025-02-06 12:11 -0500 (Thu, 06 Feb 2025).

HostnameOSArch (*)R versionInstalled pkgs
nebbiolo2Linux (Ubuntu 24.04.1 LTS)x86_644.4.2 (2024-10-31) -- "Pile of Leaves" 4753
palomino8Windows Server 2022 Datacenterx644.4.2 (2024-10-31 ucrt) -- "Pile of Leaves" 4501
merida1macOS 12.7.5 Montereyx86_644.4.2 (2024-10-31) -- "Pile of Leaves" 4524
kjohnson1macOS 13.6.6 Venturaarm644.4.2 (2024-10-31) -- "Pile of Leaves" 4476
taishanLinux (openEuler 24.03 LTS)aarch644.4.2 (2024-10-31) -- "Pile of Leaves" 4407
Click on any hostname to see more info about the system (e.g. compilers)      (*) as reported by 'uname -p', except on Windows and Mac OS X

Package 844/2289HostnameOS / ArchINSTALLBUILDCHECKBUILD BIN
gep2pep 1.26.0  (landing page)
Francesco Napolitano
Snapshot Date: 2025-02-03 13:00 -0500 (Mon, 03 Feb 2025)
git_url: https://git.bioconductor.org/packages/gep2pep
git_branch: RELEASE_3_20
git_last_commit: 6d56a56
git_last_commit_date: 2024-10-29 10:24:09 -0500 (Tue, 29 Oct 2024)
nebbiolo2Linux (Ubuntu 24.04.1 LTS) / x86_64  OK    OK    OK  UNNEEDED, same version is already published
palomino8Windows Server 2022 Datacenter / x64  OK    OK    OK    OK  UNNEEDED, same version is already published
merida1macOS 12.7.5 Monterey / x86_64  OK    OK    OK    OK  UNNEEDED, same version is already published
kjohnson1macOS 13.6.6 Ventura / arm64  OK    OK    OK    OK  UNNEEDED, same version is already published
taishanLinux (openEuler 24.03 LTS) / aarch64  OK    OK    OK  


CHECK results for gep2pep on taishan

To the developers/maintainers of the gep2pep package:
- Allow up to 24 hours (and sometimes 48 hours) for your latest push to git@git.bioconductor.org:packages/gep2pep.git to reflect on this report. See Troubleshooting Build Report for more information.
- Use the following Renviron settings to reproduce errors and warnings.
- If 'R CMD check' started to fail recently on the Linux builder(s) over a missing dependency, add the missing dependency to 'Suggests:' in your DESCRIPTION file. See Renviron.bioc for more information.
- See Martin Grigorov's blog post for how to debug Linux ARM64 related issues on a x86_64 host.

raw results


Summary

Package: gep2pep
Version: 1.26.0
Command: /home/biocbuild/R/R/bin/R CMD check --install=check:gep2pep.install-out.txt --library=/home/biocbuild/R/R/site-library --no-vignettes --timings gep2pep_1.26.0.tar.gz
StartedAt: 2025-02-04 07:25:29 -0000 (Tue, 04 Feb 2025)
EndedAt: 2025-02-04 07:28:18 -0000 (Tue, 04 Feb 2025)
EllapsedTime: 169.1 seconds
RetCode: 0
Status:   OK  
CheckDir: gep2pep.Rcheck
Warnings: 0

Command output

##############################################################################
##############################################################################
###
### Running command:
###
###   /home/biocbuild/R/R/bin/R CMD check --install=check:gep2pep.install-out.txt --library=/home/biocbuild/R/R/site-library --no-vignettes --timings gep2pep_1.26.0.tar.gz
###
##############################################################################
##############################################################################


* using log directory ‘/home/biocbuild/bbs-3.20-bioc/meat/gep2pep.Rcheck’
* using R version 4.4.2 (2024-10-31)
* using platform: aarch64-unknown-linux-gnu
* R was compiled by
    aarch64-unknown-linux-gnu-gcc (GCC) 14.2.0
    GNU Fortran (GCC) 12.3.1 (openEuler 12.3.1-36.oe2403)
* running under: openEuler 24.03 (LTS)
* using session charset: UTF-8
* using option ‘--no-vignettes’
* checking for file ‘gep2pep/DESCRIPTION’ ... OK
* checking extension type ... Package
* this is package ‘gep2pep’ version ‘1.26.0’
* package encoding: UTF-8
* checking package namespace information ... OK
* checking package dependencies ... OK
* checking if this is a source package ... OK
* checking if there is a namespace ... OK
* checking for hidden files and directories ... OK
* checking for portable file names ... OK
* checking for sufficient/correct file permissions ... OK
* checking whether package ‘gep2pep’ can be installed ... OK
* checking installed package size ... OK
* checking package directory ... OK
* checking ‘build’ directory ... OK
* checking DESCRIPTION meta-information ... OK
* checking top-level files ... OK
* checking for left-over files ... OK
* checking index information ... OK
* checking package subdirectories ... OK
* checking code files for non-ASCII characters ... OK
* checking R files for syntax errors ... OK
* checking whether the package can be loaded ... OK
* checking whether the package can be loaded with stated dependencies ... OK
* checking whether the package can be unloaded cleanly ... OK
* checking whether the namespace can be loaded with stated dependencies ... OK
* checking whether the namespace can be unloaded cleanly ... OK
* checking loading without being on the library search path ... OK
* checking dependencies in R code ... OK
* checking S3 generic/method consistency ... OK
* checking replacement functions ... OK
* checking foreign function calls ... OK
* checking R code for possible problems ... OK
* checking Rd files ... NOTE
checkRd: (-1) as.CategorizedCollection.Rd:27: Lost braces; missing escapes or markup?
    27 |     in the collection to {CategorizedCollection}. If
       |                          ^
checkRd: (-1) gep2pep-package.Rd:50-51: Lost braces in \itemize; meant \describe ?
checkRd: (-1) gep2pep-package.Rd:53: Lost braces in \itemize; meant \describe ?
checkRd: (-1) gep2pep-package.Rd:55-56: Lost braces in \itemize; meant \describe ?
checkRd: (-1) gep2pep-package.Rd:58-61: Lost braces in \itemize; meant \describe ?
checkRd: (-1) gep2pep-package.Rd:63-65: Lost braces in \itemize; meant \describe ?
checkRd: (-1) gep2pep-package.Rd:67-69: Lost braces in \itemize; meant \describe ?
checkRd: (-1) gep2pep-package.Rd:71-73: Lost braces in \itemize; meant \describe ?
checkRd: (-1) loadESmatrix.Rd:19: Lost braces
    19 |     reports the ES for the pathway \code{i}, condition{j}. If
       |                                                       ^
checkRd: (-1) loadPVmatrix.Rd:19: Lost braces
    19 |     reports the PV for the pathway \code{i}, condition{j}. If
       |                                                       ^
* checking Rd metadata ... OK
* checking Rd cross-references ... OK
* checking for missing documentation entries ... OK
* checking for code/documentation mismatches ... OK
* checking Rd \usage sections ... OK
* checking Rd contents ... OK
* checking for unstated dependencies in examples ... OK
* checking files in ‘vignettes’ ... OK
* checking examples ... OK
* checking for unstated dependencies in ‘tests’ ... OK
* checking tests ...
  Running ‘testthat.R’
 OK
* checking for unstated dependencies in vignettes ... OK
* checking package vignettes ... OK
* checking running R code from vignettes ... SKIPPED
* checking re-building of vignette outputs ... SKIPPED
* checking PDF version of manual ... OK
* DONE

Status: 1 NOTE
See
  ‘/home/biocbuild/bbs-3.20-bioc/meat/gep2pep.Rcheck/00check.log’
for details.


Installation output

gep2pep.Rcheck/00install.out

##############################################################################
##############################################################################
###
### Running command:
###
###   /home/biocbuild/R/R/bin/R CMD INSTALL gep2pep
###
##############################################################################
##############################################################################


* installing to library ‘/home/biocbuild/R/R-4.4.2/site-library’
* installing *source* package ‘gep2pep’ ...
** using staged installation
** R
** inst
** byte-compile and prepare package for lazy loading
** help
*** installing help indices
** building package indices
** installing vignettes
** testing if installed package can be loaded from temporary location
** testing if installed package can be loaded from final location
** testing if installed package keeps a record of temporary installation path
* DONE (gep2pep)

Tests output

gep2pep.Rcheck/tests/testthat.Rout


R version 4.4.2 (2024-10-31) -- "Pile of Leaves"
Copyright (C) 2024 The R Foundation for Statistical Computing
Platform: aarch64-unknown-linux-gnu

R is free software and comes with ABSOLUTELY NO WARRANTY.
You are welcome to redistribute it under certain conditions.
Type 'license()' or 'licence()' for distribution details.

R is a collaborative project with many contributors.
Type 'contributors()' for more information and
'citation()' on how to cite R or R packages in publications.

Type 'demo()' for some demos, 'help()' for on-line help, or
'help.start()' for an HTML browser interface to help.
Type 'q()' to quit R.

> library(testthat)
> library(gep2pep)
> 
> test_check("gep2pep")
Chunk 1 of 2, 521 bytes (current file size: 4.3 Kb)
Chunk 2 of 2, 666 bytes (current file size: 16.3 Kb)
Chunk 1 of 2, 541 bytes (current file size: 4.3 Kb)
Chunk 2 of 2, 692 bytes (current file size: 16.3 Kb)
Chunk 1 of 2, 550 bytes (current file size: 4.3 Kb)
Chunk 2 of 2, 686 bytes (current file size: 16.3 Kb)
[ FAIL 0 | WARN 2272 | SKIP 1 | PASS 154 ]

══ Skipped tests (1) ═══════════════════════════════════════════════════════════
• empty test (1): 'test_rawMode.R:216:1'

[ FAIL 0 | WARN 2272 | SKIP 1 | PASS 154 ]
> 
> proc.time()
   user  system elapsed 
 35.221   1.199  36.609 

Example timings

gep2pep.Rcheck/gep2pep-Ex.timings

nameusersystemelapsed
CategorizedCollection0.1320.0040.136
CondSEA0.9810.1511.146
PathSEA0.9730.3631.342
addSingleGeneSets0.5850.1480.736
as.CategorizedCollection0.3590.1080.469
buildPEPs0.6290.1240.756
checkRepository0.2170.0110.230
clearCache0.8170.2101.036
createMergedRepository0.7020.0720.781
createRepository0.1590.0280.189
exportSEA0.5950.0430.643
gene2pathways0.1780.0200.199
getCollections0.1770.0080.192
getDetails0.6270.0260.657
getResults0.5770.0280.609
importFromRawMode0.6740.0550.736
importMSigDB.xml0.1600.0240.186
loadCollection0.1660.0160.184
loadESmatrix0.5170.0550.577
loadPVmatrix0.5380.0280.570
loadSampleGEP0.0010.0000.001
loadSamplePWS0.0010.0000.002
makeCollectionIDs0.0480.0000.049
openRepository0.1640.0120.178
setId2setName0.0490.0000.049