Back to Multiple platform build/check report for BioC 3.20:   simplified   long
ABCDEF[G]HIJKLMNOPQRSTUVWXYZ

This page was generated on 2025-02-03 12:06 -0500 (Mon, 03 Feb 2025).

HostnameOSArch (*)R versionInstalled pkgs
nebbiolo2Linux (Ubuntu 24.04.1 LTS)x86_644.4.2 (2024-10-31) -- "Pile of Leaves" 4746
palomino8Windows Server 2022 Datacenterx644.4.2 (2024-10-31 ucrt) -- "Pile of Leaves" 4494
merida1macOS 12.7.5 Montereyx86_644.4.2 (2024-10-31) -- "Pile of Leaves" 4517
kjohnson1macOS 13.6.6 Venturaarm644.4.2 (2024-10-31) -- "Pile of Leaves" 4469
taishanLinux (openEuler 24.03 LTS)aarch644.4.2 (2024-10-31) -- "Pile of Leaves" 4400
Click on any hostname to see more info about the system (e.g. compilers)      (*) as reported by 'uname -p', except on Windows and Mac OS X

Package 852/2289HostnameOS / ArchINSTALLBUILDCHECKBUILD BIN
ggkegg 1.4.1  (landing page)
Noriaki Sato
Snapshot Date: 2025-01-30 13:00 -0500 (Thu, 30 Jan 2025)
git_url: https://git.bioconductor.org/packages/ggkegg
git_branch: RELEASE_3_20
git_last_commit: 37e0fd0
git_last_commit_date: 2025-01-29 00:19:00 -0500 (Wed, 29 Jan 2025)
nebbiolo2Linux (Ubuntu 24.04.1 LTS) / x86_64  OK    OK    OK  YES
palomino8Windows Server 2022 Datacenter / x64  OK    OK    OK    OK  YES
merida1macOS 12.7.5 Monterey / x86_64  OK    OK    OK    OK  YES
kjohnson1macOS 13.6.6 Ventura / arm64  OK    OK    OK    OK  YES
taishanLinux (openEuler 24.03 LTS) / aarch64  OK    OK    OK  


CHECK results for ggkegg on palomino8

To the developers/maintainers of the ggkegg package:
- Allow up to 24 hours (and sometimes 48 hours) for your latest push to git@git.bioconductor.org:packages/ggkegg.git to reflect on this report. See Troubleshooting Build Report for more information.
- Use the following Renviron settings to reproduce errors and warnings.
- If 'R CMD check' started to fail recently on the Linux builder(s) over a missing dependency, add the missing dependency to 'Suggests:' in your DESCRIPTION file. See Renviron.bioc for more information.

raw results


Summary

Package: ggkegg
Version: 1.4.1
Command: F:\biocbuild\bbs-3.20-bioc\R\bin\R.exe CMD check --no-multiarch --install=check:ggkegg.install-out.txt --library=F:\biocbuild\bbs-3.20-bioc\R\library --no-vignettes --timings ggkegg_1.4.1.tar.gz
StartedAt: 2025-01-31 02:29:05 -0500 (Fri, 31 Jan 2025)
EndedAt: 2025-01-31 02:31:24 -0500 (Fri, 31 Jan 2025)
EllapsedTime: 138.9 seconds
RetCode: 0
Status:   OK  
CheckDir: ggkegg.Rcheck
Warnings: 0

Command output

##############################################################################
##############################################################################
###
### Running command:
###
###   F:\biocbuild\bbs-3.20-bioc\R\bin\R.exe CMD check --no-multiarch --install=check:ggkegg.install-out.txt --library=F:\biocbuild\bbs-3.20-bioc\R\library --no-vignettes --timings ggkegg_1.4.1.tar.gz
###
##############################################################################
##############################################################################


* using log directory 'F:/biocbuild/bbs-3.20-bioc/meat/ggkegg.Rcheck'
* using R version 4.4.2 (2024-10-31 ucrt)
* using platform: x86_64-w64-mingw32
* R was compiled by
    gcc.exe (GCC) 13.3.0
    GNU Fortran (GCC) 13.3.0
* running under: Windows Server 2022 x64 (build 20348)
* using session charset: UTF-8
* using option '--no-vignettes'
* checking for file 'ggkegg/DESCRIPTION' ... OK
* checking extension type ... Package
* this is package 'ggkegg' version '1.4.1'
* package encoding: UTF-8
* checking package namespace information ... OK
* checking package dependencies ... OK
* checking if this is a source package ... OK
* checking if there is a namespace ... OK
* checking for hidden files and directories ... OK
* checking for portable file names ... OK
* checking whether package 'ggkegg' can be installed ... OK
* checking installed package size ... OK
* checking package directory ... OK
* checking 'build' directory ... OK
* checking DESCRIPTION meta-information ... NOTE
License stub is invalid DCF.
* checking top-level files ... OK
* checking for left-over files ... OK
* checking index information ... OK
* checking package subdirectories ... OK
* checking code files for non-ASCII characters ... OK
* checking R files for syntax errors ... OK
* checking whether the package can be loaded ... OK
* checking whether the package can be loaded with stated dependencies ... OK
* checking whether the package can be unloaded cleanly ... OK
* checking whether the namespace can be loaded with stated dependencies ... OK
* checking whether the namespace can be unloaded cleanly ... OK
* checking dependencies in R code ... OK
* checking S3 generic/method consistency ... OK
* checking replacement functions ... OK
* checking foreign function calls ... OK
* checking R code for possible problems ... OK
* checking Rd files ... OK
* checking Rd metadata ... OK
* checking Rd cross-references ... OK
* checking for missing documentation entries ... OK
* checking for code/documentation mismatches ... OK
* checking Rd \usage sections ... OK
* checking Rd contents ... OK
* checking for unstated dependencies in examples ... OK
* checking files in 'vignettes' ... OK
* checking examples ... OK
Examples with CPU (user + system) or elapsed time > 5s
                  user system elapsed
append_cp         7.48   1.17   13.72
rawMap            1.32   0.08    6.30
pathway_abundance 0.25   0.00    7.42
* checking for unstated dependencies in 'tests' ... OK
* checking tests ...
  Running 'testthat.R'
 OK
* checking for unstated dependencies in vignettes ... OK
* checking package vignettes ... OK
* checking running R code from vignettes ... SKIPPED
* checking re-building of vignette outputs ... SKIPPED
* checking PDF version of manual ... OK
* DONE

Status: 1 NOTE
See
  'F:/biocbuild/bbs-3.20-bioc/meat/ggkegg.Rcheck/00check.log'
for details.


Installation output

ggkegg.Rcheck/00install.out

##############################################################################
##############################################################################
###
### Running command:
###
###   F:\biocbuild\bbs-3.20-bioc\R\bin\R.exe CMD INSTALL ggkegg
###
##############################################################################
##############################################################################


* installing to library 'F:/biocbuild/bbs-3.20-bioc/R/library'
* installing *source* package 'ggkegg' ...
** using staged installation
** R
** inst
** byte-compile and prepare package for lazy loading
** help
*** installing help indices
*** copying figures
** building package indices
** installing vignettes
** testing if installed package can be loaded from temporary location
** testing if installed package can be loaded from final location
** testing if installed package keeps a record of temporary installation path
* DONE (ggkegg)

Tests output

ggkegg.Rcheck/tests/testthat.Rout


R version 4.4.2 (2024-10-31 ucrt) -- "Pile of Leaves"
Copyright (C) 2024 The R Foundation for Statistical Computing
Platform: x86_64-w64-mingw32/x64

R is free software and comes with ABSOLUTELY NO WARRANTY.
You are welcome to redistribute it under certain conditions.
Type 'license()' or 'licence()' for distribution details.

R is a collaborative project with many contributors.
Type 'contributors()' for more information and
'citation()' on how to cite R or R packages in publications.

Type 'demo()' for some demos, 'help()' for on-line help, or
'help.start()' for an HTML browser interface to help.
Type 'q()' to quit R.

> # This file is part of the standard setup for testthat.
> # It is recommended that you do not modify it.
> #
> # Where should you do additional test configuration?
> # Learn more about the roles of various files in:
> # * https://r-pkgs.org/tests.html
> # * https://testthat.r-lib.org/reference/test_package.html#special-files
> 
> library(testthat)
> library(ggkegg)
Loading required package: ggplot2
Loading required package: ggraph
Loading required package: XML
Loading required package: igraph

Attaching package: 'igraph'

The following object is masked from 'package:testthat':

    compare

The following objects are masked from 'package:stats':

    decompose, spectrum

The following object is masked from 'package:base':

    union

Loading required package: tidygraph

Attaching package: 'tidygraph'

The following object is masked from 'package:igraph':

    groups

The following object is masked from 'package:testthat':

    matches

The following object is masked from 'package:stats':

    filter

> 
> test_check("ggkegg")
trying URL 'https://rest.kegg.jp/get/M00004'
downloaded 2246 bytes

trying URL 'https://rest.kegg.jp/get/N00002'
downloaded 2119 bytes

trying URL 'https://rest.kegg.jp/get/hsa04110/kgml'
downloaded 51 KB

[ FAIL 0 | WARN 5 | SKIP 0 | PASS 20 ]

[ FAIL 0 | WARN 5 | SKIP 0 | PASS 20 ]
> 
> proc.time()
   user  system elapsed 
   5.31    1.12    8.21 

Example timings

ggkegg.Rcheck/ggkegg-Ex.timings

nameusersystemelapsed
append_cp 7.48 1.1713.72
append_label_position0.080.020.09
assign_deseq20.010.000.02
carrow000
combine_with_bnlearn0.110.010.12
convert_id0.290.060.39
create_test_module000
create_test_network000
create_test_pathway0.060.020.07
edge_matrix0.020.000.02
edge_numeric0.010.000.02
edge_numeric_sum0.020.000.01
geom_kegg0.050.000.05
geom_node_rect0.010.000.01
geom_node_rect_kegg0.020.000.02
geom_node_rect_multi0.170.000.17
geom_node_shadowtext0.020.000.01
ggkegg0.310.021.44
ggplot_add.geom_kegg0.030.000.03
ggplot_add.geom_node_rect_kegg0.020.000.02
ggplot_add.geom_node_rect_multi0.060.000.06
ggplot_add.overlay_raw_map0.490.050.68
ggplot_add.stamp0.010.000.02
highlight_entities1.380.041.42
highlight_module0.010.000.02
highlight_set_edges0.020.000.01
highlight_set_nodes0.010.000.02
module0.030.000.90
module_abundance0.040.000.03
module_completeness0.010.000.02
module_text000
multi_pathway_native0.270.041.19
network0.000.000.89
network_graph0.030.000.03
node_matrix0.010.000.02
node_numeric0.020.000.01
obtain_sequential_module_definition0.030.000.03
output_overlay_image000
overlay_raw_map0.640.060.71
pathway0.20.00.2
pathway_abundance0.250.007.42
pathway_info0.040.001.14
plot_kegg_network0.110.000.11
plot_module_blocks0.060.010.08
plot_module_text0.110.000.11
process_line0.010.000.01
process_reaction000
rawMap1.320.086.30
rawValue0.010.000.01
return_line_compounds0.020.000.02
stamp0.010.000.01