Back to Multiple platform build/check report for BioC 3.20: simplified long |
|
This page was generated on 2025-02-06 12:11 -0500 (Thu, 06 Feb 2025).
Hostname | OS | Arch (*) | R version | Installed pkgs |
---|---|---|---|---|
nebbiolo2 | Linux (Ubuntu 24.04.1 LTS) | x86_64 | 4.4.2 (2024-10-31) -- "Pile of Leaves" | 4753 |
palomino8 | Windows Server 2022 Datacenter | x64 | 4.4.2 (2024-10-31 ucrt) -- "Pile of Leaves" | 4501 |
merida1 | macOS 12.7.5 Monterey | x86_64 | 4.4.2 (2024-10-31) -- "Pile of Leaves" | 4524 |
kjohnson1 | macOS 13.6.6 Ventura | arm64 | 4.4.2 (2024-10-31) -- "Pile of Leaves" | 4476 |
taishan | Linux (openEuler 24.03 LTS) | aarch64 | 4.4.2 (2024-10-31) -- "Pile of Leaves" | 4407 |
Click on any hostname to see more info about the system (e.g. compilers) (*) as reported by 'uname -p', except on Windows and Mac OS X |
Package 859/2289 | Hostname | OS / Arch | INSTALL | BUILD | CHECK | BUILD BIN | ||||||||
ggtree 3.14.0 (landing page) Guangchuang Yu
| nebbiolo2 | Linux (Ubuntu 24.04.1 LTS) / x86_64 | OK | OK | OK | ![]() | ||||||||
palomino8 | Windows Server 2022 Datacenter / x64 | OK | OK | OK | OK | ![]() | ||||||||
merida1 | macOS 12.7.5 Monterey / x86_64 | OK | OK | OK | OK | ![]() | ||||||||
kjohnson1 | macOS 13.6.6 Ventura / arm64 | OK | OK | OK | OK | ![]() | ||||||||
taishan | Linux (openEuler 24.03 LTS) / aarch64 | OK | OK | OK | ||||||||||
To the developers/maintainers of the ggtree package: - Allow up to 24 hours (and sometimes 48 hours) for your latest push to git@git.bioconductor.org:packages/ggtree.git to reflect on this report. See Troubleshooting Build Report for more information. - Use the following Renviron settings to reproduce errors and warnings. - If 'R CMD check' started to fail recently on the Linux builder(s) over a missing dependency, add the missing dependency to 'Suggests:' in your DESCRIPTION file. See Renviron.bioc for more information. - See Martin Grigorov's blog post for how to debug Linux ARM64 related issues on a x86_64 host. |
Package: ggtree |
Version: 3.14.0 |
Command: /home/biocbuild/R/R/bin/R CMD check --install=check:ggtree.install-out.txt --library=/home/biocbuild/R/R/site-library --no-vignettes --timings ggtree_3.14.0.tar.gz |
StartedAt: 2025-02-04 07:28:40 -0000 (Tue, 04 Feb 2025) |
EndedAt: 2025-02-04 07:29:59 -0000 (Tue, 04 Feb 2025) |
EllapsedTime: 79.1 seconds |
RetCode: 0 |
Status: OK |
CheckDir: ggtree.Rcheck |
Warnings: 0 |
############################################################################## ############################################################################## ### ### Running command: ### ### /home/biocbuild/R/R/bin/R CMD check --install=check:ggtree.install-out.txt --library=/home/biocbuild/R/R/site-library --no-vignettes --timings ggtree_3.14.0.tar.gz ### ############################################################################## ############################################################################## * using log directory ‘/home/biocbuild/bbs-3.20-bioc/meat/ggtree.Rcheck’ * using R version 4.4.2 (2024-10-31) * using platform: aarch64-unknown-linux-gnu * R was compiled by aarch64-unknown-linux-gnu-gcc (GCC) 14.2.0 GNU Fortran (GCC) 12.3.1 (openEuler 12.3.1-36.oe2403) * running under: openEuler 24.03 (LTS) * using session charset: UTF-8 * using option ‘--no-vignettes’ * checking for file ‘ggtree/DESCRIPTION’ ... OK * checking extension type ... Package * this is package ‘ggtree’ version ‘3.14.0’ * package encoding: UTF-8 * checking package namespace information ... OK * checking package dependencies ... OK * checking if this is a source package ... OK * checking if there is a namespace ... OK * checking for hidden files and directories ... OK * checking for portable file names ... OK * checking for sufficient/correct file permissions ... OK * checking whether package ‘ggtree’ can be installed ... OK * checking installed package size ... OK * checking package directory ... OK * checking ‘build’ directory ... OK * checking DESCRIPTION meta-information ... OK * checking top-level files ... OK * checking for left-over files ... OK * checking index information ... OK * checking package subdirectories ... OK * checking code files for non-ASCII characters ... OK * checking R files for syntax errors ... OK * checking whether the package can be loaded ... OK * checking whether the package can be loaded with stated dependencies ... OK * checking whether the package can be unloaded cleanly ... OK * checking whether the namespace can be loaded with stated dependencies ... OK * checking whether the namespace can be unloaded cleanly ... OK * checking loading without being on the library search path ... OK * checking whether startup messages can be suppressed ... OK * checking dependencies in R code ... OK * checking S3 generic/method consistency ... OK * checking replacement functions ... OK * checking foreign function calls ... OK * checking R code for possible problems ... OK * checking Rd files ... OK * checking Rd metadata ... OK * checking Rd cross-references ... OK * checking for missing documentation entries ... OK * checking for code/documentation mismatches ... OK * checking Rd \usage sections ... OK * checking Rd contents ... OK * checking for unstated dependencies in examples ... OK * checking files in ‘vignettes’ ... OK * checking examples ... OK * checking for unstated dependencies in ‘tests’ ... OK * checking tests ... Running ‘testthat.R’ OK * checking for unstated dependencies in vignettes ... OK * checking package vignettes ... OK * checking running R code from vignettes ... SKIPPED * checking re-building of vignette outputs ... SKIPPED * checking PDF version of manual ... OK * DONE Status: OK
ggtree.Rcheck/00install.out
############################################################################## ############################################################################## ### ### Running command: ### ### /home/biocbuild/R/R/bin/R CMD INSTALL ggtree ### ############################################################################## ############################################################################## * installing to library ‘/home/biocbuild/R/R-4.4.2/site-library’ * installing *source* package ‘ggtree’ ... ** using staged installation ** R ** inst ** byte-compile and prepare package for lazy loading ** help *** installing help indices ** building package indices ** installing vignettes ** testing if installed package can be loaded from temporary location ** testing if installed package can be loaded from final location ** testing if installed package keeps a record of temporary installation path * DONE (ggtree)
ggtree.Rcheck/tests/testthat.Rout
R version 4.4.2 (2024-10-31) -- "Pile of Leaves" Copyright (C) 2024 The R Foundation for Statistical Computing Platform: aarch64-unknown-linux-gnu R is free software and comes with ABSOLUTELY NO WARRANTY. You are welcome to redistribute it under certain conditions. Type 'license()' or 'licence()' for distribution details. R is a collaborative project with many contributors. Type 'contributors()' for more information and 'citation()' on how to cite R or R packages in publications. Type 'demo()' for some demos, 'help()' for on-line help, or 'help.start()' for an HTML browser interface to help. Type 'q()' to quit R. > library(testthat) > library(ggtree) ggtree v3.14.0 Learn more at https://yulab-smu.top/contribution-tree-data/ Please cite: Shuangbin Xu, Lin Li, Xiao Luo, Meijun Chen, Wenli Tang, Li Zhan, Zehan Dai, Tommy T. Lam, Yi Guan, Guangchuang Yu. Ggtree: A serialized data object for visualization of a phylogenetic tree and annotation data. iMeta 2022, 1(4):e56. doi:10.1002/imt2.56 > > test_check("ggtree") [ FAIL 0 | WARN 3 | SKIP 0 | PASS 14 ] [ FAIL 0 | WARN 3 | SKIP 0 | PASS 14 ] > > proc.time() user system elapsed 2.696 0.126 2.816
ggtree.Rcheck/ggtree-Ex.timings
name | user | system | elapsed | |
collapse | 0.388 | 0.016 | 0.405 | |
expand | 0.207 | 0.008 | 0.215 | |
facet-plot | 0.333 | 0.000 | 0.334 | |
flip | 0.246 | 0.000 | 0.247 | |
geom-hilight | 2.384 | 0.020 | 2.411 | |
geom_balance | 0.294 | 0.004 | 0.299 | |
geom_cladelab | 0.534 | 0.004 | 0.540 | |
geom_label2 | 0.298 | 0.020 | 0.320 | |
geom_point2 | 1.178 | 0.000 | 1.184 | |
geom_rootedge | 0.829 | 0.004 | 0.835 | |
geom_rootpoint | 0.347 | 0.000 | 0.348 | |
geom_strip | 0.218 | 0.016 | 0.235 | |
geom_striplab | 0.270 | 0.004 | 0.274 | |
geom_tiplab | 0.199 | 0.000 | 0.199 | |
geom_tiplab2 | 0.309 | 0.000 | 0.310 | |
geom_tippoint | 0.179 | 0.004 | 0.184 | |
geom_tree | 0.168 | 0.000 | 0.168 | |
get_taxa_name | 0.033 | 0.000 | 0.033 | |
ggdensitree | 1.924 | 0.012 | 1.941 | |
ggexpand | 0.278 | 0.008 | 0.286 | |
ggtree-format-painter | 0.254 | 0.004 | 0.261 | |
ggtree | 0.175 | 0.000 | 0.175 | |
label_pad | 0.001 | 0.000 | 0.000 | |
open_tree | 0.279 | 0.000 | 0.280 | |
reexports | 0.288 | 0.000 | 0.288 | |
revts | 0.193 | 0.000 | 0.194 | |
rotate | 0.195 | 0.004 | 0.200 | |
rotate_tree | 0.280 | 0.000 | 0.281 | |
scaleClade | 0.236 | 0.000 | 0.238 | |
theme_tree | 0.194 | 0.000 | 0.195 | |
theme_tree2 | 0.190 | 0.000 | 0.191 | |
tree-layout | 1.216 | 0.004 | 1.223 | |
viewClade | 0.268 | 0.000 | 0.268 | |
xlim_expand | 0.328 | 0.000 | 0.330 | |
xlim_tree | 0.326 | 0.000 | 0.327 | |
zoomClade | 0.000 | 0.000 | 0.001 | |