Back to Multiple platform build/check report for BioC 3.20: simplified long |
|
This page was generated on 2025-02-13 12:06 -0500 (Thu, 13 Feb 2025).
Hostname | OS | Arch (*) | R version | Installed pkgs |
---|---|---|---|---|
nebbiolo2 | Linux (Ubuntu 24.04.1 LTS) | x86_64 | 4.4.2 (2024-10-31) -- "Pile of Leaves" | 4754 |
palomino8 | Windows Server 2022 Datacenter | x64 | 4.4.2 (2024-10-31 ucrt) -- "Pile of Leaves" | 4502 |
merida1 | macOS 12.7.5 Monterey | x86_64 | 4.4.2 (2024-10-31) -- "Pile of Leaves" | 4525 |
kjohnson1 | macOS 13.6.6 Ventura | arm64 | 4.4.2 (2024-10-31) -- "Pile of Leaves" | 4477 |
taishan | Linux (openEuler 24.03 LTS) | aarch64 | 4.4.2 (2024-10-31) -- "Pile of Leaves" | 4414 |
Click on any hostname to see more info about the system (e.g. compilers) (*) as reported by 'uname -p', except on Windows and Mac OS X |
Package 1198/2289 | Hostname | OS / Arch | INSTALL | BUILD | CHECK | BUILD BIN | ||||||||
metabinR 1.8.0 (landing page) Anestis Gkanogiannis
| nebbiolo2 | Linux (Ubuntu 24.04.1 LTS) / x86_64 | OK | OK | OK | |||||||||
palomino8 | Windows Server 2022 Datacenter / x64 | OK | OK | OK | OK | |||||||||
merida1 | macOS 12.7.5 Monterey / x86_64 | OK | OK | OK | OK | |||||||||
kjohnson1 | macOS 13.6.6 Ventura / arm64 | OK | OK | OK | OK | |||||||||
taishan | Linux (openEuler 24.03 LTS) / aarch64 | OK | ERROR | skipped | ||||||||||
To the developers/maintainers of the metabinR package: - Allow up to 24 hours (and sometimes 48 hours) for your latest push to git@git.bioconductor.org:packages/metabinR.git to reflect on this report. See Troubleshooting Build Report for more information. - Use the following Renviron settings to reproduce errors and warnings. - If 'R CMD check' started to fail recently on the Linux builder(s) over a missing dependency, add the missing dependency to 'Suggests:' in your DESCRIPTION file. See Renviron.bioc for more information. |
Package: metabinR |
Version: 1.8.0 |
Command: /home/biocbuild/bbs-3.20-bioc/R/bin/R CMD check --install=check:metabinR.install-out.txt --library=/home/biocbuild/bbs-3.20-bioc/R/site-library --timings metabinR_1.8.0.tar.gz |
StartedAt: 2025-02-10 23:45:37 -0500 (Mon, 10 Feb 2025) |
EndedAt: 2025-02-10 23:47:07 -0500 (Mon, 10 Feb 2025) |
EllapsedTime: 90.1 seconds |
RetCode: 0 |
Status: OK |
CheckDir: metabinR.Rcheck |
Warnings: 0 |
############################################################################## ############################################################################## ### ### Running command: ### ### /home/biocbuild/bbs-3.20-bioc/R/bin/R CMD check --install=check:metabinR.install-out.txt --library=/home/biocbuild/bbs-3.20-bioc/R/site-library --timings metabinR_1.8.0.tar.gz ### ############################################################################## ############################################################################## * using log directory ‘/home/biocbuild/bbs-3.20-bioc/meat/metabinR.Rcheck’ * using R version 4.4.2 (2024-10-31) * using platform: x86_64-pc-linux-gnu * R was compiled by gcc (Ubuntu 13.2.0-23ubuntu4) 13.2.0 GNU Fortran (Ubuntu 13.2.0-23ubuntu4) 13.2.0 * running under: Ubuntu 24.04.1 LTS * using session charset: UTF-8 * checking for file ‘metabinR/DESCRIPTION’ ... OK * checking extension type ... Package * this is package ‘metabinR’ version ‘1.8.0’ * package encoding: UTF-8 * checking package namespace information ... OK * checking package dependencies ... OK * checking if this is a source package ... OK * checking if there is a namespace ... OK * checking for hidden files and directories ... OK * checking for portable file names ... OK * checking for sufficient/correct file permissions ... OK * checking whether package ‘metabinR’ can be installed ... OK * checking installed package size ... OK * checking package directory ... OK * checking ‘build’ directory ... OK * checking DESCRIPTION meta-information ... OK * checking top-level files ... OK * checking for left-over files ... OK * checking index information ... OK * checking package subdirectories ... OK * checking code files for non-ASCII characters ... OK * checking R files for syntax errors ... OK * checking whether the package can be loaded ... OK * checking whether the package can be loaded with stated dependencies ... OK * checking whether the package can be unloaded cleanly ... OK * checking whether the namespace can be loaded with stated dependencies ... OK * checking whether the namespace can be unloaded cleanly ... OK * checking loading without being on the library search path ... OK * checking whether startup messages can be suppressed ... OK * checking dependencies in R code ... OK * checking S3 generic/method consistency ... OK * checking replacement functions ... OK * checking foreign function calls ... OK * checking R code for possible problems ... OK * checking Rd files ... OK * checking Rd metadata ... OK * checking Rd cross-references ... OK * checking for missing documentation entries ... OK * checking for code/documentation mismatches ... OK * checking Rd \usage sections ... OK * checking Rd contents ... OK * checking for unstated dependencies in examples ... OK * checking files in ‘vignettes’ ... OK * checking examples ... OK Examples with CPU (user + system) or elapsed time > 5s user system elapsed abundance_based_binning 8.203 0.767 5.490 composition_based_binning 5.120 0.300 1.536 * checking for unstated dependencies in ‘tests’ ... OK * checking tests ... Running ‘spelling.R’ Running ‘testthat.R’ OK * checking for unstated dependencies in vignettes ... OK * checking package vignettes ... OK * checking re-building of vignette outputs ... OK * checking PDF version of manual ... OK * DONE Status: OK
metabinR.Rcheck/00install.out
############################################################################## ############################################################################## ### ### Running command: ### ### /home/biocbuild/bbs-3.20-bioc/R/bin/R CMD INSTALL metabinR ### ############################################################################## ############################################################################## * installing to library ‘/home/biocbuild/bbs-3.20-bioc/R/site-library’ * installing *source* package ‘metabinR’ ... ** using staged installation ** R ** inst ** byte-compile and prepare package for lazy loading ** help *** installing help indices ** building package indices ** installing vignettes ** testing if installed package can be loaded from temporary location ** testing if installed package can be loaded from final location ** testing if installed package keeps a record of temporary installation path * DONE (metabinR)
metabinR.Rcheck/tests/spelling.Rout
R version 4.4.2 (2024-10-31) -- "Pile of Leaves" Copyright (C) 2024 The R Foundation for Statistical Computing Platform: x86_64-pc-linux-gnu R is free software and comes with ABSOLUTELY NO WARRANTY. You are welcome to redistribute it under certain conditions. Type 'license()' or 'licence()' for distribution details. R is a collaborative project with many contributors. Type 'contributors()' for more information and 'citation()' on how to cite R or R packages in publications. Type 'demo()' for some demos, 'help()' for on-line help, or 'help.start()' for an HTML browser interface to help. Type 'q()' to quit R. > if(requireNamespace('spelling', quietly = TRUE)) + spelling::spell_check_test(vignettes = TRUE, error = FALSE, + skip_on_cran = TRUE) NULL > > proc.time() user system elapsed 0.150 0.028 0.167
metabinR.Rcheck/tests/testthat.Rout
R version 4.4.2 (2024-10-31) -- "Pile of Leaves" Copyright (C) 2024 The R Foundation for Statistical Computing Platform: x86_64-pc-linux-gnu R is free software and comes with ABSOLUTELY NO WARRANTY. You are welcome to redistribute it under certain conditions. Type 'license()' or 'licence()' for distribution details. R is a collaborative project with many contributors. Type 'contributors()' for more information and 'citation()' on how to cite R or R packages in publications. Type 'demo()' for some demos, 'help()' for on-line help, or 'help.start()' for an HTML browser interface to help. Type 'q()' to quit R. > library(testthat) > library(metabinR) > > test_check("metabinR") version MTxAB =Mon Feb 10 15:14:41 EST 2025 cpus=72 using=1 2025/02/10 23:46:06 Using Dictionary ORIGINAL 2025/02/10 23:46:06 START of AB Counting 2025/02/10 23:46:06 FastaManager: START READ 2025/02/10 23:46:06 SequenceProcessor: 0 AB_KMERCOUNT START CHUNK_SIZE=67108864 2025/02/10 23:46:06 FastaManager: lines read 53328 2025/02/10 23:46:06 FastaManager: END READ 2025/02/10 23:46:06 FastaManager: FASTA 2025/02/10 23:46:08 SequenceProcessor: 0 AB_KMERCOUNT EXIT 2025/02/10 23:46:08 END of AB Counting 2025/02/10 23:46:08 Loaded sequences: 26664 2025/02/10 23:46:08 Total kmers(before remove): 65536 ##### Heap utilization statistics [GB] ##### Max Memory=0.5 Current Total Memory=0.5 Current Used Memory=0.292 Current Free Memory=0.208 ############################################ 2025/02/10 23:46:08 Unique: 0 Distinct: 65536 Total: 7625904 MaxCount: 1574 2025/02/10 23:46:08 START of EMsync Run=1 Run=2 Run=3 Run=4 Run=5 Run=6 Run=7 Run=8 Run=9 Run=10 Run=11 Run=12 Run=13 Run=14 Run=15 Run=16 Run=17 Run=18 Run=19 Run=20 Run=21 Run=22 Run=23 Run=24 Run=25 2025/02/10 23:46:08 Runs=25 2025/02/10 23:46:08 END of EMsync 2025/02/10 23:46:08 START of Creating AB Cluster Vectors Cluster 1 Abundance=241.01134335779187 Length=16168.173737759438 LowLimit=163 HighLimit=318 Cluster 2 Abundance=75.53888858729701 Length=49367.826262240575 LowLimit=32 HighLimit=118 2025/02/10 23:46:08 Trove size/4=18022 2025/02/10 23:46:08 Trove size/4=18022 2025/02/10 23:46:08 Cluster 1 size in kmers=65536 norm=126.5058948513796 2025/02/10 23:46:08 Cluster 2 size in kmers=65536 norm=221.81983091435748 2025/02/10 23:46:08 END of Creating AB Cluster Vectors cpus=72 using=1 2025/02/10 23:46:08 START of AB Binning 2025/02/10 23:46:08 FastaManager: START READ 2025/02/10 23:46:08 SequenceProcessor: 0 AB_BINNING START 2025/02/10 23:46:08 FastaManager: lines read 53328 2025/02/10 23:46:08 FastaManager: END READ 2025/02/10 23:46:08 FastaManager: FASTA 2025/02/10 23:46:10 SequenceProcessor: 0 AB_BINNING EXIT 2025/02/10 23:46:10 END of AB Binning Clustered reads: AB Cluster 1: 19871 AB Cluster 2: 6793 ##### Heap utilization statistics [GB] ##### Max Memory=0.5 Current Total Memory=0.5 Current Used Memory=0.375 Current Free Memory=0.125 ############################################ version MTxCB =Mon Feb 10 15:14:41 EST 2025 cpus=72 using=1 2025/02/10 23:46:11 START of CB Counting 2025/02/10 23:46:11 FastaManager: START READ 2025/02/10 23:46:11 SequenceProcessor: 0 CB_SEQUENCEVECTORBUILD START 2025/02/10 23:46:11 FastaManager: lines read 53328 2025/02/10 23:46:11 FastaManager: END READ 2025/02/10 23:46:11 FastaManager: FASTA 2025/02/10 23:46:11 SequenceProcessor: 0 CB_SEQUENCEVECTORBUILD EXIT 2025/02/10 23:46:11 END of CB Counting 2025/02/10 23:46:11 Loaded sequences: 26664 ##### Heap utilization statistics [GB] ##### Max Memory=0.5 Current Total Memory=0.5 Current Used Memory=0.377 Current Free Memory=0.123 ############################################ cpus=72 using=1 2025/02/10 23:46:11 START of Creating CB Clusters Size=26664 K-Means clustering started ... centers initialized ... concurrent processing mode with 1 subtask threads ... iteration 1 moves = 2749 ... iteration 2 moves = 526 ... iteration 3 moves = 229 ... iteration 4 moves = 147 ... iteration 5 moves = 80 ... iteration 6 moves = 64 ... iteration 7 moves = 37 ... iteration 8 moves = 31 ... iteration 9 moves = 30 ... iteration 10 moves = 28 ... iteration 11 moves = 14 ... iteration 12 moves = 7 ... iteration 13 moves = 8 ... iteration 14 moves = 1 ... iteration 15 moves = 7 ... iteration 16 moves = 9 ... iteration 17 moves = 5 ... iteration 18 moves = 1 ... iteration 19 moves = 2 ... iteration 20 moves = 0 ...end. 5.563 seconds. 2025/02/10 23:46:17 : kMeans cleanup. 2025/02/10 23:46:17 END of Creating CB Clusters. cpus=72 using=1 2025/02/10 23:46:17 START of CB Binning 2025/02/10 23:46:17 FastaManager: START READ 2025/02/10 23:46:17 SequenceProcessor: 0 CB_BINNING START 2025/02/10 23:46:17 FastaManager: lines read 53328 2025/02/10 23:46:17 FastaManager: END READ 2025/02/10 23:46:17 FastaManager: FASTA 2025/02/10 23:46:17 SequenceProcessor: 0 CB_BINNING EXIT Clustered reads: CB Cluster 1: 17373 CB Cluster 2: 9291 ##### Heap utilization statistics [GB] ##### Max Memory=0.5 Current Total Memory=0.5 Current Used Memory=0.475 Current Free Memory=0.025 ############################################ version MTxABxCB =Mon Feb 10 15:14:41 EST 2025 cpus=72 using=1 2025/02/10 23:46:18 Using Dictionary ORIGINAL 2025/02/10 23:46:18 START of AB Counting 2025/02/10 23:46:18 FastaManager: START READ 2025/02/10 23:46:18 SequenceProcessor: 0 AB_KMERCOUNT START 2025/02/10 23:46:18 FastaManager: lines read 53328 2025/02/10 23:46:18 FastaManager: END READ 2025/02/10 23:46:18 FastaManager: FASTA 2025/02/10 23:46:19 SequenceProcessor: 0 AB_KMERCOUNT EXIT 2025/02/10 23:46:19 END of AB Counting 2025/02/10 23:46:19 Loaded sequences: 26664 2025/02/10 23:46:19 Distinct kmers(before remove): 65536 ##### Heap utilization statistics [GB] ##### Max Memory=0.5 Current Total Memory=0.5 Current Used Memory=0.231 Current Free Memory=0.269 ############################################ 2025/02/10 23:46:19 Unique: 0 Distinct: 65536 Total: 7625904 MaxCount: 1574 2025/02/10 23:46:19 START of EMsync Run=1 Run=2 Run=3 Run=4 Run=5 Run=6 Run=7 Run=8 Run=9 Run=10 Run=11 Run=12 Run=13 Run=14 Run=15 Run=16 Run=17 Run=18 Run=19 Run=20 Run=21 Run=22 Run=23 Run=24 Run=25 2025/02/10 23:46:19 Runs=25 2025/02/10 23:46:19 END of EMsync 2025/02/10 23:46:19 Filter before=2 2025/02/10 23:46:19 Filter after=2 2025/02/10 23:46:19 START of Creating AB Cluster Vectors Cluster 1 Abundance=75.53888858729701 Length=49367.826262240575 LowLimit=32 HighLimit=118 Cluster 2 Abundance=241.01134335779187 Length=16168.173737759438 LowLimit=163 HighLimit=318 2025/02/10 23:46:19 Trove size/4=18022 2025/02/10 23:46:19 Trove size/4=18022 2025/02/10 23:46:19 Cluster 2 size in kmers=65536 norm=126.5058948513796 2025/02/10 23:46:19 Cluster 1 size in kmers=65536 norm=221.81983091435748 2025/02/10 23:46:19 END of Creating AB Cluster Vectors cpus=72 using=1 2025/02/10 23:46:19 START of AB Binning 2025/02/10 23:46:19 FastaManager: START READ 2025/02/10 23:46:19 SequenceProcessor: 0 AB_BINNING START 2025/02/10 23:46:19 FastaManager: lines read 53328 2025/02/10 23:46:19 FastaManager: END READ 2025/02/10 23:46:19 FastaManager: FASTA 2025/02/10 23:46:21 SequenceProcessor: 0 AB_BINNING EXIT 2025/02/10 23:46:21 END of AB Binning cpus=72 using=1 2025/02/10 23:46:21 START of CB Counting 2025/02/10 23:46:21 FastaManager: START READ 2025/02/10 23:46:21 SequenceProcessor: 0 CB_SEQUENCEVECTORBUILD START 2025/02/10 23:46:21 FastaManager: lines read 53328 2025/02/10 23:46:21 FastaManager: END READ 2025/02/10 23:46:21 FastaManager: FASTA 2025/02/10 23:46:22 SequenceProcessor: 0 CB_SEQUENCEVECTORBUILD EXIT 2025/02/10 23:46:22 END of CB Counting 2025/02/10 23:46:22 Loaded sequences: 26664 ##### Heap utilization statistics [GB] ##### Max Memory=0.5 Current Total Memory=0.5 Current Used Memory=0.339 Current Free Memory=0.161 ############################################ 2025/02/10 23:46:22 AB Cluster=1 Size=6793 2025/02/10 23:46:22 AB Cluster=2 Size=19871 cpus=72 using=1 ABid size abundance EMLength newLength EMspecies newspecies ----- ---- --------- -------- --------- --------- ---------- 1 6,793 75.53889 49,367 13,489 1 1 2025/02/10 23:46:22 START of Creating CB Clusters for AB Cluster=1 Size=6793 K-Means clustering started ... centers initialized ... concurrent processing mode with 1 subtask threads ... iteration 1 moves = 0 ...end. 0.735 seconds. 2025/02/10 23:46:23 : kMeans cleanup. 2025/02/10 23:46:23 END of Creating CB Clusters for AB Cluster=1 cpus=72 using=1 ABid size abundance EMLength newLength EMspecies newspecies ----- ---- --------- -------- --------- --------- ---------- 2 19,871 241.01134 16,168 12,367 1 1 2025/02/10 23:46:23 START of Creating CB Clusters for AB Cluster=2 Size=19871 K-Means clustering started ... centers initialized ... concurrent processing mode with 1 subtask threads ... iteration 1 moves = 0 ...end. 2.121 seconds. 2025/02/10 23:46:25 : kMeans cleanup. 2025/02/10 23:46:25 END of Creating CB Clusters for AB Cluster=2 ##### Heap utilization statistics [GB] ##### Max Memory=0.5 Current Total Memory=0.5 Current Used Memory=0.363 Current Free Memory=0.137 ############################################ cpus=72 using=1 2025/02/10 23:46:25 START of CB Binning 2025/02/10 23:46:25 FastaManager: START READ 2025/02/10 23:46:25 SequenceProcessor: 0 CB_BINNING START 2025/02/10 23:46:25 FastaManager: lines read 53328 2025/02/10 23:46:25 FastaManager: END READ 2025/02/10 23:46:25 FastaManager: FASTA 2025/02/10 23:46:25 SequenceProcessor: 0 CB_BINNING EXIT Clustered reads: ABxCB Cluster 1: 6793 ABxCB Cluster 2: 19871 ##### Heap utilization statistics [GB] ##### Max Memory=0.5 Current Total Memory=0.5 Current Used Memory=0.438 Current Free Memory=0.062 ############################################ [ FAIL 0 | WARN 0 | SKIP 0 | PASS 52 ] > > proc.time() user system elapsed 31.673 1.166 20.192
metabinR.Rcheck/metabinR-Ex.timings
name | user | system | elapsed | |
abundance_based_binning | 8.203 | 0.767 | 5.490 | |
composition_based_binning | 5.120 | 0.300 | 1.536 | |
hierarchical_binning | 4.301 | 0.170 | 2.906 | |