Back to Multiple platform build/check report for BioC 3.20:   simplified   long
ABCDEFGHIJKL[M]NOPQRSTUVWXYZ

This page was generated on 2025-02-03 12:10 -0500 (Mon, 03 Feb 2025).

HostnameOSArch (*)R versionInstalled pkgs
nebbiolo2Linux (Ubuntu 24.04.1 LTS)x86_644.4.2 (2024-10-31) -- "Pile of Leaves" 4746
palomino8Windows Server 2022 Datacenterx644.4.2 (2024-10-31 ucrt) -- "Pile of Leaves" 4494
merida1macOS 12.7.5 Montereyx86_644.4.2 (2024-10-31) -- "Pile of Leaves" 4517
kjohnson1macOS 13.6.6 Venturaarm644.4.2 (2024-10-31) -- "Pile of Leaves" 4469
taishanLinux (openEuler 24.03 LTS)aarch644.4.2 (2024-10-31) -- "Pile of Leaves" 4400
Click on any hostname to see more info about the system (e.g. compilers)      (*) as reported by 'uname -p', except on Windows and Mac OS X

Package 1254/2289HostnameOS / ArchINSTALLBUILDCHECKBUILD BIN
microbiomeMarker 1.12.0  (landing page)
Yang Cao
Snapshot Date: 2025-01-30 13:00 -0500 (Thu, 30 Jan 2025)
git_url: https://git.bioconductor.org/packages/microbiomeMarker
git_branch: RELEASE_3_20
git_last_commit: 7910ef8
git_last_commit_date: 2024-10-29 11:05:10 -0500 (Tue, 29 Oct 2024)
nebbiolo2Linux (Ubuntu 24.04.1 LTS) / x86_64  OK    ERROR  skipped
palomino8Windows Server 2022 Datacenter / x64  OK    ERROR  skippedskipped
merida1macOS 12.7.5 Monterey / x86_64  OK    ERROR  skippedskipped
kjohnson1macOS 13.6.6 Ventura / arm64  OK    OK    ERROR    OK  
taishanLinux (openEuler 24.03 LTS) / aarch64  OK    OK    ERROR  


CHECK results for microbiomeMarker on kjohnson1

To the developers/maintainers of the microbiomeMarker package:
- Allow up to 24 hours (and sometimes 48 hours) for your latest push to git@git.bioconductor.org:packages/microbiomeMarker.git to reflect on this report. See Troubleshooting Build Report for more information.
- Use the following Renviron settings to reproduce errors and warnings.
- If 'R CMD check' started to fail recently on the Linux builder(s) over a missing dependency, add the missing dependency to 'Suggests:' in your DESCRIPTION file. See Renviron.bioc for more information.

raw results


Summary

Package: microbiomeMarker
Version: 1.12.0
Command: /Library/Frameworks/R.framework/Resources/bin/R CMD check --install=check:microbiomeMarker.install-out.txt --library=/Library/Frameworks/R.framework/Resources/library --no-vignettes --timings microbiomeMarker_1.12.0.tar.gz
StartedAt: 2025-02-01 01:05:55 -0500 (Sat, 01 Feb 2025)
EndedAt: 2025-02-01 01:14:53 -0500 (Sat, 01 Feb 2025)
EllapsedTime: 537.8 seconds
RetCode: 1
Status:   ERROR  
CheckDir: microbiomeMarker.Rcheck
Warnings: NA

Command output

##############################################################################
##############################################################################
###
### Running command:
###
###   /Library/Frameworks/R.framework/Resources/bin/R CMD check --install=check:microbiomeMarker.install-out.txt --library=/Library/Frameworks/R.framework/Resources/library --no-vignettes --timings microbiomeMarker_1.12.0.tar.gz
###
##############################################################################
##############################################################################


* using log directory ‘/Users/biocbuild/bbs-3.20-bioc/meat/microbiomeMarker.Rcheck’
* using R version 4.4.2 (2024-10-31)
* using platform: aarch64-apple-darwin20
* R was compiled by
    Apple clang version 14.0.0 (clang-1400.0.29.202)
    GNU Fortran (GCC) 12.2.0
* running under: macOS Ventura 13.7.1
* using session charset: UTF-8
* using option ‘--no-vignettes’
* checking for file ‘microbiomeMarker/DESCRIPTION’ ... OK
* this is package ‘microbiomeMarker’ version ‘1.12.0’
* package encoding: UTF-8
* checking package namespace information ... OK
* checking package dependencies ... OK
* checking if this is a source package ... OK
* checking if there is a namespace ... OK
* checking for hidden files and directories ... OK
* checking for portable file names ... OK
* checking for sufficient/correct file permissions ... OK
* checking whether package ‘microbiomeMarker’ can be installed ... OK
* checking installed package size ... OK
* checking package directory ... OK
* checking ‘build’ directory ... OK
* checking DESCRIPTION meta-information ... OK
* checking top-level files ... OK
* checking for left-over files ... OK
* checking index information ... OK
* checking package subdirectories ... OK
* checking code files for non-ASCII characters ... OK
* checking R files for syntax errors ... OK
* checking whether the package can be loaded ... OK
* checking whether the package can be loaded with stated dependencies ... OK
* checking whether the package can be unloaded cleanly ... OK
* checking whether the namespace can be loaded with stated dependencies ... OK
* checking whether the namespace can be unloaded cleanly ... OK
* checking whether startup messages can be suppressed ... OK
* checking dependencies in R code ... OK
* checking S3 generic/method consistency ... OK
* checking replacement functions ... OK
* checking foreign function calls ... OK
* checking R code for possible problems ... OK
* checking Rd files ... OK
* checking Rd metadata ... OK
* checking Rd cross-references ... OK
* checking for missing documentation entries ... OK
* checking for code/documentation mismatches ... OK
* checking Rd \usage sections ... OK
* checking Rd contents ... OK
* checking for unstated dependencies in examples ... OK
* checking contents of ‘data’ directory ... OK
* checking data for non-ASCII characters ... OK
* checking data for ASCII and uncompressed saves ... OK
* checking R/sysdata.rda ... OK
* checking files in ‘vignettes’ ... OK
* checking examples ... OK
Examples with CPU (user + system) or elapsed time > 5s
                 user system elapsed
run_ancombc    13.424  0.086  14.094
run_aldex      10.975  0.801  13.167
plot_cladogram 10.505  0.201  10.758
run_deseq2      6.126  0.045   6.415
run_lefse       6.020  0.084   6.349
plot_heatmap    5.378  0.096   5.487
* checking for unstated dependencies in ‘tests’ ... OK
* checking tests ...
  Running ‘testthat.R’
 ERROR
Running the tests in ‘tests/testthat.R’ failed.
Last 13 lines of output:
  • On CRAN (7): 'test-ancom.R:46:5', 'test-edgeR.R:9:5', 'test-lefse.R:19:5',
    'test-limma-voom.R:15:5', 'test-multiple-groups-test.R:27:5',
    'test-multiple-groups-test.R:54:9', 'test-two-group-test.R:24:5'
  • empty test (1): 'test-ancombc.R:1:1'
  
  ══ Failed tests ════════════════════════════════════════════════════════════════
  ── Failure ('test-confounder.R:42:5'): confounder analysis ─────────────────────
  res$pvalue (`actual`) not equal to 0.239 (`expected`).
  
    `actual`: 0.44
  `expected`: 0.24
  
  [ FAIL 1 | WARN 42 | SKIP 8 | PASS 220 ]
  Error: Test failures
  Execution halted
* checking for unstated dependencies in vignettes ... OK
* checking package vignettes ... OK
* checking running R code from vignettes ... SKIPPED
* checking re-building of vignette outputs ... SKIPPED
* checking PDF version of manual ... OK
* DONE

Status: 1 ERROR
See
  ‘/Users/biocbuild/bbs-3.20-bioc/meat/microbiomeMarker.Rcheck/00check.log’
for details.


Installation output

microbiomeMarker.Rcheck/00install.out

##############################################################################
##############################################################################
###
### Running command:
###
###   /Library/Frameworks/R.framework/Resources/bin/R CMD INSTALL microbiomeMarker
###
##############################################################################
##############################################################################


* installing to library ‘/Library/Frameworks/R.framework/Versions/4.4-arm64/Resources/library’
* installing *source* package ‘microbiomeMarker’ ...
** using staged installation
** R
** data
** inst
** byte-compile and prepare package for lazy loading
** help
*** installing help indices
*** copying figures
** building package indices
** installing vignettes
** testing if installed package can be loaded from temporary location
Warning in fun(libname, pkgname) :
  Package 'microbiomeMarker' is deprecated and will be removed from
  Bioconductor version 3.21
** testing if installed package can be loaded from final location
Warning in fun(libname, pkgname) :
  Package 'microbiomeMarker' is deprecated and will be removed from
  Bioconductor version 3.21
** testing if installed package keeps a record of temporary installation path
* DONE (microbiomeMarker)

Tests output

microbiomeMarker.Rcheck/tests/testthat.Rout.fail


R version 4.4.2 (2024-10-31) -- "Pile of Leaves"
Copyright (C) 2024 The R Foundation for Statistical Computing
Platform: aarch64-apple-darwin20

R is free software and comes with ABSOLUTELY NO WARRANTY.
You are welcome to redistribute it under certain conditions.
Type 'license()' or 'licence()' for distribution details.

R is a collaborative project with many contributors.
Type 'contributors()' for more information and
'citation()' on how to cite R or R packages in publications.

Type 'demo()' for some demos, 'help()' for on-line help, or
'help.start()' for an HTML browser interface to help.
Type 'q()' to quit R.

> library(testthat)
> library(microbiomeMarker)
Warning message:
In fun(libname, pkgname) :
  Package 'microbiomeMarker' is deprecated and will be removed from
  Bioconductor version 3.21
> 
> test_check("microbiomeMarker")
conditions vector supplied
operating in serial mode
computing center with all features
New names:
* `` -> `...1`
* `` -> `...2`
* `` -> `...3`
* `` -> `...4`
* `` -> `...5`
* `` -> `...6`
* `` -> `...7`
* `` -> `...8`
* `` -> `...9`
* `` -> `...10`
* `` -> `...11`
* `` -> `...12`
New names:
* `` -> `...1`
* `` -> `...2`
* `` -> `...3`
* `` -> `...4`
* `` -> `...5`
* `` -> `...6`
* `` -> `...7`
* `` -> `...8`
* `` -> `...9`
* `` -> `...10`
* `` -> `...11`
* `` -> `...12`
operating in serial mode
New names:
* `` -> `...1`
* `` -> `...2`
* `` -> `...3`
* `` -> `...4`
* `` -> `...5`
* `` -> `...6`
* `` -> `...7`
* `` -> `...8`
* `` -> `...9`
* `` -> `...10`
* `` -> `...11`
* `` -> `...12`
New names:
* `` -> `...1`
* `` -> `...2`
* `` -> `...3`
* `` -> `...4`
* `` -> `...5`
* `` -> `...6`
* `` -> `...7`
* `` -> `...8`
* `` -> `...9`
* `` -> `...10`
* `` -> `...11`
* `` -> `...12`
New names:
* `` -> `...1`
* `` -> `...2`
* `` -> `...3`
* `` -> `...4`
* `` -> `...5`
* `` -> `...6`
* `` -> `...7`
* `` -> `...8`
* `` -> `...9`
* `` -> `...10`
* `` -> `...11`
* `` -> `...12`
New names:
* `` -> `...1`
* `` -> `...2`
* `` -> `...3`
* `` -> `...4`
* `` -> `...5`
* `` -> `...6`
* `` -> `...7`
* `` -> `...8`
* `` -> `...9`
* `` -> `...10`
* `` -> `...11`
* `` -> `...12`
`set.seed(2020)` was used to initialize repeatable random subsampling.
Please record this for your records so others can reproduce.
Try `set.seed(2020); .Random.seed` for the full vector
...
46OTUs were removed because they are no longer 
present in any sample after random subsampling

...
`set.seed(2020)` was used to initialize repeatable random subsampling.
Please record this for your records so others can reproduce.
Try `set.seed(2020); .Random.seed` for the full vector
...
46OTUs were removed because they are no longer 
present in any sample after random subsampling

...
`set.seed(2020)` was used to initialize repeatable random subsampling.
Please record this for your records so others can reproduce.
Try `set.seed(2020); .Random.seed` for the full vector
...
46OTUs were removed because they are no longer 
present in any sample after random subsampling

...
`set.seed(2020)` was used to initialize repeatable random subsampling.
Please record this for your records so others can reproduce.
Try `set.seed(2020); .Random.seed` for the full vector
...
46OTUs were removed because they are no longer 
present in any sample after random subsampling

...
Default value being used.
Default value being used.
Default value being used.
Default value being used.
converting counts to integer mode
Loading required package: ggplot2
Loading required package: lattice
[ FAIL 1 | WARN 42 | SKIP 8 | PASS 220 ]

══ Skipped tests (8) ═══════════════════════════════════════════════════════════
• On CRAN (7): 'test-ancom.R:46:5', 'test-edgeR.R:9:5', 'test-lefse.R:19:5',
  'test-limma-voom.R:15:5', 'test-multiple-groups-test.R:27:5',
  'test-multiple-groups-test.R:54:9', 'test-two-group-test.R:24:5'
• empty test (1): 'test-ancombc.R:1:1'

══ Failed tests ════════════════════════════════════════════════════════════════
── Failure ('test-confounder.R:42:5'): confounder analysis ─────────────────────
res$pvalue (`actual`) not equal to 0.239 (`expected`).

  `actual`: 0.44
`expected`: 0.24

[ FAIL 1 | WARN 42 | SKIP 8 | PASS 220 ]
Error: Test failures
Execution halted

Example timings

microbiomeMarker.Rcheck/microbiomeMarker-Ex.timings

nameusersystemelapsed
abundances-methods0.1320.0060.153
aggregate_taxa1.9580.0222.086
assign-marker_table3.1350.1073.287
confounder2.6270.0192.645
effect_size-plot2.7380.0302.768
extract_posthoc_res0.1870.0090.197
import_dada20.0830.0040.088
import_picrust20.0370.0020.040
import_qiime20.2430.0500.300
marker_table-methods2.7440.0202.792
microbiomeMarker0.0150.0000.015
nmarker-methods0.0010.0000.002
normalize-methods0.1280.0070.135
phyloseq2DESeq20.5540.0130.567
phyloseq2edgeR0.2170.0120.230
phyloseq2metagenomeSeq0.1940.0060.199
plot_abundance3.7530.0243.780
plot_cladogram10.505 0.20110.758
plot_heatmap5.3780.0965.487
plot_postHocTest1.0600.0131.075
plot_sl_roc4.4100.1164.920
postHocTest0.1280.0050.147
run_aldex10.975 0.80113.167
run_ancom0.0010.0000.000
run_ancombc13.424 0.08614.094
run_deseq26.1260.0456.415
run_edger3.0040.0223.183
run_lefse6.0200.0846.349
run_limma_voom2.7070.0142.758
run_metagenomeseq3.2360.0243.262
run_posthoc_test0.5200.0060.526
run_simple_stat3.0950.0333.172
run_sl1.5680.0131.581
run_test_multiple_groups2.9570.0162.973
run_test_two_groups2.9640.0142.978
subset_marker2.6750.0152.786
summarize_taxa0.3420.0060.389
transform_abundances0.1880.0230.235