Back to Multiple platform build/check report for BioC 3.20:   simplified   long
ABCDEFGHIJKL[M]NOPQRSTUVWXYZ

This page was generated on 2025-02-06 12:05 -0500 (Thu, 06 Feb 2025).

HostnameOSArch (*)R versionInstalled pkgs
nebbiolo2Linux (Ubuntu 24.04.1 LTS)x86_644.4.2 (2024-10-31) -- "Pile of Leaves" 4753
palomino8Windows Server 2022 Datacenterx644.4.2 (2024-10-31 ucrt) -- "Pile of Leaves" 4501
merida1macOS 12.7.5 Montereyx86_644.4.2 (2024-10-31) -- "Pile of Leaves" 4524
kjohnson1macOS 13.6.6 Venturaarm644.4.2 (2024-10-31) -- "Pile of Leaves" 4476
taishanLinux (openEuler 24.03 LTS)aarch644.4.2 (2024-10-31) -- "Pile of Leaves" 4407
Click on any hostname to see more info about the system (e.g. compilers)      (*) as reported by 'uname -p', except on Windows and Mac OS X

Package 1319/2289HostnameOS / ArchINSTALLBUILDCHECKBUILD BIN
motifStack 1.50.0  (landing page)
Jianhong Ou
Snapshot Date: 2025-02-03 13:00 -0500 (Mon, 03 Feb 2025)
git_url: https://git.bioconductor.org/packages/motifStack
git_branch: RELEASE_3_20
git_last_commit: c1ec2e8
git_last_commit_date: 2024-10-29 09:42:41 -0500 (Tue, 29 Oct 2024)
nebbiolo2Linux (Ubuntu 24.04.1 LTS) / x86_64  OK    OK    OK  UNNEEDED, same version is already published
palomino8Windows Server 2022 Datacenter / x64  OK    OK    OK    OK  UNNEEDED, same version is already published
merida1macOS 12.7.5 Monterey / x86_64  OK    OK    OK    OK  UNNEEDED, same version is already published
kjohnson1macOS 13.6.6 Ventura / arm64  OK    OK    OK    OK  NO, package depends on 'TFBSTools' which is only available as a source package that needs compilation
taishanLinux (openEuler 24.03 LTS) / aarch64  OK    OK    OK  


CHECK results for motifStack on nebbiolo2

To the developers/maintainers of the motifStack package:
- Allow up to 24 hours (and sometimes 48 hours) for your latest push to git@git.bioconductor.org:packages/motifStack.git to reflect on this report. See Troubleshooting Build Report for more information.
- Use the following Renviron settings to reproduce errors and warnings.
- If 'R CMD check' started to fail recently on the Linux builder(s) over a missing dependency, add the missing dependency to 'Suggests:' in your DESCRIPTION file. See Renviron.bioc for more information.

raw results


Summary

Package: motifStack
Version: 1.50.0
Command: /home/biocbuild/bbs-3.20-bioc/R/bin/R CMD check --install=check:motifStack.install-out.txt --library=/home/biocbuild/bbs-3.20-bioc/R/site-library --timings motifStack_1.50.0.tar.gz
StartedAt: 2025-02-04 00:22:37 -0500 (Tue, 04 Feb 2025)
EndedAt: 2025-02-04 00:29:20 -0500 (Tue, 04 Feb 2025)
EllapsedTime: 403.5 seconds
RetCode: 0
Status:   OK  
CheckDir: motifStack.Rcheck
Warnings: 0

Command output

##############################################################################
##############################################################################
###
### Running command:
###
###   /home/biocbuild/bbs-3.20-bioc/R/bin/R CMD check --install=check:motifStack.install-out.txt --library=/home/biocbuild/bbs-3.20-bioc/R/site-library --timings motifStack_1.50.0.tar.gz
###
##############################################################################
##############################################################################


* using log directory ‘/home/biocbuild/bbs-3.20-bioc/meat/motifStack.Rcheck’
* using R version 4.4.2 (2024-10-31)
* using platform: x86_64-pc-linux-gnu
* R was compiled by
    gcc (Ubuntu 13.2.0-23ubuntu4) 13.2.0
    GNU Fortran (Ubuntu 13.2.0-23ubuntu4) 13.2.0
* running under: Ubuntu 24.04.1 LTS
* using session charset: UTF-8
* checking for file ‘motifStack/DESCRIPTION’ ... OK
* checking extension type ... Package
* this is package ‘motifStack’ version ‘1.50.0’
* package encoding: UTF-8
* checking package namespace information ... OK
* checking package dependencies ... OK
* checking if this is a source package ... OK
* checking if there is a namespace ... OK
* checking for hidden files and directories ... OK
* checking for portable file names ... OK
* checking for sufficient/correct file permissions ... OK
* checking whether package ‘motifStack’ can be installed ... OK
* checking installed package size ... OK
* checking package directory ... OK
* checking ‘build’ directory ... OK
* checking DESCRIPTION meta-information ... OK
* checking top-level files ... OK
* checking for left-over files ... OK
* checking index information ... OK
* checking package subdirectories ... OK
* checking code files for non-ASCII characters ... OK
* checking R files for syntax errors ... OK
* checking whether the package can be loaded ... OK
* checking whether the package can be loaded with stated dependencies ... OK
* checking whether the package can be unloaded cleanly ... OK
* checking whether the namespace can be loaded with stated dependencies ... OK
* checking whether the namespace can be unloaded cleanly ... OK
* checking loading without being on the library search path ... OK
* checking dependencies in R code ... OK
* checking S3 generic/method consistency ... OK
* checking replacement functions ... OK
* checking foreign function calls ... OK
* checking R code for possible problems ... OK
* checking Rd files ... OK
* checking Rd metadata ... OK
* checking Rd cross-references ... OK
* checking for missing documentation entries ... OK
* checking for code/documentation mismatches ... OK
* checking Rd \usage sections ... OK
* checking Rd contents ... OK
* checking for unstated dependencies in examples ... OK
* checking files in ‘vignettes’ ... OK
* checking examples ... OK
Examples with CPU (user + system) or elapsed time > 5s
                  user system elapsed
AAmotifAlignment 7.765  0.247   8.011
pfm2pwm          5.187  0.245   5.432
* checking for unstated dependencies in ‘tests’ ... OK
* checking tests ...
  Running ‘runTests.R’
 OK
* checking for unstated dependencies in vignettes ... OK
* checking package vignettes ... OK
* checking re-building of vignette outputs ... OK
* checking PDF version of manual ... OK
* DONE

Status: OK


Installation output

motifStack.Rcheck/00install.out

##############################################################################
##############################################################################
###
### Running command:
###
###   /home/biocbuild/bbs-3.20-bioc/R/bin/R CMD INSTALL motifStack
###
##############################################################################
##############################################################################


* installing to library ‘/home/biocbuild/bbs-3.20-bioc/R/site-library’
* installing *source* package ‘motifStack’ ...
** using staged installation
** R
** inst
** byte-compile and prepare package for lazy loading
** help
*** installing help indices
** building package indices
** installing vignettes
** testing if installed package can be loaded from temporary location
** testing if installed package can be loaded from final location
** testing if installed package keeps a record of temporary installation path
* DONE (motifStack)

Tests output

motifStack.Rcheck/tests/runTests.Rout


R version 4.4.2 (2024-10-31) -- "Pile of Leaves"
Copyright (C) 2024 The R Foundation for Statistical Computing
Platform: x86_64-pc-linux-gnu

R is free software and comes with ABSOLUTELY NO WARRANTY.
You are welcome to redistribute it under certain conditions.
Type 'license()' or 'licence()' for distribution details.

R is a collaborative project with many contributors.
Type 'contributors()' for more information and
'citation()' on how to cite R or R packages in publications.

Type 'demo()' for some demos, 'help()' for on-line help, or
'help.start()' for an HTML browser interface to help.
Type 'q()' to quit R.

> require("motifStack") || stop("unable to load Package:motifStack")
Loading required package: motifStack
Loading required package: grid

[1] TRUE
> require("TFBSTools") || stop("unable to load Package:TFBSTools")
Loading required package: TFBSTools
[1] TRUE
> #require("MotifDb") || stop("unalble to load Package::motifDb")
> BiocGenerics:::testPackage("motifStack")
Loading required namespace: Cairo
only the first revcomp will be used.
only the first revcomp will be used.
only the first revcomp will be used.
only the first revcomp will be used.


RUNIT TEST PROTOCOL -- Tue Feb  4 00:27:59 2025 
*********************************************** 
Number of test functions: 10 
Number of errors: 0 
Number of failures: 0 

 
1 Test Suite : 
motifStack RUnit Tests - 10 test functions, 0 errors, 0 failures
Number of test functions: 10 
Number of errors: 0 
Number of failures: 0 
There were 32 warnings (use warnings() to see them)
> 
> proc.time()
   user  system elapsed 
 19.193   0.845  20.030 

Example timings

motifStack.Rcheck/motifStack-Ex.timings

nameusersystemelapsed
AAmotifAlignment7.7650.2478.011
DNAmotifAlignment0.0820.0000.082
DNAmotifToRNAmotif0.0090.0000.009
GeomMotif0.5810.0140.595
browseMotifs0.0010.0000.001
clusterMotifs000
colorset0.0010.0000.000
geom_motif0.2560.0070.264
getRankedUniqueMotifs0.0000.0000.001
highlightCol000
importMatrix0.0080.0020.011
marker-class0.0010.0000.001
matalign000
mergeMotifs0.0800.0100.091
motifCircos0.0010.0000.002
motifCloud0.0000.0010.001
motifGrob0.1030.0080.113
motifHclust000
motifPiles0.0020.0000.001
motifSignature0.0010.0000.000
motifStack0.0010.0000.001
ouNode-class0.0020.0000.002
pcm-class0.0980.0090.107
pfm-class0.0870.0170.103
pfm2pwm5.1870.2455.432
plotAffinityLogo0.5270.0010.528
plotMotifLogo0.1870.0010.188
plotMotifLogoA0.1860.0010.187
plotMotifLogoStack0.2170.0020.217
plotMotifLogoStackWithTree1.7550.0051.760
plotMotifOverMotif0.2660.0100.278
plotMotifStackWithPhylog0.0010.0000.001
plotMotifStackWithRadialPhylog0.0010.0000.001
psam-class0.5750.0090.583
pssm-class0.3460.0030.348
readPCM0.0080.0000.007
reorderUPGMAtree0.0010.0000.000