Back to Multiple platform build/check report for BioC 3.20: simplified long |
|
This page was generated on 2025-02-06 12:05 -0500 (Thu, 06 Feb 2025).
Hostname | OS | Arch (*) | R version | Installed pkgs |
---|---|---|---|---|
nebbiolo2 | Linux (Ubuntu 24.04.1 LTS) | x86_64 | 4.4.2 (2024-10-31) -- "Pile of Leaves" | 4753 |
palomino8 | Windows Server 2022 Datacenter | x64 | 4.4.2 (2024-10-31 ucrt) -- "Pile of Leaves" | 4501 |
merida1 | macOS 12.7.5 Monterey | x86_64 | 4.4.2 (2024-10-31) -- "Pile of Leaves" | 4524 |
kjohnson1 | macOS 13.6.6 Ventura | arm64 | 4.4.2 (2024-10-31) -- "Pile of Leaves" | 4476 |
taishan | Linux (openEuler 24.03 LTS) | aarch64 | 4.4.2 (2024-10-31) -- "Pile of Leaves" | 4407 |
Click on any hostname to see more info about the system (e.g. compilers) (*) as reported by 'uname -p', except on Windows and Mac OS X |
Package 1365/2289 | Hostname | OS / Arch | INSTALL | BUILD | CHECK | BUILD BIN | ||||||||
multicrispr 1.16.1 (landing page) Aditya Bhagwat
| nebbiolo2 | Linux (Ubuntu 24.04.1 LTS) / x86_64 | OK | OK | OK | ![]() | ||||||||
palomino8 | Windows Server 2022 Datacenter / x64 | OK | OK | OK | OK | ![]() | ||||||||
merida1 | macOS 12.7.5 Monterey / x86_64 | OK | OK | OK | OK | ![]() | ||||||||
kjohnson1 | macOS 13.6.6 Ventura / arm64 | OK | OK | OK | OK | ![]() | ||||||||
taishan | Linux (openEuler 24.03 LTS) / aarch64 | OK | OK | OK | ||||||||||
To the developers/maintainers of the multicrispr package: - Allow up to 24 hours (and sometimes 48 hours) for your latest push to git@git.bioconductor.org:packages/multicrispr.git to reflect on this report. See Troubleshooting Build Report for more information. - Use the following Renviron settings to reproduce errors and warnings. - If 'R CMD check' started to fail recently on the Linux builder(s) over a missing dependency, add the missing dependency to 'Suggests:' in your DESCRIPTION file. See Renviron.bioc for more information. |
Package: multicrispr |
Version: 1.16.1 |
Command: /home/biocbuild/bbs-3.20-bioc/R/bin/R CMD check --install=check:multicrispr.install-out.txt --library=/home/biocbuild/bbs-3.20-bioc/R/site-library --timings multicrispr_1.16.1.tar.gz |
StartedAt: 2025-02-04 00:32:47 -0500 (Tue, 04 Feb 2025) |
EndedAt: 2025-02-04 00:39:41 -0500 (Tue, 04 Feb 2025) |
EllapsedTime: 414.6 seconds |
RetCode: 0 |
Status: OK |
CheckDir: multicrispr.Rcheck |
Warnings: 0 |
############################################################################## ############################################################################## ### ### Running command: ### ### /home/biocbuild/bbs-3.20-bioc/R/bin/R CMD check --install=check:multicrispr.install-out.txt --library=/home/biocbuild/bbs-3.20-bioc/R/site-library --timings multicrispr_1.16.1.tar.gz ### ############################################################################## ############################################################################## * using log directory ‘/home/biocbuild/bbs-3.20-bioc/meat/multicrispr.Rcheck’ * using R version 4.4.2 (2024-10-31) * using platform: x86_64-pc-linux-gnu * R was compiled by gcc (Ubuntu 13.2.0-23ubuntu4) 13.2.0 GNU Fortran (Ubuntu 13.2.0-23ubuntu4) 13.2.0 * running under: Ubuntu 24.04.1 LTS * using session charset: UTF-8 * checking for file ‘multicrispr/DESCRIPTION’ ... OK * this is package ‘multicrispr’ version ‘1.16.1’ * package encoding: UTF-8 * checking package namespace information ... OK * checking package dependencies ... OK * checking if this is a source package ... OK * checking if there is a namespace ... OK * checking for hidden files and directories ... OK * checking for portable file names ... OK * checking for sufficient/correct file permissions ... OK * checking whether package ‘multicrispr’ can be installed ... OK * checking installed package size ... OK * checking package directory ... OK * checking ‘build’ directory ... OK * checking DESCRIPTION meta-information ... OK * checking top-level files ... OK * checking for left-over files ... OK * checking index information ... OK * checking package subdirectories ... OK * checking code files for non-ASCII characters ... OK * checking R files for syntax errors ... OK * checking whether the package can be loaded ... OK * checking whether the package can be loaded with stated dependencies ... OK * checking whether the package can be unloaded cleanly ... OK * checking whether the namespace can be loaded with stated dependencies ... OK * checking whether the namespace can be unloaded cleanly ... OK * checking loading without being on the library search path ... OK * checking dependencies in R code ... OK * checking S3 generic/method consistency ... OK * checking replacement functions ... OK * checking foreign function calls ... OK * checking R code for possible problems ... OK * checking Rd files ... OK * checking Rd metadata ... OK * checking Rd cross-references ... OK * checking for missing documentation entries ... OK * checking for code/documentation mismatches ... OK * checking Rd \usage sections ... OK * checking Rd contents ... OK * checking for unstated dependencies in examples ... OK * checking files in ‘vignettes’ ... OK * checking examples ... OK Examples with CPU (user + system) or elapsed time > 5s user system elapsed index_genome 15.645 0.265 15.918 find_primespacers 14.130 1.164 15.263 score_ontargets 14.253 0.610 14.758 find_spacers 9.138 0.655 9.755 add_target_matches 8.852 0.652 9.174 up_flank 9.121 0.163 9.164 add_genome_matches 7.811 0.352 8.128 plot_intervals 7.251 0.334 7.530 extend_for_pe 6.671 0.304 6.960 * checking for unstated dependencies in ‘tests’ ... OK * checking tests ... Running ‘testthat.R’ OK * checking for unstated dependencies in vignettes ... OK * checking package vignettes ... OK * checking re-building of vignette outputs ... OK * checking PDF version of manual ... OK * DONE Status: OK
multicrispr.Rcheck/00install.out
############################################################################## ############################################################################## ### ### Running command: ### ### /home/biocbuild/bbs-3.20-bioc/R/bin/R CMD INSTALL multicrispr ### ############################################################################## ############################################################################## * installing to library ‘/home/biocbuild/bbs-3.20-bioc/R/site-library’ * installing *source* package ‘multicrispr’ ... ** using staged installation ** R ** inst ** byte-compile and prepare package for lazy loading ** help *** installing help indices ** building package indices ** installing vignettes ** testing if installed package can be loaded from temporary location ** testing if installed package can be loaded from final location ** testing if installed package keeps a record of temporary installation path * DONE (multicrispr)
multicrispr.Rcheck/tests/testthat.Rout
R version 4.4.2 (2024-10-31) -- "Pile of Leaves" Copyright (C) 2024 The R Foundation for Statistical Computing Platform: x86_64-pc-linux-gnu R is free software and comes with ABSOLUTELY NO WARRANTY. You are welcome to redistribute it under certain conditions. Type 'license()' or 'licence()' for distribution details. R is a collaborative project with many contributors. Type 'contributors()' for more information and 'citation()' on how to cite R or R packages in publications. Type 'demo()' for some demos, 'help()' for on-line help, or 'help.start()' for an HTML browser interface to help. Type 'q()' to quit R. > library(testthat) > library(multicrispr) > > test_check("multicrispr") [ FAIL 0 | WARN 0 | SKIP 0 | PASS 13 ] > > proc.time() user system elapsed 12.363 0.784 13.137
multicrispr.Rcheck/multicrispr-Ex.timings
name | user | system | elapsed | |
add_genome_matches | 7.811 | 0.352 | 8.128 | |
add_inverse_strand | 1.782 | 0.016 | 1.791 | |
add_seq | 2.139 | 0.088 | 2.227 | |
add_target_matches | 8.852 | 0.652 | 9.174 | |
bed_to_granges | 1.528 | 0.015 | 1.544 | |
char_to_granges | 0.692 | 0.002 | 0.688 | |
double_flank | 1.929 | 0.006 | 1.919 | |
extend_for_pe | 6.671 | 0.304 | 6.960 | |
extend_pe_to_gg | 0.434 | 0.044 | 0.471 | |
extract_matchranges | 2.431 | 0.197 | 2.599 | |
extract_subranges | 0.488 | 0.001 | 0.483 | |
find_gg | 0.882 | 0.013 | 0.889 | |
find_primespacers | 14.130 | 1.164 | 15.263 | |
find_spacers | 9.138 | 0.655 | 9.755 | |
genes_to_granges | 2.837 | 0.211 | 3.049 | |
gr2dt | 0.163 | 0.004 | 0.168 | |
has_been_indexed | 0.001 | 0.000 | 0.001 | |
index_genome | 15.645 | 0.265 | 15.918 | |
index_targets | 1.864 | 0.276 | 2.147 | |
plot_intervals | 7.251 | 0.334 | 7.530 | |
plot_karyogram | 0.993 | 0.034 | 1.028 | |
score_ontargets | 14.253 | 0.610 | 14.758 | |
up_flank | 9.121 | 0.163 | 9.164 | |
write_ranges | 0.139 | 0.001 | 0.139 | |