Back to Multiple platform build/check report for BioC 3.20:   simplified   long
ABCDEFGHIJKL[M]NOPQRSTUVWXYZ

This page was generated on 2025-02-03 12:12 -0500 (Mon, 03 Feb 2025).

HostnameOSArch (*)R versionInstalled pkgs
nebbiolo2Linux (Ubuntu 24.04.1 LTS)x86_644.4.2 (2024-10-31) -- "Pile of Leaves" 4746
palomino8Windows Server 2022 Datacenterx644.4.2 (2024-10-31 ucrt) -- "Pile of Leaves" 4494
merida1macOS 12.7.5 Montereyx86_644.4.2 (2024-10-31) -- "Pile of Leaves" 4517
kjohnson1macOS 13.6.6 Venturaarm644.4.2 (2024-10-31) -- "Pile of Leaves" 4469
taishanLinux (openEuler 24.03 LTS)aarch644.4.2 (2024-10-31) -- "Pile of Leaves" 4400
Click on any hostname to see more info about the system (e.g. compilers)      (*) as reported by 'uname -p', except on Windows and Mac OS X

Package 1381/2289HostnameOS / ArchINSTALLBUILDCHECKBUILD BIN
musicatk 2.0.0  (landing page)
Joshua D. Campbell
Snapshot Date: 2025-01-30 13:00 -0500 (Thu, 30 Jan 2025)
git_url: https://git.bioconductor.org/packages/musicatk
git_branch: RELEASE_3_20
git_last_commit: c0c8b45
git_last_commit_date: 2024-10-29 10:52:22 -0500 (Tue, 29 Oct 2024)
nebbiolo2Linux (Ubuntu 24.04.1 LTS) / x86_64  OK    OK    OK  UNNEEDED, same version is already published
palomino8Windows Server 2022 Datacenter / x64  OK    OK    OK    OK  UNNEEDED, same version is already published
merida1macOS 12.7.5 Monterey / x86_64  OK    OK    OK    OK  UNNEEDED, same version is already published
kjohnson1macOS 13.6.6 Ventura / arm64  OK    OK    OK    OK  UNNEEDED, same version is already published
taishanLinux (openEuler 24.03 LTS) / aarch64  OK    OK    OK  


CHECK results for musicatk on taishan

To the developers/maintainers of the musicatk package:
- Allow up to 24 hours (and sometimes 48 hours) for your latest push to git@git.bioconductor.org:packages/musicatk.git to reflect on this report. See Troubleshooting Build Report for more information.
- Use the following Renviron settings to reproduce errors and warnings.
- If 'R CMD check' started to fail recently on the Linux builder(s) over a missing dependency, add the missing dependency to 'Suggests:' in your DESCRIPTION file. See Renviron.bioc for more information.
- See Martin Grigorov's blog post for how to debug Linux ARM64 related issues on a x86_64 host.

raw results


Summary

Package: musicatk
Version: 2.0.0
Command: /home/biocbuild/R/R/bin/R CMD check --install=check:musicatk.install-out.txt --library=/home/biocbuild/R/R/site-library --no-vignettes --timings musicatk_2.0.0.tar.gz
StartedAt: 2025-01-31 08:33:43 -0000 (Fri, 31 Jan 2025)
EndedAt: 2025-01-31 08:47:38 -0000 (Fri, 31 Jan 2025)
EllapsedTime: 835.7 seconds
RetCode: 0
Status:   OK  
CheckDir: musicatk.Rcheck
Warnings: 0

Command output

##############################################################################
##############################################################################
###
### Running command:
###
###   /home/biocbuild/R/R/bin/R CMD check --install=check:musicatk.install-out.txt --library=/home/biocbuild/R/R/site-library --no-vignettes --timings musicatk_2.0.0.tar.gz
###
##############################################################################
##############################################################################


* using log directory ‘/home/biocbuild/bbs-3.20-bioc/meat/musicatk.Rcheck’
* using R version 4.4.2 (2024-10-31)
* using platform: aarch64-unknown-linux-gnu
* R was compiled by
    aarch64-unknown-linux-gnu-gcc (GCC) 14.2.0
    GNU Fortran (GCC) 12.3.1 (openEuler 12.3.1-36.oe2403)
* running under: openEuler 24.03 (LTS)
* using session charset: UTF-8
* using option ‘--no-vignettes’
* checking for file ‘musicatk/DESCRIPTION’ ... OK
* checking extension type ... Package
* this is package ‘musicatk’ version ‘2.0.0’
* package encoding: UTF-8
* checking package namespace information ... OK
* checking package dependencies ... OK
* checking if this is a source package ... OK
* checking if there is a namespace ... OK
* checking for hidden files and directories ... OK
* checking for portable file names ... OK
* checking for sufficient/correct file permissions ... OK
* checking whether package ‘musicatk’ can be installed ... OK
* checking installed package size ... OK
* checking package directory ... OK
* checking ‘build’ directory ... OK
* checking DESCRIPTION meta-information ... OK
* checking top-level files ... OK
* checking for left-over files ... OK
* checking index information ... OK
* checking package subdirectories ... OK
* checking code files for non-ASCII characters ... OK
* checking R files for syntax errors ... OK
* checking whether the package can be loaded ... OK
* checking whether the package can be loaded with stated dependencies ... OK
* checking whether the package can be unloaded cleanly ... OK
* checking whether the namespace can be loaded with stated dependencies ... OK
* checking whether the namespace can be unloaded cleanly ... OK
* checking loading without being on the library search path ... OK
* checking dependencies in R code ... OK
* checking S3 generic/method consistency ... OK
* checking replacement functions ... OK
* checking foreign function calls ... OK
* checking R code for possible problems ... OK
* checking Rd files ... OK
* checking Rd metadata ... OK
* checking Rd cross-references ... OK
* checking for missing documentation entries ... OK
* checking for code/documentation mismatches ... OK
* checking Rd \usage sections ... OK
* checking Rd contents ... OK
* checking for unstated dependencies in examples ... OK
* checking contents of ‘data’ directory ... OK
* checking data for non-ASCII characters ... OK
* checking LazyData ... OK
* checking data for ASCII and uncompressed saves ... OK
* checking files in ‘vignettes’ ... OK
* checking examples ... OK
Examples with CPU (user + system) or elapsed time > 5s
                        user system elapsed
plot_k_comparison    197.806  5.319 205.581
compare_k_vals       179.183  8.746 192.280
build_standard_table   9.387  0.514   9.934
extract_variants       5.371  0.063   5.994
plot_cluster           4.552  0.174   5.405
* checking for unstated dependencies in ‘tests’ ... OK
* checking tests ...
  Running ‘testthat.R’
 OK
* checking for unstated dependencies in vignettes ... OK
* checking package vignettes ... OK
* checking running R code from vignettes ... SKIPPED
* checking re-building of vignette outputs ... SKIPPED
* checking PDF version of manual ... OK
* DONE

Status: OK


Installation output

musicatk.Rcheck/00install.out

##############################################################################
##############################################################################
###
### Running command:
###
###   /home/biocbuild/R/R/bin/R CMD INSTALL musicatk
###
##############################################################################
##############################################################################


* installing to library ‘/home/biocbuild/R/R-4.4.2/site-library’
* installing *source* package ‘musicatk’ ...
** using staged installation
** R
** data
*** moving datasets to lazyload DB
** inst
** byte-compile and prepare package for lazy loading
** help
*** installing help indices
** building package indices
** installing vignettes
** testing if installed package can be loaded from temporary location
** testing if installed package can be loaded from final location
** testing if installed package keeps a record of temporary installation path
* DONE (musicatk)

Tests output

musicatk.Rcheck/tests/testthat.Rout


R version 4.4.2 (2024-10-31) -- "Pile of Leaves"
Copyright (C) 2024 The R Foundation for Statistical Computing
Platform: aarch64-unknown-linux-gnu

R is free software and comes with ABSOLUTELY NO WARRANTY.
You are welcome to redistribute it under certain conditions.
Type 'license()' or 'licence()' for distribution details.

R is a collaborative project with many contributors.
Type 'contributors()' for more information and
'citation()' on how to cite R or R packages in publications.

Type 'demo()' for some demos, 'help()' for on-line help, or
'help.start()' for an HTML browser interface to help.
Type 'q()' to quit R.

> library("testthat")
> library("musicatk")
Loading required package: NMF
Loading required package: registry
Loading required package: rngtools
Loading required package: cluster
NMF - BioConductor layer [OK] | Shared memory capabilities [NO: bigmemory] | Cores 2/2
  To enable shared memory capabilities, try: install.extras('
NMF
')

Attaching package: 'NMF'

The following object is masked from 'package:testthat':

    compare

> 
> test_check("musicatk")
[ FAIL 0 | WARN 1 | SKIP 0 | PASS 41 ]

[ FAIL 0 | WARN 1 | SKIP 0 | PASS 41 ]
> 
> proc.time()
   user  system elapsed 
 22.364   0.896  25.758 

Example timings

musicatk.Rcheck/musicatk-Ex.timings

nameusersystemelapsed
add_flank_to_variants3.3210.2713.605
add_variant_type0.0160.0040.020
annotate_replication_strand0.1480.0080.156
annotate_transcript_strand1.4130.0521.469
annotate_variant_length0.0150.0000.015
annotate_variant_type0.0020.0000.002
auto_predict_grid3.8760.0833.974
build_custom_table1.1050.0281.136
build_standard_table9.3870.5149.934
built_tables0.0020.0010.002
cluster_exposure0.0210.0000.041
combine_count_tables3.2550.1793.456
combine_predict_grid0.8110.0080.823
compare_cosmic_v23.8830.0634.238
compare_cosmic_v32.1250.0162.145
compare_k_vals179.183 8.746192.280
compare_results2.4720.0402.522
cosmic_v2_subtype_map0.0010.0000.002
create_musica_from_counts0.0050.0000.005
create_musica_from_variants0.9830.1001.243
create_result_model0.0000.0020.003
create_umap4.4160.1164.575
credible_intervals0.0030.0000.004
discover_signatures0.9030.0400.945
drop_annotation0.0020.0000.002
exposure_differential_analysis0.0120.0000.012
exposures0.0220.0000.022
extract_count_tables0.0050.0000.005
extract_variants5.3710.0635.994
extract_variants_from_maf0.1380.0040.141
extract_variants_from_maf_file0.1200.0000.119
extract_variants_from_matrix0.1350.0040.139
extract_variants_from_vcf0.8660.0010.868
extract_variants_from_vcf_file0.5790.0000.581
generate_result_grid0.5030.0120.516
get_modality0.0030.0040.007
get_model0.0060.0000.005
get_result_list_entry0.0060.0000.006
hyperparameter0.0020.0000.002
k_select1.0150.0281.125
metrics0.0030.0000.008
modality0.0020.0000.002
model_id0.0020.0000.007
musicatk000
name_signatures0.0460.0000.066
num_signatures0.0020.0000.002
other_parameters0.0000.0030.004
parameter0.0010.0010.002
pipe0.0030.0000.003
plot_cluster4.5520.1745.405
plot_differential_analysis0.2320.0000.233
plot_exposures0.4010.0000.402
plot_heatmap0.9920.0161.018
plot_k_comparison197.806 5.319205.581
plot_sample_counts0.7350.0150.754
plot_sample_reconstruction_error1.0230.0161.041
plot_signatures1.0810.0041.095
plot_umap3.8860.1244.604
predict_exposure1.7020.0641.773
rc0.0030.0000.004
result_list0.0040.0000.004
samp_annot0.0070.0000.008
sample_names0.0030.0000.003
select_genome000
signatures0.0240.0000.024
subset_musica_by_annotation0.0060.0000.011
subset_musica_by_counts0.0110.0000.015
subset_variant_by_type0.0070.0000.007
subset_variants_by_samples0.0030.0040.006
table_selected0.0030.0000.003
tables0.0050.0000.005
umap0.0020.0000.002
variants0.0060.0000.006