Back to Multiple platform build/check report for BioC 3.20:   simplified   long
ABCDEFGHIJKLM[N]OPQRSTUVWXYZ

This page was generated on 2025-02-06 12:12 -0500 (Thu, 06 Feb 2025).

HostnameOSArch (*)R versionInstalled pkgs
nebbiolo2Linux (Ubuntu 24.04.1 LTS)x86_644.4.2 (2024-10-31) -- "Pile of Leaves" 4753
palomino8Windows Server 2022 Datacenterx644.4.2 (2024-10-31 ucrt) -- "Pile of Leaves" 4501
merida1macOS 12.7.5 Montereyx86_644.4.2 (2024-10-31) -- "Pile of Leaves" 4524
kjohnson1macOS 13.6.6 Venturaarm644.4.2 (2024-10-31) -- "Pile of Leaves" 4476
taishanLinux (openEuler 24.03 LTS)aarch644.4.2 (2024-10-31) -- "Pile of Leaves" 4407
Click on any hostname to see more info about the system (e.g. compilers)      (*) as reported by 'uname -p', except on Windows and Mac OS X

Package 1414/2289HostnameOS / ArchINSTALLBUILDCHECKBUILD BIN
netZooR 1.10.0  (landing page)
Marouen Ben Guebila
Snapshot Date: 2025-02-03 13:00 -0500 (Mon, 03 Feb 2025)
git_url: https://git.bioconductor.org/packages/netZooR
git_branch: RELEASE_3_20
git_last_commit: 4cb3b30
git_last_commit_date: 2024-10-29 11:07:03 -0500 (Tue, 29 Oct 2024)
nebbiolo2Linux (Ubuntu 24.04.1 LTS) / x86_64  OK    OK    OK  UNNEEDED, same version is already published
palomino8Windows Server 2022 Datacenter / x64  OK    OK    OK    OK  UNNEEDED, same version is already published
merida1macOS 12.7.5 Monterey / x86_64  OK    OK    OK    OK  UNNEEDED, same version is already published
kjohnson1macOS 13.6.6 Ventura / arm64  OK    OK    OK    OK  UNNEEDED, same version is already published
taishanLinux (openEuler 24.03 LTS) / aarch64  OK    OK    ERROR  


CHECK results for netZooR on taishan

To the developers/maintainers of the netZooR package:
- Allow up to 24 hours (and sometimes 48 hours) for your latest push to git@git.bioconductor.org:packages/netZooR.git to reflect on this report. See Troubleshooting Build Report for more information.
- Use the following Renviron settings to reproduce errors and warnings.
- If 'R CMD check' started to fail recently on the Linux builder(s) over a missing dependency, add the missing dependency to 'Suggests:' in your DESCRIPTION file. See Renviron.bioc for more information.
- See Martin Grigorov's blog post for how to debug Linux ARM64 related issues on a x86_64 host.

raw results


Summary

Package: netZooR
Version: 1.10.0
Command: /home/biocbuild/R/R/bin/R CMD check --install=check:netZooR.install-out.txt --library=/home/biocbuild/R/R/site-library --no-vignettes --timings netZooR_1.10.0.tar.gz
StartedAt: 2025-02-04 09:21:58 -0000 (Tue, 04 Feb 2025)
EndedAt: 2025-02-04 09:35:57 -0000 (Tue, 04 Feb 2025)
EllapsedTime: 838.4 seconds
RetCode: 1
Status:   ERROR  
CheckDir: netZooR.Rcheck
Warnings: NA

Command output

##############################################################################
##############################################################################
###
### Running command:
###
###   /home/biocbuild/R/R/bin/R CMD check --install=check:netZooR.install-out.txt --library=/home/biocbuild/R/R/site-library --no-vignettes --timings netZooR_1.10.0.tar.gz
###
##############################################################################
##############################################################################


* using log directory ‘/home/biocbuild/bbs-3.20-bioc/meat/netZooR.Rcheck’
* using R version 4.4.2 (2024-10-31)
* using platform: aarch64-unknown-linux-gnu
* R was compiled by
    aarch64-unknown-linux-gnu-gcc (GCC) 14.2.0
    GNU Fortran (GCC) 12.3.1 (openEuler 12.3.1-36.oe2403)
* running under: openEuler 24.03 (LTS)
* using session charset: UTF-8
* using option ‘--no-vignettes’
* checking for file ‘netZooR/DESCRIPTION’ ... OK
* checking extension type ... Package
* this is package ‘netZooR’ version ‘1.10.0’
* package encoding: UTF-8
* checking package namespace information ... OK
* checking package dependencies ... OK
* checking if this is a source package ... OK
* checking if there is a namespace ... OK
* checking for hidden files and directories ... OK
* checking for portable file names ... OK
* checking for sufficient/correct file permissions ... OK
* checking whether package ‘netZooR’ can be installed ... OK
* checking installed package size ... NOTE
  installed size is  5.2Mb
  sub-directories of 1Mb or more:
    data      1.5Mb
    extdata   2.9Mb
* checking package directory ... OK
* checking ‘build’ directory ... OK
* checking DESCRIPTION meta-information ... OK
* checking top-level files ... OK
* checking for left-over files ... OK
* checking index information ... OK
* checking package subdirectories ... OK
* checking code files for non-ASCII characters ... OK
* checking R files for syntax errors ... OK
* checking whether the package can be loaded ... OK
* checking whether the package can be loaded with stated dependencies ... OK
* checking whether the package can be unloaded cleanly ... OK
* checking whether the namespace can be loaded with stated dependencies ... OK
* checking whether the namespace can be unloaded cleanly ... OK
* checking loading without being on the library search path ... OK
* checking dependencies in R code ... NOTE
Package in Depends field not imported from: ‘matrixcalc’
  These packages need to be imported from (in the NAMESPACE file)
  for when this namespace is loaded but not attached.
* checking S3 generic/method consistency ... OK
* checking replacement functions ... OK
* checking foreign function calls ... OK
* checking R code for possible problems ... NOTE
estimatePenaltyParameters: no visible global function definition for
  ‘matrix.trace’
runEgret: no visible binding for global variable ‘NA12878’
show,panda: no visible global function definition for ‘print.panda’
Undefined global functions or variables:
  NA12878 matrix.trace print.panda
* checking Rd files ... NOTE
checkRd: (-1) condorCluster.Rd:39: Lost braces; missing escapes or markup?
    39 | in the modularity for each iteration. Default is min(10^{-4},1/(number of edges)),
       |                                                         ^
checkRd: (-1) dragon.Rd:29: Lost braces in \itemize; \value handles \item{}{} directly
checkRd: (-1) dragon.Rd:30: Lost braces in \itemize; \value handles \item{}{} directly
checkRd: (-1) dragon.Rd:31: Lost braces in \itemize; \value handles \item{}{} directly
checkRd: (-1) dragon.Rd:32: Lost braces in \itemize; \value handles \item{}{} directly
checkRd: (-1) dragon.Rd:33: Lost braces in \itemize; \value handles \item{}{} directly
checkRd: (-1) dragon.Rd:34: Lost braces in \itemize; \value handles \item{}{} directly
* checking Rd metadata ... OK
* checking Rd cross-references ... OK
* checking for missing documentation entries ... OK
* checking for code/documentation mismatches ... OK
* checking Rd \usage sections ... OK
* checking Rd contents ... OK
* checking for unstated dependencies in examples ... OK
* checking contents of ‘data’ directory ... OK
* checking data for non-ASCII characters ... OK
* checking data for ASCII and uncompressed saves ... OK
* checking files in ‘vignettes’ ... OK
* checking examples ... OK
Examples with CPU (user + system) or elapsed time > 5s
                              user system elapsed
monsterMonsterNI            44.491  0.027  48.338
monsterTransformationMatrix  7.662  0.099   8.289
lioness                      4.673  0.059   5.302
monsterBereFull              4.652  0.007   5.175
* checking for unstated dependencies in ‘tests’ ... OK
* checking tests ...
  Running ‘testthat.R’
 ERROR
Running the tests in ‘tests/testthat.R’ failed.
Last 13 lines of output:
  ══ Failed tests ════════════════════════════════════════════════════════════════
  ── Error ('test-panda.R:29:4'): panda function works ───────────────────────────
  <python.builtin.ModuleNotFoundError/python.builtin.ImportError/python.builtin.Exception/python.builtin.BaseException/python.builtin.object/error/condition>
  Error in `py_run_file_impl(file, local, convert)`: ModuleNotFoundError: No module named 'pandas'
  Run `reticulate::py_last_error()` for details.
  Backtrace:
      ▆
   1. └─netZooR::pandaPy(...) at test-panda.R:29:4
   2.   └─reticulate::source_python(pandapath, convert = TRUE)
   3.     └─reticulate::py_run_file(file, local = FALSE, convert = convert)
   4.       └─reticulate:::py_run_file_impl(file, local, convert)
  
  [ FAIL 1 | WARN 9 | SKIP 1 | PASS 48 ]
  Error: Test failures
  Execution halted
* checking for unstated dependencies in vignettes ... OK
* checking package vignettes ... OK
* checking running R code from vignettes ... SKIPPED
* checking re-building of vignette outputs ... SKIPPED
* checking PDF version of manual ... OK
* DONE

Status: 1 ERROR, 4 NOTEs
See
  ‘/home/biocbuild/bbs-3.20-bioc/meat/netZooR.Rcheck/00check.log’
for details.


Installation output

netZooR.Rcheck/00install.out

##############################################################################
##############################################################################
###
### Running command:
###
###   /home/biocbuild/R/R/bin/R CMD INSTALL netZooR
###
##############################################################################
##############################################################################


* installing to library ‘/home/biocbuild/R/R-4.4.2/site-library’
* installing *source* package ‘netZooR’ ...
** using staged installation
** R
** data
** inst
** byte-compile and prepare package for lazy loading
** help
*** installing help indices
** building package indices
** installing vignettes
** testing if installed package can be loaded from temporary location
** testing if installed package can be loaded from final location
** testing if installed package keeps a record of temporary installation path
* DONE (netZooR)

Tests output

netZooR.Rcheck/tests/testthat.Rout.fail


R version 4.4.2 (2024-10-31) -- "Pile of Leaves"
Copyright (C) 2024 The R Foundation for Statistical Computing
Platform: aarch64-unknown-linux-gnu

R is free software and comes with ABSOLUTELY NO WARRANTY.
You are welcome to redistribute it under certain conditions.
Type 'license()' or 'licence()' for distribution details.

R is a collaborative project with many contributors.
Type 'contributors()' for more information and
'citation()' on how to cite R or R packages in publications.

Type 'demo()' for some demos, 'help()' for on-line help, or
'help.start()' for an HTML browser interface to help.
Type 'q()' to quit R.

> library(testthat)
> library(netZooR)
Loading required package: igraph

Attaching package: 'igraph'

The following object is masked from 'package:testthat':

    compare

The following objects are masked from 'package:stats':

    decompose, spectrum

The following object is masked from 'package:base':

    union

Loading required package: reticulate
Loading required package: pandaR
Loading required package: Biobase
Loading required package: BiocGenerics

Attaching package: 'BiocGenerics'

The following objects are masked from 'package:igraph':

    normalize, path, union

The following objects are masked from 'package:stats':

    IQR, mad, sd, var, xtabs

The following objects are masked from 'package:base':

    Filter, Find, Map, Position, Reduce, anyDuplicated, aperm, append,
    as.data.frame, basename, cbind, colnames, dirname, do.call,
    duplicated, eval, evalq, get, grep, grepl, intersect, is.unsorted,
    lapply, mapply, match, mget, order, paste, pmax, pmax.int, pmin,
    pmin.int, rank, rbind, rownames, sapply, saveRDS, setdiff, table,
    tapply, union, unique, unsplit, which.max, which.min

Welcome to Bioconductor

    Vignettes contain introductory material; view with
    'browseVignettes()'. To cite Bioconductor, see
    'citation("Biobase")', and for packages 'citation("pkgname")'.

Loading required package: yarn
Setting options('download.file.method.GEOquery'='auto')
Setting options('GEOquery.inmemory.gpl'=FALSE)
Loading required package: matrixcalc

Attaching package: 'matrixcalc'

The following object is masked from 'package:igraph':

    %s%



> 
> #download test data
> download.file('https://netzoo.s3.us-east-2.amazonaws.com/netZooR/example_datasets/ppi_medium.txt','testthat/ppi_medium.txt')
trying URL 'https://netzoo.s3.us-east-2.amazonaws.com/netZooR/example_datasets/ppi_medium.txt'
Content type 'text/plain' length 3674311 bytes (3.5 MB)
==================================================
downloaded 3.5 MB

> download.file('https://netzoo.s3.us-east-2.amazonaws.com/netZooR/unittest_datasets/testDataset.RData','testthat/testDataset.RData')
trying URL 'https://netzoo.s3.us-east-2.amazonaws.com/netZooR/unittest_datasets/testDataset.RData'
Content type 'binary/octet-stream' length 15200389 bytes (14.5 MB)
==================================================
downloaded 14.5 MB

> download.file('https://netzoo.s3.us-east-2.amazonaws.com/netZooR/example_datasets/dragon/dragon_test_get_shrunken_covariance.csv','testthat/dragon_test_get_shrunken_covariance.csv')
trying URL 'https://netzoo.s3.us-east-2.amazonaws.com/netZooR/example_datasets/dragon/dragon_test_get_shrunken_covariance.csv'
Content type 'text/csv' length 114 bytes
==================================================
downloaded 114 bytes

> download.file('https://netzoo.s3.us-east-2.amazonaws.com/netZooR/example_datasets/dragon/dragon_layer1.csv','testthat/dragon_layer1.csv')
trying URL 'https://netzoo.s3.us-east-2.amazonaws.com/netZooR/example_datasets/dragon/dragon_layer1.csv'
Content type 'text/csv' length 2549985 bytes (2.4 MB)
==================================================
downloaded 2.4 MB

> download.file('https://netzoo.s3.us-east-2.amazonaws.com/netZooR/example_datasets/dragon/dragon_layer2.csv','testthat/dragon_layer2.csv')
trying URL 'https://netzoo.s3.us-east-2.amazonaws.com/netZooR/example_datasets/dragon/dragon_layer2.csv'
Content type 'text/csv' length 12749793 bytes (12.2 MB)
==================================================
downloaded 12.2 MB

> download.file('https://netzoo.s3.us-east-2.amazonaws.com/netZooR/example_datasets/dragon/dragon_python_cov.csv','testthat/dragon_python_cov.csv')
trying URL 'https://netzoo.s3.us-east-2.amazonaws.com/netZooR/example_datasets/dragon/dragon_python_cov.csv'
Content type 'text/csv' length 9179450 bytes (8.8 MB)
==================================================
downloaded 8.8 MB

> download.file('https://netzoo.s3.us-east-2.amazonaws.com/netZooR/example_datasets/dragon/dragon_python_prec.csv','testthat/dragon_python_prec.csv')
trying URL 'https://netzoo.s3.us-east-2.amazonaws.com/netZooR/example_datasets/dragon/dragon_python_prec.csv'
Content type 'text/csv' length 9179450 bytes (8.8 MB)
==================================================
downloaded 8.8 MB

> download.file('https://netzoo.s3.us-east-2.amazonaws.com/netZooR/example_datasets/dragon/dragon_python_parcor.csv','testthat/dragon_python_parcor.csv')
trying URL 'https://netzoo.s3.us-east-2.amazonaws.com/netZooR/example_datasets/dragon/dragon_python_parcor.csv'
Content type 'text/csv' length 9179576 bytes (8.8 MB)
==================================================
downloaded 8.8 MB

> download.file('https://netzoo.s3.us-east-2.amazonaws.com/netZooR/example_datasets/dragon/risk_grid_netzoopy.csv','testthat/risk_grid_netzoopy.csv')
trying URL 'https://netzoo.s3.us-east-2.amazonaws.com/netZooR/example_datasets/dragon/risk_grid_netzoopy.csv'
Content type 'text/csv' length 255025 bytes (249 KB)
==================================================
downloaded 249 KB

> 
> test_check("netZooR")
[1] "Detecting communities in control network..."
[1] "modularity of projected graph 0.0210526315789478"
[1] "Q = 0.0263157894736842"
[1] "Q = 0.0263157894736842"
[1] "Computing differential modularity matrix..."
[1] "Computing differential modules..."
[1] "Merging 100 communities"
[1] 1
[1] 2
[1] 3
[1] "Merging 2 communities"
[1] 1
[1] "Computing node scores..."
[1] 1
[1] 2
[1] "modularity of projected graph 0.227272727272727"
[1] "Q = 0.231404958677686"
[1] "Q = 0.231404958677686"
[1] "modularity of projected graph 0"
[1] "Q = 0"
[1] "Q = 0.132231404958678"
[1] "Q = 0.148760330578512"
[1] "Q = 0.148760330578512"
[1] 0.231405 0.231405
[1] "Q = 0.198347107438017"
[1] "Q = 0.231404958677686"
[1] "Q = 0.231404958677686"
[1] "Q = 0.140495867768595"
[1] "Q = 0.140495867768595"
[1] "modularity of projected graph 0.227272727272727"
[1] "Q = 0.231404958677686"
[1] "Q = 0.231404958677686"
[1] "modularity of projected graph 0.525346928655047"
[1] "Q = 0.52666696475026"
[1] "Q = 0.52666696475026"
[1] 0.79 0.00
final  value 375.120000 
converged
[1] 0.31 0.29
final  value 36.897493 
converged
  % Total    % Received % Xferd  Average Speed   Time    Time     Time  Current
                                 Dload  Upload   Total   Spent    Left  Speed

  0     0    0     0    0     0      0      0 --:--:-- --:--:-- --:--:--     0
  0     0    0     0    0     0      0      0 --:--:-- --:--:-- --:--:--     0
100   355  100   355    0     0    490      0 --:--:-- --:--:-- --:--:--   491
  % Total    % Received % Xferd  Average Speed   Time    Time     Time  Current
                                 Dload  Upload   Total   Spent    Left  Speed

  0     0    0     0    0     0      0      0 --:--:-- --:--:-- --:--:--     0
100   569  100   569    0     0    720      0 --:--:-- --:--:-- --:--:--   720
100   569  100   569    0     0    720      0 --:--:-- --:--:-- --:--:--   720
  % Total    % Received % Xferd  Average Speed   Time    Time     Time  Current
                                 Dload  Upload   Total   Spent    Left  Speed

  0     0    0     0    0     0      0      0 --:--:-- --:--:-- --:--:--     0
100   840  100   840    0     0   1127      0 --:--:-- --:--:-- --:--:--  1129
  % Total    % Received % Xferd  Average Speed   Time    Time     Time  Current
                                 Dload  Upload   Total   Spent    Left  Speed

  0     0    0     0    0     0      0      0 --:--:-- --:--:-- --:--:--     0
  0     0    0     0    0     0      0      0 --:--:-- --:--:-- --:--:--     0
100  3242  100  3242    0     0   4459      0 --:--:-- --:--:-- --:--:--  4459
  % Total    % Received % Xferd  Average Speed   Time    Time     Time  Current
                                 Dload  Upload   Total   Spent    Left  Speed

  0     0    0     0    0     0      0      0 --:--:-- --:--:-- --:--:--     0
  0     0    0     0    0     0      0      0 --:--:-- --:--:-- --:--:--     0
100   410  100   410    0     0    572      0 --:--:-- --:--:-- --:--:--   571
  % Total    % Received % Xferd  Average Speed   Time    Time     Time  Current
                                 Dload  Upload   Total   Spent    Left  Speed

  0     0    0     0    0     0      0      0 --:--:-- --:--:-- --:--:--     0
100   222  100   222    0     0    312      0 --:--:-- --:--:-- --:--:--   312
100   222  100   222    0     0    312      0 --:--:-- --:--:-- --:--:--   312
  % Total    % Received % Xferd  Average Speed   Time    Time     Time  Current
                                 Dload  Upload   Total   Spent    Left  Speed

  0     0    0     0    0     0      0      0 --:--:-- --:--:-- --:--:--     0
  4 1438k    4 69181    0     0  70851      0  0:00:20 --:--:--  0:00:20 70809
 69 1438k   69 1002k    0     0   540k      0  0:00:02  0:00:01  0:00:01  540k
100 1438k  100 1438k    0     0   771k      0  0:00:01  0:00:01 --:--:--  771k
  % Total    % Received % Xferd  Average Speed   Time    Time     Time  Current
                                 Dload  Upload   Total   Spent    Left  Speed

  0     0    0     0    0     0      0      0 --:--:-- --:--:-- --:--:--     0
100   578  100   578    0     0    790      0 --:--:-- --:--:-- --:--:--   790
[1] "Initializing and validating"
[1] "Verified sufficient samples"
[1] "Normalizing networks..."
[1] "Learning Network..."
[1] "Using tanimoto similarity"
[1] "Initializing and validating"
[1] "Verified sufficient samples"
[1] "Normalizing networks..."
[1] "Learning Network..."
[1] "Using tanimoto similarity"
  % Total    % Received % Xferd  Average Speed   Time    Time     Time  Current
                                 Dload  Upload   Total   Spent    Left  Speed

  0     0    0     0    0     0      0      0 --:--:-- --:--:-- --:--:--     0
  0     0    0     0    0     0      0      0 --:--:-- --:--:-- --:--:--     0
100 27822  100 27822    0     0  29546      0 --:--:-- --:--:-- --:--:-- 29535
[1] "Computing network for sample  1"
[1] "Computing network for sample  2"
[1] "Computing network for sample  3"
[1] "Computing network for sample  4"
  % Total    % Received % Xferd  Average Speed   Time    Time     Time  Current
                                 Dload  Upload   Total   Spent    Left  Speed

  0     0    0     0    0     0      0      0 --:--:-- --:--:-- --:--:--     0
  0     0    0     0    0     0      0      0 --:--:-- --:--:-- --:--:--     0
  1 1079k    1 16948    0     0  11908      0  0:01:32  0:00:01  0:01:31 11910
  7 1079k    7 86580    0     0  36950      0  0:00:29  0:00:02  0:00:27 36936
 14 1079k   14  152k    0     0  45404      0  0:00:24  0:00:03  0:00:21 45397
 23 1079k   23  254k    0     0  60075      0  0:00:18  0:00:04  0:00:14 60073
 45 1079k   45  492k    0     0  92432      0  0:00:11  0:00:05  0:00:06   98k
 77 1079k   77  832k    0     0   131k      0  0:00:08  0:00:06  0:00:02  165k
100 1079k  100 1079k    0     0   156k      0  0:00:06  0:00:06 --:--:--  219k
Time difference of 2.241135e-05 secs
Time difference of 46.73406 secs
Time difference of 0.3428586 secs
.123456
.12345
.12345
.12345
.12345
.123456
.12345
.12345
.12345
.123456
.12345
.12345
.12345
.12345
.12345
.123456
.1234
.12345
.12345
.12345
.1234
.12345
.123456
.12345
.12345
.1234
.1234
.12345
.12345
.12345
.12345
.12345
.123456
.12345
.12345
.123456
.12345
.12345
.12345
.12345
.12345
.12345
.1234
.12345
.12345
.12345
.12345
.12345
.12345
.12345
.1234
.12345
.12345
MONSTER object
2555 genes
20 baseline samples
20 final samples
Transition driven by 53 transcription factors
Run with 10 randomized permutations.
  % Total    % Received % Xferd  Average Speed   Time    Time     Time  Current
                                 Dload  Upload   Total   Spent    Left  Speed

  0     0    0     0    0     0      0      0 --:--:-- --:--:-- --:--:--     0
100 27822  100 27822    0     0  28737      0 --:--:-- --:--:-- --:--:-- 28860
100 27822  100 27822    0     0  28735      0 --:--:-- --:--:-- --:--:-- 28860
[1] "Detecting communities in control network..."
[1] "modularity of projected graph 0.471004488691679"
[1] "Q = 0.471024100010188"
[1] "Q = 0.471024100010188"
[1] "Computing differential modularity matrix..."
[1] "Computing differential modules..."
[1] "Merging 386 communities"
[1] 1
[1] 2
[1] "Merging 201 communities"
[1] 1
[1] "Computing node scores..."
[1] 1
[1] 2
[1] 3
[1] 4
[1] 5
[1] 6
[1] 7
[1] 8
[1] 9
[1] 10
[1] 11
[1] 12
[1] 13
[1] 14
[1] 15
[1] 16
[1] 17
[1] 18
[1] 19
[1] 20
[1] 21
[1] 22
[1] 23
[1] 24
[1] 25
[1] 26
[1] 27
[1] 28
[1] 29
[1] 30
[1] 31
[1] 32
[1] 33
[1] 34
[1] 35
[1] 36
[1] 37
[1] 38
[1] 39
[1] 40
[1] 41
[1] 42
[1] 43
[1] 44
[1] 45
[1] 46
[1] 47
[1] 48
[1] 49
[1] 50
[1] 51
[1] 52
[1] 53
[1] 54
[1] 55
[1] 56
[1] 57
[1] 58
[1] 59
[1] 60
[1] 61
[1] 62
[1] 63
[1] 64
[1] 65
[1] 66
[1] 67
[1] 68
[1] 69
[1] 70
[1] 71
[1] 72
[1] 73
[1] 74
[1] 75
[1] 76
[1] 77
[1] 78
[1] 79
[1] 80
[1] 81
[1] 82
[1] 83
[1] 84
[1] 85
[1] 86
[1] 87
[1] 88
[1] 89
[1] 90
[1] 91
[1] 92
[1] 93
[1] 94
[1] 95
[1] 96
[1] 97
[1] 98
[1] 99
[1] 100
[1] 101
[1] 102
[1] 103
[1] 104
[1] 105
[1] 106
[1] 107
[1] 108
[1] 109
[1] 110
[1] 111
[1] 112
[1] 113
[1] 114
[1] 115
[1] 116
[1] 117
[1] 118
[1] 119
[1] 120
[1] 121
[1] 122
[1] 123
[1] 124
[1] 125
[1] 126
[1] 127
[1] 128
[1] 129
[1] 130
[1] 131
[1] 132
[1] 133
[1] 134
[1] 135
[1] 136
[1] 137
[1] 138
[1] 139
[1] 140
[1] 141
[1] 142
[1] 143
[1] 144
[1] 145
[1] 146
[1] 147
[1] 148
[1] 149
[1] 150
[1] 151
[1] 152
[1] 153
[1] 154
[1] 155
[1] 156
[1] 157
[1] 158
[1] 159
[1] 160
[1] 161
[1] 162
[1] 163
[1] 164
[1] 165
[1] 166
[1] 167
[1] 168
[1] 169
[1] 170
[1] 171
[1] 172
[1] 173
[1] 174
[1] 175
[1] 176
[1] 177
[1] 178
[1] 179
[1] 180
[1] 181
[1] 182
[1] 183
[1] 184
[1] 185
[1] 186
[1] 187
[1] 188
[1] 189
[1] 190
[1] 191
[1] 192
[1] 193
[1] 194
[1] 195
[1] 196
[1] 197
[1] 198
[1] 199
[1] 200
[1] 201
Read 7424 items
WARNING: Score threshold is not specified. We will be using medium stringency cut-off of 400.
trying URL 'https://stringdb-downloads.org/download/protein.aliases.v11.0/83332.protein.aliases.v11.0.txt.gz'
Content type 'application/octet-stream' length 614783 bytes (600 KB)
==================================================
downloaded 600 KB

trying URL 'https://stringdb-downloads.org/download/protein.info.v11.0/83332.protein.info.v11.0.txt.gz'
Content type 'application/octet-stream' length 442274 bytes (431 KB)
==================================================
downloaded 431 KB

trying URL 'https://stringdb-downloads.org/download/protein.links.v11.0/83332.protein.links.v11.0.txt.gz'
Content type 'application/octet-stream' length 7455726 bytes (7.1 MB)
==================================================
downloaded 7.1 MB

[ FAIL 1 | WARN 9 | SKIP 1 | PASS 48 ]

══ Skipped tests (1) ═══════════════════════════════════════════════════════════
• empty test (1): 'test-lioness.R:44:1'

══ Failed tests ════════════════════════════════════════════════════════════════
── Error ('test-panda.R:29:4'): panda function works ───────────────────────────
<python.builtin.ModuleNotFoundError/python.builtin.ImportError/python.builtin.Exception/python.builtin.BaseException/python.builtin.object/error/condition>
Error in `py_run_file_impl(file, local, convert)`: ModuleNotFoundError: No module named 'pandas'
Run `reticulate::py_last_error()` for details.
Backtrace:
    ▆
 1. └─netZooR::pandaPy(...) at test-panda.R:29:4
 2.   └─reticulate::source_python(pandapath, convert = TRUE)
 3.     └─reticulate::py_run_file(file, local = FALSE, convert = convert)
 4.       └─reticulate:::py_run_file_impl(file, local, convert)

[ FAIL 1 | WARN 9 | SKIP 1 | PASS 48 ]
Error: Test failures
Execution halted

Example timings

netZooR.Rcheck/netZooR-Ex.timings

nameusersystemelapsed
alpaca0.6060.0290.691
alpacaCommunityStructureRotation0.0010.0000.001
alpacaComputeDWBMmatmScale000
alpacaComputeWBMmat000
alpacaCrane000
alpacaDeltaZAnalysis000
alpacaDeltaZAnalysisLouvain000
alpacaExtractTopGenes0.6090.0030.637
alpacaGOtabtogenes0.0000.0000.001
alpacaGenLouvain000
alpacaGoToGenes000
alpacaListToGo0.0000.0000.001
alpacaMetaNetwork000
alpacaNodeToGene000
alpacaRotationAnalysis000
alpacaRotationAnalysisLouvain000
alpacaSimulateNetwork000
alpacaTestNodeRank000
alpacaTidyConfig000
alpacaTopEnsembltoTopSym000
alpacaWBMlouvain000
condorCluster1.0780.0151.097
condorCoreEnrich2.2780.0752.682
condorMatrixModularity0.0210.0000.021
condorModularityMax0.0360.0040.041
condorPlotCommunities1.1880.0161.547
condorPlotHeatmap0.2120.0160.293
condorQscore1.1190.0001.170
craneBipartite000
createCondorObject0.0080.0000.008
createPandaStyle0.0000.0000.001
lioness4.6730.0595.302
lionessPy0.0010.0020.003
monster0.0270.0020.029
monsterBereFull4.6520.0075.175
monsterCalculateTmPValues0.020.000.02
monsterCheckDataType0.1410.1000.244
monsterGetTm0.0040.0000.004
monsterHclHeatmapPlot0.6740.0110.792
monsterMonsterNI44.491 0.02748.338
monsterPlotMonsterAnalysis0.0290.0000.029
monsterPrintMonsterAnalysis0.0290.0000.029
monsterTransformationMatrix7.6620.0998.289
monsterTransitionNetworkPlot0.3460.0000.355
monsterTransitionPCAPlot0.2070.0000.208
monsterdTFIPlot0.4930.0000.667
otter0.0030.0000.003
pandaDiffEdges0.0040.0000.004
pandaPy0.0040.0000.004
pandaToAlpaca0.0040.0000.004
pandaToCondorObject0.0030.0000.002
runEgret0.0220.0000.066
sambar2.3290.0363.130
sourcePPI0.0100.0000.022
spider0.0100.0000.018
visPandaInCytoscape0.0000.0000.005