Back to Multiple platform build/check report for BioC 3.20:   simplified   long
ABCDEFGHIJKLM[N]OPQRSTUVWXYZ

This page was generated on 2025-02-06 12:12 -0500 (Thu, 06 Feb 2025).

HostnameOSArch (*)R versionInstalled pkgs
nebbiolo2Linux (Ubuntu 24.04.1 LTS)x86_644.4.2 (2024-10-31) -- "Pile of Leaves" 4753
palomino8Windows Server 2022 Datacenterx644.4.2 (2024-10-31 ucrt) -- "Pile of Leaves" 4501
merida1macOS 12.7.5 Montereyx86_644.4.2 (2024-10-31) -- "Pile of Leaves" 4524
kjohnson1macOS 13.6.6 Venturaarm644.4.2 (2024-10-31) -- "Pile of Leaves" 4476
taishanLinux (openEuler 24.03 LTS)aarch644.4.2 (2024-10-31) -- "Pile of Leaves" 4407
Click on any hostname to see more info about the system (e.g. compilers)      (*) as reported by 'uname -p', except on Windows and Mac OS X

Package 1417/2289HostnameOS / ArchINSTALLBUILDCHECKBUILD BIN
ngsReports 2.8.0  (landing page)
Stevie Pederson
Snapshot Date: 2025-02-03 13:00 -0500 (Mon, 03 Feb 2025)
git_url: https://git.bioconductor.org/packages/ngsReports
git_branch: RELEASE_3_20
git_last_commit: 82b15b1
git_last_commit_date: 2024-10-29 10:36:16 -0500 (Tue, 29 Oct 2024)
nebbiolo2Linux (Ubuntu 24.04.1 LTS) / x86_64  OK    OK    OK  UNNEEDED, same version is already published
palomino8Windows Server 2022 Datacenter / x64  OK    OK    OK    OK  UNNEEDED, same version is already published
merida1macOS 12.7.5 Monterey / x86_64  OK    OK    OK    OK  UNNEEDED, same version is already published
kjohnson1macOS 13.6.6 Ventura / arm64  OK    OK    OK    OK  UNNEEDED, same version is already published
taishanLinux (openEuler 24.03 LTS) / aarch64  OK    OK    OK  


CHECK results for ngsReports on taishan

To the developers/maintainers of the ngsReports package:
- Allow up to 24 hours (and sometimes 48 hours) for your latest push to git@git.bioconductor.org:packages/ngsReports.git to reflect on this report. See Troubleshooting Build Report for more information.
- Use the following Renviron settings to reproduce errors and warnings.
- If 'R CMD check' started to fail recently on the Linux builder(s) over a missing dependency, add the missing dependency to 'Suggests:' in your DESCRIPTION file. See Renviron.bioc for more information.
- See Martin Grigorov's blog post for how to debug Linux ARM64 related issues on a x86_64 host.

raw results


Summary

Package: ngsReports
Version: 2.8.0
Command: /home/biocbuild/R/R/bin/R CMD check --install=check:ngsReports.install-out.txt --library=/home/biocbuild/R/R/site-library --no-vignettes --timings ngsReports_2.8.0.tar.gz
StartedAt: 2025-02-04 09:22:31 -0000 (Tue, 04 Feb 2025)
EndedAt: 2025-02-04 09:26:38 -0000 (Tue, 04 Feb 2025)
EllapsedTime: 246.3 seconds
RetCode: 0
Status:   OK  
CheckDir: ngsReports.Rcheck
Warnings: 0

Command output

##############################################################################
##############################################################################
###
### Running command:
###
###   /home/biocbuild/R/R/bin/R CMD check --install=check:ngsReports.install-out.txt --library=/home/biocbuild/R/R/site-library --no-vignettes --timings ngsReports_2.8.0.tar.gz
###
##############################################################################
##############################################################################


* using log directory ‘/home/biocbuild/bbs-3.20-bioc/meat/ngsReports.Rcheck’
* using R version 4.4.2 (2024-10-31)
* using platform: aarch64-unknown-linux-gnu
* R was compiled by
    aarch64-unknown-linux-gnu-gcc (GCC) 14.2.0
    GNU Fortran (GCC) 12.3.1 (openEuler 12.3.1-36.oe2403)
* running under: openEuler 24.03 (LTS)
* using session charset: UTF-8
* using option ‘--no-vignettes’
* checking for file ‘ngsReports/DESCRIPTION’ ... OK
* this is package ‘ngsReports’ version ‘2.8.0’
* package encoding: UTF-8
* checking package namespace information ... OK
* checking package dependencies ... OK
* checking if this is a source package ... OK
* checking if there is a namespace ... OK
* checking for hidden files and directories ... OK
* checking for portable file names ... OK
* checking for sufficient/correct file permissions ... OK
* checking whether package ‘ngsReports’ can be installed ... OK
* checking installed package size ... OK
* checking package directory ... OK
* checking ‘build’ directory ... OK
* checking DESCRIPTION meta-information ... OK
* checking top-level files ... OK
* checking for left-over files ... OK
* checking index information ... OK
* checking package subdirectories ... OK
* checking code files for non-ASCII characters ... OK
* checking R files for syntax errors ... OK
* checking whether the package can be loaded ... OK
* checking whether the package can be loaded with stated dependencies ... OK
* checking whether the package can be unloaded cleanly ... OK
* checking whether the namespace can be loaded with stated dependencies ... OK
* checking whether the namespace can be unloaded cleanly ... OK
* checking loading without being on the library search path ... OK
* checking dependencies in R code ... OK
* checking S3 generic/method consistency ... OK
* checking replacement functions ... OK
* checking foreign function calls ... OK
* checking R code for possible problems ... OK
* checking Rd files ... OK
* checking Rd metadata ... OK
* checking Rd cross-references ... OK
* checking for missing documentation entries ... OK
* checking for code/documentation mismatches ... OK
* checking Rd \usage sections ... OK
* checking Rd contents ... OK
* checking for unstated dependencies in examples ... OK
* checking contents of ‘data’ directory ... OK
* checking data for non-ASCII characters ... OK
* checking LazyData ... OK
* checking data for ASCII and uncompressed saves ... OK
* checking files in ‘vignettes’ ... OK
* checking examples ... OK
* checking for unstated dependencies in ‘tests’ ... OK
* checking tests ...
  Running ‘testthat.R’
 OK
* checking for unstated dependencies in vignettes ... OK
* checking package vignettes ... OK
* checking running R code from vignettes ... SKIPPED
* checking re-building of vignette outputs ... SKIPPED
* checking PDF version of manual ... OK
* DONE

Status: OK


Installation output

ngsReports.Rcheck/00install.out

##############################################################################
##############################################################################
###
### Running command:
###
###   /home/biocbuild/R/R/bin/R CMD INSTALL ngsReports
###
##############################################################################
##############################################################################


* installing to library ‘/home/biocbuild/R/R-4.4.2/site-library’
* installing *source* package ‘ngsReports’ ...
** using staged installation
** R
** data
*** moving datasets to lazyload DB
** inst
** byte-compile and prepare package for lazy loading
** help
*** installing help indices
*** copying figures
** building package indices
** installing vignettes
** testing if installed package can be loaded from temporary location
** testing if installed package can be loaded from final location
** testing if installed package keeps a record of temporary installation path
* DONE (ngsReports)

Tests output

ngsReports.Rcheck/tests/testthat.Rout


R version 4.4.2 (2024-10-31) -- "Pile of Leaves"
Copyright (C) 2024 The R Foundation for Statistical Computing
Platform: aarch64-unknown-linux-gnu

R is free software and comes with ABSOLUTELY NO WARRANTY.
You are welcome to redistribute it under certain conditions.
Type 'license()' or 'licence()' for distribution details.

R is a collaborative project with many contributors.
Type 'contributors()' for more information and
'citation()' on how to cite R or R packages in publications.

Type 'demo()' for some demos, 'help()' for on-line help, or
'help.start()' for an HTML browser interface to help.
Type 'q()' to quit R.

> library(testthat)
> library(ngsReports)
Loading required package: BiocGenerics

Attaching package: 'BiocGenerics'

The following objects are masked from 'package:stats':

    IQR, mad, sd, var, xtabs

The following objects are masked from 'package:base':

    Filter, Find, Map, Position, Reduce, anyDuplicated, aperm, append,
    as.data.frame, basename, cbind, colnames, dirname, do.call,
    duplicated, eval, evalq, get, grep, grepl, intersect, is.unsorted,
    lapply, mapply, match, mget, order, paste, pmax, pmax.int, pmin,
    pmin.int, rank, rbind, rownames, sapply, saveRDS, setdiff, table,
    tapply, union, unique, unsplit, which.max, which.min

Loading required package: ggplot2
Loading required package: patchwork
Loading required package: tibble
> 
> test_check("ngsReports")
[ FAIL 0 | WARN 0 | SKIP 0 | PASS 387 ]
> 
> proc.time()
   user  system elapsed 
 61.826   1.160  69.694 

Example timings

ngsReports.Rcheck/ngsReports-Ex.timings

nameusersystemelapsed
FastqcData0.0990.0320.290
FastqcDataList0.4540.0411.103
TheoreticalGC-class0.0870.0120.125
dot-FastqcFile-class0.0030.0000.002
dot-addPercent0.0010.0000.000
dot-emptyPlot0.1700.0040.174
dot-makeDendro0.5060.0440.552
dot-makeLabels0.0010.0000.001
dot-splitByTab0.0040.0000.004
estGcDistn0.0270.0000.027
extract-methods0.3860.0120.432
fqName-methods0.3810.0000.381
fqcVersion0.4390.0120.451
gcAvail0.0260.0000.025
gcTheoretical0.0390.0040.043
getColours-methods0.0020.0000.003
getGC0.0210.0000.021
getModule0.4200.0040.424
getSummary0.3880.0160.404
importNgsLogs0.0280.0000.029
importSJ0.0040.0040.008
isCompressed0.0010.0010.002
mData0.0200.0030.023
maxAdapterContent0.4550.0080.464
overRep2Fasta-methods0.3970.0160.419
path0.4690.0320.502
plotAdapterContent-methods3.2010.0673.457
plotAlignmentSummary0.6290.0840.730
plotAssemblyStats0.7070.0401.050
plotBaseQuals-methods1.7190.0321.761
plotDupLevels-methods1.2570.0601.324
plotFastqcPCA-methods0.7090.0040.715
plotGcContent-methods1.0390.0161.059
plotInsertSize-methods0.6640.0230.690
plotKmers-methods1.6950.0171.715
plotNContent-methods0.8870.0160.905
plotOverrep-methods0.8700.0270.904
plotReadTotals-methods0.8770.0040.966
plotSeqContent-methods4.2860.0584.927
plotSeqLengthDistn-methods1.3240.0521.386
plotSeqQuals-methods1.5290.0241.628
plotSummary-methods0.6180.0000.731
pwf0.0050.0000.005
readTotals0.4880.0000.489
summariseOverrep-methods0.8390.0161.193
writeHtmlReport000