Back to Multiple platform build/check report for BioC 3.20:   simplified   long
ABCDEFGHIJKLMN[O]PQRSTUVWXYZ

This page was generated on 2025-02-06 12:08 -0500 (Thu, 06 Feb 2025).

HostnameOSArch (*)R versionInstalled pkgs
nebbiolo2Linux (Ubuntu 24.04.1 LTS)x86_644.4.2 (2024-10-31) -- "Pile of Leaves" 4753
palomino8Windows Server 2022 Datacenterx644.4.2 (2024-10-31 ucrt) -- "Pile of Leaves" 4501
merida1macOS 12.7.5 Montereyx86_644.4.2 (2024-10-31) -- "Pile of Leaves" 4524
kjohnson1macOS 13.6.6 Venturaarm644.4.2 (2024-10-31) -- "Pile of Leaves" 4476
taishanLinux (openEuler 24.03 LTS)aarch644.4.2 (2024-10-31) -- "Pile of Leaves" 4407
Click on any hostname to see more info about the system (e.g. compilers)      (*) as reported by 'uname -p', except on Windows and Mac OS X

Package 1464/2289HostnameOS / ArchINSTALLBUILDCHECKBUILD BIN
ontoProc 2.0.0  (landing page)
Vincent Carey
Snapshot Date: 2025-02-03 13:00 -0500 (Mon, 03 Feb 2025)
git_url: https://git.bioconductor.org/packages/ontoProc
git_branch: RELEASE_3_20
git_last_commit: 34135d3
git_last_commit_date: 2024-10-29 10:23:31 -0500 (Tue, 29 Oct 2024)
nebbiolo2Linux (Ubuntu 24.04.1 LTS) / x86_64  OK    OK    OK  UNNEEDED, same version is already published
palomino8Windows Server 2022 Datacenter / x64  OK    OK    OK    OK  UNNEEDED, same version is already published
merida1macOS 12.7.5 Monterey / x86_64  OK    OK    OK    OK  UNNEEDED, same version is already published
kjohnson1macOS 13.6.6 Ventura / arm64  OK    OK    OK    OK  UNNEEDED, same version is already published
taishanLinux (openEuler 24.03 LTS) / aarch64  OK    OK    ERROR  


CHECK results for ontoProc on merida1

To the developers/maintainers of the ontoProc package:
- Allow up to 24 hours (and sometimes 48 hours) for your latest push to git@git.bioconductor.org:packages/ontoProc.git to reflect on this report. See Troubleshooting Build Report for more information.
- Use the following Renviron settings to reproduce errors and warnings.
- If 'R CMD check' started to fail recently on the Linux builder(s) over a missing dependency, add the missing dependency to 'Suggests:' in your DESCRIPTION file. See Renviron.bioc for more information.

raw results


Summary

Package: ontoProc
Version: 2.0.0
Command: /Library/Frameworks/R.framework/Resources/bin/R CMD check --install=check:ontoProc.install-out.txt --library=/Library/Frameworks/R.framework/Resources/library --no-vignettes --timings ontoProc_2.0.0.tar.gz
StartedAt: 2025-02-04 07:30:39 -0500 (Tue, 04 Feb 2025)
EndedAt: 2025-02-04 07:57:53 -0500 (Tue, 04 Feb 2025)
EllapsedTime: 1634.3 seconds
RetCode: 0
Status:   OK  
CheckDir: ontoProc.Rcheck
Warnings: 0

Command output

##############################################################################
##############################################################################
###
### Running command:
###
###   /Library/Frameworks/R.framework/Resources/bin/R CMD check --install=check:ontoProc.install-out.txt --library=/Library/Frameworks/R.framework/Resources/library --no-vignettes --timings ontoProc_2.0.0.tar.gz
###
##############################################################################
##############################################################################


* using log directory ‘/Users/biocbuild/bbs-3.20-bioc/meat/ontoProc.Rcheck’
* using R version 4.4.2 (2024-10-31)
* using platform: x86_64-apple-darwin20
* R was compiled by
    Apple clang version 14.0.0 (clang-1400.0.29.202)
    GNU Fortran (GCC) 12.2.0
* running under: macOS Monterey 12.7.6
* using session charset: UTF-8
* using option ‘--no-vignettes’
* checking for file ‘ontoProc/DESCRIPTION’ ... OK
* this is package ‘ontoProc’ version ‘2.0.0’
* package encoding: UTF-8
* checking package namespace information ... OK
* checking package dependencies ... OK
* checking if this is a source package ... OK
* checking if there is a namespace ... OK
* checking for hidden files and directories ... OK
* checking for portable file names ... OK
* checking for sufficient/correct file permissions ... OK
* checking whether package ‘ontoProc’ can be installed ... OK
* checking installed package size ... NOTE
  installed size is 10.4Mb
  sub-directories of 1Mb or more:
    app       1.9Mb
    data      1.8Mb
    ontoRda   2.8Mb
    owl       3.3Mb
* checking package directory ... OK
* checking ‘build’ directory ... OK
* checking DESCRIPTION meta-information ... OK
* checking top-level files ... OK
* checking for left-over files ... OK
* checking index information ... OK
* checking package subdirectories ... OK
* checking code files for non-ASCII characters ... OK
* checking R files for syntax errors ... OK
* checking whether the package can be loaded ... OK
* checking whether the package can be loaded with stated dependencies ... OK
* checking whether the package can be unloaded cleanly ... OK
* checking whether the namespace can be loaded with stated dependencies ... OK
* checking whether the namespace can be unloaded cleanly ... OK
* checking dependencies in R code ... OK
* checking S3 generic/method consistency ... OK
* checking replacement functions ... OK
* checking foreign function calls ... OK
* checking R code for possible problems ... NOTE
CLfeat : prupdate: no visible binding for global variable ‘PROSYM’
CLfeat : prupdate: no visible binding for global variable ‘PRID’
CLfeat : prupdate: no visible binding for global variable ‘SYMBOL’
ctmarks : server: no visible binding for global variable ‘text’
ctmarks : server: no visible binding for global variable ‘packDesc2022’
ctmarks : server: no visible binding for global variable ‘packDesc2021’
ctmarks: no visible binding for global variable ‘cumu’
dropStop: no visible binding for global variable ‘stopWords’
getOnto: no visible binding for global variable ‘rdatadateadded’
getOnto: no visible binding for global variable ‘title’
getOnto: no visible binding for global variable ‘description’
ldfToTerm: no visible binding for global variable ‘PROSYM’
sym2CellOnto: no visible binding for global variable ‘PROSYM’
sym2CellOnto: no visible binding for global variable ‘SYMBOL’
Undefined global functions or variables:
  PRID PROSYM SYMBOL cumu description packDesc2021 packDesc2022
  rdatadateadded stopWords text title
Consider adding
  importFrom("graphics", "text", "title")
to your NAMESPACE file.
* checking Rd files ... OK
* checking Rd metadata ... OK
* checking Rd cross-references ... OK
* checking for missing documentation entries ... OK
* checking for code/documentation mismatches ... OK
* checking Rd \usage sections ... NOTE
S3 methods shown with full name in Rd file 'plot.owlents.Rd':
  ‘plot.owlents’

The \usage entries for S3 methods should use the \method markup and not
their full name.
See chapter ‘Writing R documentation files’ in the ‘Writing R
Extensions’ manual.
* checking Rd contents ... OK
* checking for unstated dependencies in examples ... OK
* checking contents of ‘data’ directory ... OK
* checking data for non-ASCII characters ... NOTE
  Note: found 162 marked UTF-8 strings
* checking data for ASCII and uncompressed saves ... OK
* checking files in ‘vignettes’ ... OK
* checking examples ... OK
Examples with CPU (user + system) or elapsed time > 5s
                                   user system elapsed
sym2CellOnto                     68.601  1.575  72.503
CLfeats                          48.540  2.787  54.706
labels.owlents                   44.299  2.293  87.112
siblings_TAG                     42.447  1.845  47.360
owl2cache                        33.760  1.545  58.130
ancestors                        33.054  1.833  36.622
fastGrep                         27.290  1.053  30.127
nomenCheckup                     26.212  1.554  28.740
getLeavesFromTerm                26.793  0.904  49.483
cleanCLOnames                    23.711  0.853  31.619
common_classes                   19.099  1.347  25.902
findCommonAncestors              16.165  0.942  23.783
TermSet-class                    15.802  0.865  17.404
getOnto                          14.336  1.974  33.311
liberalMap                       14.183  1.124  17.363
mapOneNaive                      14.295  0.661  15.748
make_graphNEL_from_ontology_plot 14.052  0.708  16.102
secLevGen                        13.830  0.595  15.098
selectFromMap                    13.492  0.591  14.880
onto_plot2                       13.250  0.619  14.753
plot.owlents                     12.320  0.309  24.650
subclasses                       10.845  0.249  11.949
ancestors_names                  10.395  0.546  11.636
children_names                   10.116  0.241  10.557
setup_entities                   10.043  0.218  10.631
parents                           9.907  0.230  15.471
search_labels                     0.718  0.061 149.029
bioregistry_ols_resources         0.086  0.027  31.861
* checking for unstated dependencies in ‘tests’ ... OK
* checking tests ...
  Running ‘test.R’
 OK
* checking for unstated dependencies in vignettes ... OK
* checking package vignettes ... OK
* checking running R code from vignettes ... SKIPPED
* checking re-building of vignette outputs ... SKIPPED
* checking PDF version of manual ... OK
* DONE

Status: 4 NOTEs
See
  ‘/Users/biocbuild/bbs-3.20-bioc/meat/ontoProc.Rcheck/00check.log’
for details.


Installation output

ontoProc.Rcheck/00install.out

##############################################################################
##############################################################################
###
### Running command:
###
###   /Library/Frameworks/R.framework/Resources/bin/R CMD INSTALL ontoProc
###
##############################################################################
##############################################################################


* installing to library ‘/Library/Frameworks/R.framework/Versions/4.4-x86_64/Resources/library’
* installing *source* package ‘ontoProc’ ...
** using staged installation
** R
** data
** inst
** byte-compile and prepare package for lazy loading
** help
*** installing help indices
** building package indices
** installing vignettes
** testing if installed package can be loaded from temporary location
** testing if installed package can be loaded from final location
** testing if installed package keeps a record of temporary installation path
* DONE (ontoProc)

Tests output

ontoProc.Rcheck/tests/test.Rout


R version 4.4.2 (2024-10-31) -- "Pile of Leaves"
Copyright (C) 2024 The R Foundation for Statistical Computing
Platform: x86_64-apple-darwin20

R is free software and comes with ABSOLUTELY NO WARRANTY.
You are welcome to redistribute it under certain conditions.
Type 'license()' or 'licence()' for distribution details.

R is a collaborative project with many contributors.
Type 'contributors()' for more information and
'citation()' on how to cite R or R packages in publications.

Type 'demo()' for some demos, 'help()' for on-line help, or
'help.start()' for an HTML browser interface to help.
Type 'q()' to quit R.

> 
> library(ontoProc)
Loading required package: ontologyIndex
> library(testthat)
> 
> test_check("ontoProc")
[ FAIL 0 | WARN 0 | SKIP 0 | PASS 12 ]
> 
> 
> proc.time()
   user  system elapsed 
239.826  10.403 261.502 

Example timings

ontoProc.Rcheck/ontoProc-Ex.timings

nameusersystemelapsed
CLfeats48.540 2.78754.706
PROSYM0.4030.0080.430
TermSet-class15.802 0.86517.404
allGOterms0.1580.0030.165
ancestors33.054 1.83336.622
ancestors_names10.395 0.54611.636
bioregistry_ols_resources 0.086 0.02731.861
cellTypeToGO3.3430.2773.842
children_names10.116 0.24110.557
cleanCLOnames23.711 0.85331.619
common_classes19.099 1.34725.902
ctmarks0.0010.0010.001
cyclicSigset0.0160.0020.017
demoApp0.0000.0010.001
dropStop0.0070.0050.014
fastGrep27.290 1.05330.127
findCommonAncestors16.165 0.94223.783
getLeavesFromTerm26.793 0.90449.483
getOnto14.336 1.97433.311
humrna0.0120.0050.027
labels.owlents44.299 2.29387.112
ldfToTerms4.3820.0864.658
liberalMap14.183 1.12417.363
makeSelectInput0.0010.0010.001
make_graphNEL_from_ontology_plot14.052 0.70816.102
mapOneNaive14.295 0.66115.748
minicorpus0.0020.0030.005
nomenCheckup26.212 1.55428.740
onto_plot213.250 0.61914.753
onto_roots0.0000.0010.001
owl2cache33.760 1.54558.130
packDesc20190.0070.0050.022
packDesc20210.0050.0040.009
packDesc20220.0050.0040.025
packDesc20230.0060.0040.022
parents 9.907 0.23015.471
plot.owlents12.320 0.30924.650
recognizedPredicates0.0000.0010.002
search_labels 0.718 0.061149.029
secLevGen13.830 0.59515.098
selectFromMap13.492 0.59114.880
setup_entities10.043 0.21810.631
setup_entities20.7490.0150.777
seur3kTab0.0060.0030.009
siblings_TAG42.447 1.84547.360
stopWords0.0030.0030.006
subclasses10.845 0.24911.949
sym2CellOnto68.601 1.57572.503
valid_ontonames0.0000.0000.002