Back to Multiple platform build/check report for BioC 3.20:   simplified   long
ABCDEFGHIJKLMNO[P]QRSTUVWXYZ

This page was generated on 2025-02-06 12:08 -0500 (Thu, 06 Feb 2025).

HostnameOSArch (*)R versionInstalled pkgs
nebbiolo2Linux (Ubuntu 24.04.1 LTS)x86_644.4.2 (2024-10-31) -- "Pile of Leaves" 4753
palomino8Windows Server 2022 Datacenterx644.4.2 (2024-10-31 ucrt) -- "Pile of Leaves" 4501
merida1macOS 12.7.5 Montereyx86_644.4.2 (2024-10-31) -- "Pile of Leaves" 4524
kjohnson1macOS 13.6.6 Venturaarm644.4.2 (2024-10-31) -- "Pile of Leaves" 4476
taishanLinux (openEuler 24.03 LTS)aarch644.4.2 (2024-10-31) -- "Pile of Leaves" 4407
Click on any hostname to see more info about the system (e.g. compilers)      (*) as reported by 'uname -p', except on Windows and Mac OS X

Package 1601/2289HostnameOS / ArchINSTALLBUILDCHECKBUILD BIN
pRoloc 1.46.0  (landing page)
Laurent Gatto
Snapshot Date: 2025-02-03 13:00 -0500 (Mon, 03 Feb 2025)
git_url: https://git.bioconductor.org/packages/pRoloc
git_branch: RELEASE_3_20
git_last_commit: 964ee99
git_last_commit_date: 2024-10-29 09:43:39 -0500 (Tue, 29 Oct 2024)
nebbiolo2Linux (Ubuntu 24.04.1 LTS) / x86_64  OK    OK    OK  UNNEEDED, same version is already published
palomino8Windows Server 2022 Datacenter / x64  OK    OK    OK    OK  UNNEEDED, same version is already published
merida1macOS 12.7.5 Monterey / x86_64  OK    OK    OK    OK  UNNEEDED, same version is already published
kjohnson1macOS 13.6.6 Ventura / arm64  OK    OK    OK    OK  UNNEEDED, same version is already published
taishanLinux (openEuler 24.03 LTS) / aarch64  OK    OK    OK  


CHECK results for pRoloc on merida1

To the developers/maintainers of the pRoloc package:
- Allow up to 24 hours (and sometimes 48 hours) for your latest push to git@git.bioconductor.org:packages/pRoloc.git to reflect on this report. See Troubleshooting Build Report for more information.
- Use the following Renviron settings to reproduce errors and warnings.
- If 'R CMD check' started to fail recently on the Linux builder(s) over a missing dependency, add the missing dependency to 'Suggests:' in your DESCRIPTION file. See Renviron.bioc for more information.

raw results


Summary

Package: pRoloc
Version: 1.46.0
Command: /Library/Frameworks/R.framework/Resources/bin/R CMD check --install=check:pRoloc.install-out.txt --library=/Library/Frameworks/R.framework/Resources/library --no-vignettes --timings pRoloc_1.46.0.tar.gz
StartedAt: 2025-02-04 08:16:03 -0500 (Tue, 04 Feb 2025)
EndedAt: 2025-02-04 08:36:13 -0500 (Tue, 04 Feb 2025)
EllapsedTime: 1209.3 seconds
RetCode: 0
Status:   OK  
CheckDir: pRoloc.Rcheck
Warnings: 0

Command output

##############################################################################
##############################################################################
###
### Running command:
###
###   /Library/Frameworks/R.framework/Resources/bin/R CMD check --install=check:pRoloc.install-out.txt --library=/Library/Frameworks/R.framework/Resources/library --no-vignettes --timings pRoloc_1.46.0.tar.gz
###
##############################################################################
##############################################################################


* using log directory ‘/Users/biocbuild/bbs-3.20-bioc/meat/pRoloc.Rcheck’
* using R version 4.4.2 (2024-10-31)
* using platform: x86_64-apple-darwin20
* R was compiled by
    Apple clang version 14.0.0 (clang-1400.0.29.202)
    GNU Fortran (GCC) 12.2.0
* running under: macOS Monterey 12.7.6
* using session charset: UTF-8
* using option ‘--no-vignettes’
* checking for file ‘pRoloc/DESCRIPTION’ ... OK
* checking extension type ... Package
* this is package ‘pRoloc’ version ‘1.46.0’
* package encoding: UTF-8
* checking package namespace information ... OK
* checking package dependencies ... OK
* checking if this is a source package ... OK
* checking if there is a namespace ... OK
* checking for hidden files and directories ... OK
* checking for portable file names ... OK
* checking for sufficient/correct file permissions ... OK
* checking whether package ‘pRoloc’ can be installed ... OK
* used C++ compiler: ‘Apple clang version 14.0.0 (clang-1400.0.29.202)’
* used SDK: ‘MacOSX11.3.sdk’
* checking installed package size ... OK
* checking package directory ... OK
* checking ‘build’ directory ... OK
* checking DESCRIPTION meta-information ... OK
* checking top-level files ... OK
* checking for left-over files ... OK
* checking index information ... OK
* checking package subdirectories ... OK
* checking code files for non-ASCII characters ... OK
* checking R files for syntax errors ... OK
* checking whether the package can be loaded ... OK
* checking whether the package can be loaded with stated dependencies ... OK
* checking whether the package can be unloaded cleanly ... OK
* checking whether the namespace can be loaded with stated dependencies ... OK
* checking whether the namespace can be unloaded cleanly ... OK
* checking whether startup messages can be suppressed ... OK
* checking dependencies in R code ... NOTE
':::' calls which should be '::':
  ‘MLInterfaces:::.macroF1’ ‘MLInterfaces:::.precision’
  ‘MLInterfaces:::.recall’ ‘MLInterfaces:::es2df’
  See the note in ?`:::` about the use of this operator.
Unexported object imported by a ':::' call: ‘caret:::predict.plsda’
  See the note in ?`:::` about the use of this operator.
There are ::: calls to the package's namespace in its code. A package
  almost never needs to use ::: for its own objects:
  ‘getAttributesOfInterest0’ ‘getAttributesOfInterestX’
* checking S3 generic/method consistency ... OK
* checking replacement functions ... OK
* checking foreign function calls ... OK
* checking R code for possible problems ... NOTE
Found the following possibly unsafe calls:
File ‘pRoloc/R/annotation.R’:
  unlockBinding("params", .pRolocEnv)
* checking Rd files ... OK
* checking Rd metadata ... OK
* checking Rd cross-references ... OK
* checking for missing documentation entries ... OK
* checking for code/documentation mismatches ... OK
* checking Rd \usage sections ... OK
* checking Rd contents ... OK
* checking for unstated dependencies in examples ... OK
* checking contents of ‘data’ directory ... OK
* checking data for non-ASCII characters ... OK
* checking data for ASCII and uncompressed saves ... OK
* checking line endings in C/C++/Fortran sources/headers ... OK
* checking line endings in Makefiles ... OK
* checking compilation flags in Makevars ... OK
* checking for GNU extensions in Makefiles ... OK
* checking for portable use of $(BLAS_LIBS) and $(LAPACK_LIBS) ... OK
* checking use of PKG_*FLAGS in Makefiles ... OK
* checking compiled code ... NOTE
Note: information on .o files is not available
* checking files in ‘vignettes’ ... OK
* checking examples ... OK
Examples with CPU (user + system) or elapsed time > 5s
                         user system elapsed
perTurboClassification 28.484  0.343  30.188
svmClassification      12.805  0.157  13.705
ksvmClassification     11.292  0.283  12.127
SpatProtVis-class      10.845  0.310  12.043
rfClassification       10.360  0.282  11.380
nnetClassification     10.181  0.093  10.867
ClustDist-class         7.719  0.486  10.980
ClustDistList-class     7.548  0.249   9.490
clustDist               7.128  0.307   9.009
nbClassification        6.596  0.127   7.110
addGoAnnotations        6.236  0.257   8.376
AnnotationParams-class  1.563  0.079   9.632
* checking for unstated dependencies in ‘tests’ ... OK
* checking tests ...
  Running ‘testthat.R’
 OK
* checking for unstated dependencies in vignettes ... OK
* checking package vignettes ... OK
* checking running R code from vignettes ... SKIPPED
* checking re-building of vignette outputs ... SKIPPED
* checking PDF version of manual ... OK
* DONE

Status: 3 NOTEs
See
  ‘/Users/biocbuild/bbs-3.20-bioc/meat/pRoloc.Rcheck/00check.log’
for details.


Installation output

pRoloc.Rcheck/00install.out

##############################################################################
##############################################################################
###
### Running command:
###
###   /Library/Frameworks/R.framework/Resources/bin/R CMD INSTALL pRoloc
###
##############################################################################
##############################################################################


* installing to library ‘/Library/Frameworks/R.framework/Versions/4.4-x86_64/Resources/library’
* installing *source* package ‘pRoloc’ ...
** using staged installation
** libs
using C++ compiler: ‘Apple clang version 14.0.0 (clang-1400.0.29.202)’
using SDK: ‘MacOSX11.3.sdk’
clang++ -arch x86_64 -std=gnu++17 -I"/Library/Frameworks/R.framework/Resources/include" -DNDEBUG  -I'/Library/Frameworks/R.framework/Versions/4.4-x86_64/Resources/library/Rcpp/include' -I'/Library/Frameworks/R.framework/Versions/4.4-x86_64/Resources/library/RcppArmadillo/include' -I/opt/R/x86_64/include    -fPIC  -falign-functions=64 -Wall -g -O2   -c RcppExports.cpp -o RcppExports.o
clang++ -arch x86_64 -std=gnu++17 -I"/Library/Frameworks/R.framework/Resources/include" -DNDEBUG  -I'/Library/Frameworks/R.framework/Versions/4.4-x86_64/Resources/library/Rcpp/include' -I'/Library/Frameworks/R.framework/Versions/4.4-x86_64/Resources/library/RcppArmadillo/include' -I/opt/R/x86_64/include    -fPIC  -falign-functions=64 -Wall -g -O2   -c dmvtCpp.cpp -o dmvtCpp.o
clang++ -arch x86_64 -std=gnu++17 -I"/Library/Frameworks/R.framework/Resources/include" -DNDEBUG  -I'/Library/Frameworks/R.framework/Versions/4.4-x86_64/Resources/library/Rcpp/include' -I'/Library/Frameworks/R.framework/Versions/4.4-x86_64/Resources/library/RcppArmadillo/include' -I/opt/R/x86_64/include    -fPIC  -falign-functions=64 -Wall -g -O2   -c pRoloc.cpp -o pRoloc.o
clang++ -arch x86_64 -std=gnu++17 -dynamiclib -Wl,-headerpad_max_install_names -undefined dynamic_lookup -L/Library/Frameworks/R.framework/Resources/lib -L/opt/R/x86_64/lib -o pRoloc.so RcppExports.o dmvtCpp.o pRoloc.o -L/Library/Frameworks/R.framework/Resources/lib -lRlapack -L/Library/Frameworks/R.framework/Resources/lib -lRblas -L/opt/gfortran/lib/gcc/x86_64-apple-darwin20.0/12.2.0 -L/opt/gfortran/lib -lgfortran -lquadmath -F/Library/Frameworks/R.framework/.. -framework R -Wl,-framework -Wl,CoreFoundation
installing to /Library/Frameworks/R.framework/Versions/4.4-x86_64/Resources/library/00LOCK-pRoloc/00new/pRoloc/libs
** R
** data
** inst
** byte-compile and prepare package for lazy loading
** help
*** installing help indices
** building package indices
** installing vignettes
** testing if installed package can be loaded from temporary location
** checking absolute paths in shared objects and dynamic libraries
** testing if installed package can be loaded from final location
** testing if installed package keeps a record of temporary installation path
* DONE (pRoloc)

Tests output

pRoloc.Rcheck/tests/testthat.Rout


R version 4.4.2 (2024-10-31) -- "Pile of Leaves"
Copyright (C) 2024 The R Foundation for Statistical Computing
Platform: x86_64-apple-darwin20

R is free software and comes with ABSOLUTELY NO WARRANTY.
You are welcome to redistribute it under certain conditions.
Type 'license()' or 'licence()' for distribution details.

R is a collaborative project with many contributors.
Type 'contributors()' for more information and
'citation()' on how to cite R or R packages in publications.

Type 'demo()' for some demos, 'help()' for on-line help, or
'help.start()' for an HTML browser interface to help.
Type 'q()' to quit R.

> 
> # The setting of R_TESTS exists to work around an R bug. See
> # https://github.com/hadley/testthat/issues/144
> # We should remove it when the issue is resolved.
> Sys.setenv("R_TESTS" = "")
> 
> library("testthat")
> library("pRoloc")
Loading required package: MSnbase
Loading required package: BiocGenerics

Attaching package: 'BiocGenerics'

The following objects are masked from 'package:stats':

    IQR, mad, sd, var, xtabs

The following objects are masked from 'package:base':

    Filter, Find, Map, Position, Reduce, anyDuplicated, aperm, append,
    as.data.frame, basename, cbind, colnames, dirname, do.call,
    duplicated, eval, evalq, get, grep, grepl, intersect, is.unsorted,
    lapply, mapply, match, mget, order, paste, pmax, pmax.int, pmin,
    pmin.int, rank, rbind, rownames, sapply, saveRDS, setdiff, table,
    tapply, union, unique, unsplit, which.max, which.min

Loading required package: Biobase
Welcome to Bioconductor

    Vignettes contain introductory material; view with
    'browseVignettes()'. To cite Bioconductor, see
    'citation("Biobase")', and for packages 'citation("pkgname")'.

Loading required package: mzR
Loading required package: Rcpp
Loading required package: S4Vectors
Loading required package: stats4

Attaching package: 'S4Vectors'

The following object is masked from 'package:utils':

    findMatches

The following objects are masked from 'package:base':

    I, expand.grid, unname

Loading required package: ProtGenerics

Attaching package: 'ProtGenerics'

The following object is masked from 'package:stats':

    smooth


This is MSnbase version 2.32.0 
  Visit https://lgatto.github.io/MSnbase/ to get started.
 Consider switching to the 'R for Mass Spectrometry'
 packages - see https://RforMassSpectrometry.org for details.


Attaching package: 'MSnbase'

The following object is masked from 'package:base':

    trimws

Loading required package: MLInterfaces
Loading required package: annotate
Loading required package: AnnotationDbi
Loading required package: IRanges
Loading required package: XML

Attaching package: 'annotate'

The following object is masked from 'package:mzR':

    nChrom

Loading required package: cluster
Loading required package: BiocParallel

This is pRoloc version 1.46.0 
  Visit https://lgatto.github.io/pRoloc/ to get started.

> library("pRolocdata")

This is pRolocdata version 1.44.0.
Use 'pRolocdata()' to list available data sets.
> 
> test_check("pRoloc")
Object of class "SpatProtVis"
 Data: dunkley2006 
 Visualisation methods: PCA, MDS, kpca
Done.
Connecting to Biomart...
Object of class "AnnotationParams"
 Using the 'ENSEMBL_MART_ENSEMBL' BioMart database
 Using the 'hsapiens_gene_ensembl' dataset
 Using 'uniprotswissprot' as filter
 Created on Tue Feb  4 08:33:07 2025
GO Term Evidence Code
 Experimental Evidence Codes
  EXP: Inferred from Experiment
   IDA: Inferred from Direct Assay
   IPI: Inferred from Physical Interaction
   IMP: Inferred from Mutant Phenotype
   IGI: Inferred from Genetic Interaction
   IEP: Inferred from Expression Pattern
 Computational Analysis Evidence Codes
  ISS: Inferred from Sequence or Structural Similarity
   ISO: Inferred from Sequence Orthology
   ISA: Inferred from Sequence Alignment
   ISM: Inferred from Sequence Model
   IGC: Inferred from Genomic Context
   IBA: Inferred from Biological aspect of Ancestor
   IBD: Inferred from Biological aspect of Descendant
   IKR: Inferred from Key Residues
   IRD: Inferred from Rapid Divergence
   RCA: inferred from Reviewed Computational Analysis
 Author Statement Evidence Codes
   TAS: Traceable Author Statement
   NAS: Non-traceable Author Statement
 Curator Statement Evidence Codes
   IC: Inferred by Curator
   ND: No biological Data available
 Automatically-assigned Evidence Codes
   IEA: Inferred from Electronic Annotation
 Obsolete Evidence Codes
   NR: Not Recorded
Connecting to Biomart...
organelleMarkers
ORG1 ORG2 ORG3 ORG4 ORG5 
   3    2    3    1    1 
organelleMarkers
ORG1 ORG2 ORG3 ORG4 ORG5 
   5    2    1    1    1 
organelleMarkers
   ORG1 unknown 
      3       7 
organelleMarkers
   ORG1 unknown 
      2       8 
[1] "markers"
[1] "xx"
[1] "markers"
[1] "xx"
[1] "markers"
[1] "xx"
[1] "markers"
# weights:  269
initial  value 666.839513 
iter  10 value 207.573433
iter  20 value 34.513121
iter  30 value 1.438035
iter  40 value 0.496168
iter  50 value 0.419018
iter  60 value 0.386372
iter  70 value 0.360129
iter  80 value 0.324298
iter  90 value 0.294123
iter 100 value 0.252996
final  value 0.252996 
stopped after 100 iterations
[1] "xx"
# weights:  269
initial  value 666.839513 
iter  10 value 207.573433
iter  20 value 34.513121
iter  30 value 1.438035
iter  40 value 0.496168
iter  50 value 0.419018
iter  60 value 0.386372
iter  70 value 0.360129
iter  80 value 0.324298
iter  90 value 0.294123
iter 100 value 0.252996
final  value 0.252996 
stopped after 100 iterations
[1] "markers"
[1] "xx"
[1] "pd.markers"
Common markers:  0 
Unique x markers:  49 
Unique y markers:  34 
Common unkowns:  11 
Unique x unknowns:  40 
Unique y unknowns:  66 
               my
mx              ER lumen ER membrane Golgi Mitochondrion  PM Plastid Ribosome
  ER lumen            14           0     0             0   0       0        0
  ER membrane          0          45     0             0   0       0        0
  Golgi                0           0    28             0   0       0        0
  Mitochondrion        0           0     0            55   0       0        0
  PM                   0           0     0             0  46       0        0
  Plastid              0           0     0             0   0      20        0
  Ribosome             0           0     0             0   0       0       19
  TGN                  0           0     0             0   0       0        0
  unknown              0           0     0             0   0       0        0
  vacuole              0           0     0             0   0       0        0
               my
mx              TGN unknown vacuole
  ER lumen        0       0       0
  ER membrane     0       0       0
  Golgi           0       0       0
  Mitochondrion   0       0       0
  PM              0       0       0
  Plastid         0       0       0
  Ribosome        0       0       0
  TGN            13       0       0
  unknown         0     428       0
  vacuole         0       0      21
[ FAIL 0 | WARN 7 | SKIP 0 | PASS 146 ]

[ FAIL 0 | WARN 7 | SKIP 0 | PASS 146 ]
> 
> proc.time()
   user  system elapsed 
199.644   7.052 221.681 

Example timings

pRoloc.Rcheck/pRoloc-Ex.timings

nameusersystemelapsed
AnnotationParams-class1.5630.0799.632
ClustDist-class 7.719 0.48610.980
ClustDistList-class7.5480.2499.490
GenRegRes-class0.0020.0030.007
QSep-class0.6480.0580.773
SpatProtVis-class10.845 0.31012.043
addGoAnnotations6.2360.2578.376
addMarkers0.3680.0140.394
checkFeatureNamesOverlap0.6700.0200.718
checkFvarOverlap0.0530.0090.069
chi2-methods0.0110.0020.016
classWeights0.2290.0150.256
clustDist7.1280.3079.009
empPvalues0.2130.0020.222
fDataToUnknown0.0930.0080.108
filterBinMSnSet0.3650.0060.389
filterZeroCols0.1480.0120.169
getGOFromFeatures0.6970.0550.786
getMarkerClasses0.0700.0070.084
getMarkers0.0750.0100.089
getPredictions0.5760.0410.647
getStockcol0.1810.0270.217
goIdToTerm3.0920.0943.329
highlightOnPlot0.6260.0370.718
knnClassification2.9790.1733.368
knntlClassification000
ksvmClassification11.292 0.28312.127
makeGoSet1.3060.0641.432
markerMSnSet0.5520.0130.587
markers0.1270.0090.139
minMarkers0.0920.0090.106
mixing_posterior_check0.0010.0010.001
move2Ds4.3640.2324.856
mrkConsProfiles0.4370.0200.533
mrkHClust0.1490.0090.162
nbClassification6.5960.1277.110
nicheMeans2D0.0000.0010.001
nndist-methods0.3770.0320.438
nnetClassification10.181 0.09310.867
orgQuants0.4220.0140.452
pRolocmarkers0.0520.0420.099
perTurboClassification28.484 0.34330.188
phenoDisco0.0000.0010.001
plot2D4.4880.1734.929
plot2Ds0.7960.1621.026
plotConsProfiles0.9090.0161.012
plotDist0.3290.0120.415
plsdaClassification0.0000.0000.001
rfClassification10.360 0.28211.380
sampleMSnSet0.1190.0100.140
showGOEvidenceCodes0.0010.0030.004
spatial2D0.0000.0000.001
svmClassification12.805 0.15713.705
testMSnSet0.6470.0100.690
testMarkers0.0490.0080.060
thetas0.0120.0050.017
zerosInBinMSnSet3.7290.2764.212