Back to Multiple platform build/check report for BioC 3.20:   simplified   long
ABCDEFGHIJKLMNO[P]QRSTUVWXYZ

This page was generated on 2025-02-06 12:08 -0500 (Thu, 06 Feb 2025).

HostnameOSArch (*)R versionInstalled pkgs
nebbiolo2Linux (Ubuntu 24.04.1 LTS)x86_644.4.2 (2024-10-31) -- "Pile of Leaves" 4753
palomino8Windows Server 2022 Datacenterx644.4.2 (2024-10-31 ucrt) -- "Pile of Leaves" 4501
merida1macOS 12.7.5 Montereyx86_644.4.2 (2024-10-31) -- "Pile of Leaves" 4524
kjohnson1macOS 13.6.6 Venturaarm644.4.2 (2024-10-31) -- "Pile of Leaves" 4476
taishanLinux (openEuler 24.03 LTS)aarch644.4.2 (2024-10-31) -- "Pile of Leaves" 4407
Click on any hostname to see more info about the system (e.g. compilers)      (*) as reported by 'uname -p', except on Windows and Mac OS X

Package 1613/2289HostnameOS / ArchINSTALLBUILDCHECKBUILD BIN
psichomics 1.32.0  (landing page)
Nuno Saraiva-Agostinho
Snapshot Date: 2025-02-03 13:00 -0500 (Mon, 03 Feb 2025)
git_url: https://git.bioconductor.org/packages/psichomics
git_branch: RELEASE_3_20
git_last_commit: e9a5f73
git_last_commit_date: 2024-10-29 10:15:03 -0500 (Tue, 29 Oct 2024)
nebbiolo2Linux (Ubuntu 24.04.1 LTS) / x86_64  OK    OK    OK  UNNEEDED, same version is already published
palomino8Windows Server 2022 Datacenter / x64  OK    OK    OK    OK  UNNEEDED, same version is already published
merida1macOS 12.7.5 Monterey / x86_64  OK    OK    OK    OK  UNNEEDED, same version is already published
kjohnson1macOS 13.6.6 Ventura / arm64  OK    OK    OK    OK  UNNEEDED, same version is already published
taishanLinux (openEuler 24.03 LTS) / aarch64  OK    OK    OK  


CHECK results for psichomics on merida1

To the developers/maintainers of the psichomics package:
- Allow up to 24 hours (and sometimes 48 hours) for your latest push to git@git.bioconductor.org:packages/psichomics.git to reflect on this report. See Troubleshooting Build Report for more information.
- Use the following Renviron settings to reproduce errors and warnings.
- If 'R CMD check' started to fail recently on the Linux builder(s) over a missing dependency, add the missing dependency to 'Suggests:' in your DESCRIPTION file. See Renviron.bioc for more information.

raw results


Summary

Package: psichomics
Version: 1.32.0
Command: /Library/Frameworks/R.framework/Resources/bin/R CMD check --install=check:psichomics.install-out.txt --library=/Library/Frameworks/R.framework/Resources/library --no-vignettes --timings psichomics_1.32.0.tar.gz
StartedAt: 2025-02-04 08:19:20 -0500 (Tue, 04 Feb 2025)
EndedAt: 2025-02-04 08:35:46 -0500 (Tue, 04 Feb 2025)
EllapsedTime: 985.9 seconds
RetCode: 0
Status:   OK  
CheckDir: psichomics.Rcheck
Warnings: 0

Command output

##############################################################################
##############################################################################
###
### Running command:
###
###   /Library/Frameworks/R.framework/Resources/bin/R CMD check --install=check:psichomics.install-out.txt --library=/Library/Frameworks/R.framework/Resources/library --no-vignettes --timings psichomics_1.32.0.tar.gz
###
##############################################################################
##############################################################################


* using log directory ‘/Users/biocbuild/bbs-3.20-bioc/meat/psichomics.Rcheck’
* using R version 4.4.2 (2024-10-31)
* using platform: x86_64-apple-darwin20
* R was compiled by
    Apple clang version 14.0.0 (clang-1400.0.29.202)
    GNU Fortran (GCC) 12.2.0
* running under: macOS Monterey 12.7.6
* using session charset: UTF-8
* using option ‘--no-vignettes’
* checking for file ‘psichomics/DESCRIPTION’ ... OK
* this is package ‘psichomics’ version ‘1.32.0’
* package encoding: UTF-8
* checking package namespace information ... OK
* checking package dependencies ... OK
* checking if this is a source package ... OK
* checking if there is a namespace ... OK
* checking for hidden files and directories ... NOTE
Found the following hidden files and directories:
  .devcontainer
These were most likely included in error. See section ‘Package
structure’ in the ‘Writing R Extensions’ manual.
* checking for portable file names ... OK
* checking for sufficient/correct file permissions ... OK
* checking whether package ‘psichomics’ can be installed ... OK
* used C++ compiler: ‘Apple clang version 14.0.0 (clang-1400.0.29.202)’
* used SDK: ‘MacOSX11.3.sdk’
* checking installed package size ... OK
* checking package directory ... OK
* checking ‘build’ directory ... OK
* checking DESCRIPTION meta-information ... OK
* checking top-level files ... OK
* checking for left-over files ... OK
* checking index information ... OK
* checking package subdirectories ... OK
* checking code files for non-ASCII characters ... OK
* checking R files for syntax errors ... OK
* checking whether the package can be loaded ... OK
* checking whether the package can be loaded with stated dependencies ... OK
* checking whether the package can be unloaded cleanly ... OK
* checking whether the namespace can be loaded with stated dependencies ... OK
* checking whether the namespace can be unloaded cleanly ... OK
* checking whether startup messages can be suppressed ... OK
* checking dependencies in R code ... OK
* checking S3 generic/method consistency ... OK
* checking replacement functions ... OK
* checking foreign function calls ... OK
* checking R code for possible problems ... OK
* checking Rd files ... OK
* checking Rd metadata ... OK
* checking Rd cross-references ... OK
* checking for missing documentation entries ... OK
* checking for code/documentation mismatches ... OK
* checking Rd \usage sections ... NOTE
Documented arguments not in \usage in Rd file 'createSparklines.Rd':
  ‘id’

Documented arguments not in \usage in Rd file 'renderGeneticInfo.Rd':
  ‘ns’

Functions with \usage entries need to have the appropriate \alias
entries, and all their arguments documented.
The \usage entries must correspond to syntactically valid R code.
See chapter ‘Writing R documentation files’ in the ‘Writing R
Extensions’ manual.
* checking Rd contents ... OK
* checking for unstated dependencies in examples ... OK
* checking line endings in C/C++/Fortran sources/headers ... OK
* checking compiled code ... NOTE
Note: information on .o files is not available
* checking files in ‘vignettes’ ... OK
* checking examples ... OK
Examples with CPU (user + system) or elapsed time > 5s
                          user system elapsed
convertGeneIdentifiers  25.529  2.804  38.305
listSplicingAnnotations 21.932  2.051  26.097
loadAnnotation           5.574  0.513   6.989
listAllAnnotations       4.561  0.533   6.015
queryEnsemblByGene       0.209  0.054   5.690
* checking for unstated dependencies in ‘tests’ ... OK
* checking tests ...
  Running ‘spelling.R’
  Running ‘testthat.R’
 OK
* checking for unstated dependencies in vignettes ... OK
* checking package vignettes ... OK
* checking running R code from vignettes ... SKIPPED
* checking re-building of vignette outputs ... SKIPPED
* checking PDF version of manual ... OK
* DONE

Status: 3 NOTEs
See
  ‘/Users/biocbuild/bbs-3.20-bioc/meat/psichomics.Rcheck/00check.log’
for details.


Installation output

psichomics.Rcheck/00install.out

##############################################################################
##############################################################################
###
### Running command:
###
###   /Library/Frameworks/R.framework/Resources/bin/R CMD INSTALL psichomics
###
##############################################################################
##############################################################################


* installing to library ‘/Library/Frameworks/R.framework/Versions/4.4-x86_64/Resources/library’
* installing *source* package ‘psichomics’ ...
** using staged installation
** libs
using C++ compiler: ‘Apple clang version 14.0.0 (clang-1400.0.29.202)’
using SDK: ‘MacOSX11.3.sdk’
clang++ -arch x86_64 -std=gnu++17 -I"/Library/Frameworks/R.framework/Resources/include" -DNDEBUG  -I'/Library/Frameworks/R.framework/Versions/4.4-x86_64/Resources/library/Rcpp/include' -I/opt/R/x86_64/include    -fPIC  -falign-functions=64 -Wall -g -O2   -c RcppExports.cpp -o RcppExports.o
clang++ -arch x86_64 -std=gnu++17 -I"/Library/Frameworks/R.framework/Resources/include" -DNDEBUG  -I'/Library/Frameworks/R.framework/Versions/4.4-x86_64/Resources/library/Rcpp/include' -I/opt/R/x86_64/include    -fPIC  -falign-functions=64 -Wall -g -O2   -c progressBar.cpp -o progressBar.o
clang++ -arch x86_64 -std=gnu++17 -I"/Library/Frameworks/R.framework/Resources/include" -DNDEBUG  -I'/Library/Frameworks/R.framework/Versions/4.4-x86_64/Resources/library/Rcpp/include' -I/opt/R/x86_64/include    -fPIC  -falign-functions=64 -Wall -g -O2   -c psiFastCalc.cpp -o psiFastCalc.o
clang++ -arch x86_64 -std=gnu++17 -I"/Library/Frameworks/R.framework/Resources/include" -DNDEBUG  -I'/Library/Frameworks/R.framework/Versions/4.4-x86_64/Resources/library/Rcpp/include' -I/opt/R/x86_64/include    -fPIC  -falign-functions=64 -Wall -g -O2   -c vastToolsParser.cpp -o vastToolsParser.o
clang++ -arch x86_64 -std=gnu++17 -dynamiclib -Wl,-headerpad_max_install_names -undefined dynamic_lookup -L/Library/Frameworks/R.framework/Resources/lib -L/opt/R/x86_64/lib -o psichomics.so RcppExports.o progressBar.o psiFastCalc.o vastToolsParser.o -F/Library/Frameworks/R.framework/.. -framework R -Wl,-framework -Wl,CoreFoundation
installing to /Library/Frameworks/R.framework/Versions/4.4-x86_64/Resources/library/00LOCK-psichomics/00new/psichomics/libs
** R
** inst
** byte-compile and prepare package for lazy loading
Creating a generic function for ‘colSums’ from package ‘base’ in package ‘psichomics’
** help
*** installing help indices
*** copying figures
** building package indices
** installing vignettes
** testing if installed package can be loaded from temporary location
** checking absolute paths in shared objects and dynamic libraries
** testing if installed package can be loaded from final location
** testing if installed package keeps a record of temporary installation path
* DONE (psichomics)

Tests output

psichomics.Rcheck/tests/spelling.Rout


R version 4.4.2 (2024-10-31) -- "Pile of Leaves"
Copyright (C) 2024 The R Foundation for Statistical Computing
Platform: x86_64-apple-darwin20

R is free software and comes with ABSOLUTELY NO WARRANTY.
You are welcome to redistribute it under certain conditions.
Type 'license()' or 'licence()' for distribution details.

R is a collaborative project with many contributors.
Type 'contributors()' for more information and
'citation()' on how to cite R or R packages in publications.

Type 'demo()' for some demos, 'help()' for on-line help, or
'help.start()' for an HTML browser interface to help.
Type 'q()' to quit R.

> if(requireNamespace('spelling', quietly = TRUE))
+   spelling::spell_check_test(vignettes = TRUE, error = FALSE,
+                              skip_on_cran = TRUE)
NULL
> 
> proc.time()
   user  system elapsed 
  0.356   0.118   0.471 

psichomics.Rcheck/tests/testthat.Rout


R version 4.4.2 (2024-10-31) -- "Pile of Leaves"
Copyright (C) 2024 The R Foundation for Statistical Computing
Platform: x86_64-apple-darwin20

R is free software and comes with ABSOLUTELY NO WARRANTY.
You are welcome to redistribute it under certain conditions.
Type 'license()' or 'licence()' for distribution details.

R is a collaborative project with many contributors.
Type 'contributors()' for more information and
'citation()' on how to cite R or R packages in publications.

Type 'demo()' for some demos, 'help()' for on-line help, or
'help.start()' for an HTML browser interface to help.
Type 'q()' to quit R.

> library(testthat)
> library(psichomics)
Loading required package: shiny
Loading required package: shinyBS
Setting options('download.file.method.GEOquery'='auto')
Setting options('GEOquery.inmemory.gpl'=FALSE)

psichomics 1.32.0: start the visual interface by running psichomics()
Full documentation and tutorials at https://nuno-agostinho.github.io/psichomics
> 
> test_check("psichomics")
  |                                        |   0% 
  |========                                |  20% 
  |================                        |  40% 
  |========================                |  60% 
  |================================        |  80% 
  |========================================| 100% 
  |                                        |   0% 
  |========                                |  20% 
  |================                        |  40% 
  |========================                |  60% 
  |================================        |  80% 
  |========================================| 100% 
  |                                        |   0% 
  |========                                |  20% 
  |================                        |  40% 
  |========================                |  60% 
  |================================        |  80% 
  |========================================| 100% 
  |                                        |   0% 
  |========                                |  20% 
  |================                        |  40% 
  |========================                |  60% 
  |================================        |  80% 
  |========================================| 100% 





























Retrieving rMATS annotation...

Parsing rMATS annotation...

Retrieving rMATS annotation...

Parsing rMATS annotation...

Retrieving MISO annotation...

Parsing MISO annotation...
  |                                        |   0% 
  |========                                |  20% 
  |================                        |  40% 
  |========================                |  60% 
  |================================        |  80% 
  |========================================| 100% 
  |                                        |   0% 
  |========                                |  20% 
  |================                        |  40% 
  |========================                |  60% 
  |================================        |  80% 
  |========================================| 100% 
  |                                        |   0% 
  |========                                |  20% 
  |================                        |  40% 
  |========================                |  60% 
  |================================        |  80% 
  |========================================| 100% 
  |                                        |   0% 
  |========                                |  20% 
  |================                        |  40% 
  |========================                |  60% 
  |================================        |  80% 
  |========================================| 100% 
  |                                        |   0% 
  |========                                |  20% 
  |================                        |  40% 
  |========================                |  60% 
  |================================        |  80% 
  |========================================| 100% 
  |                                        |   0% 
  |========                                |  20% 
  |================                        |  40% 
  |========================                |  60% 
  |================================        |  80% 
  |========================================| 100% 
  |                                        |   0% 
  |========                                |  20% 
  |================                        |  40% 
  |========================                |  60% 
  |================================        |  80% 
  |========================================| 100% 
  |                                        |   0% 
  |========                                |  20% 
  |================                        |  40% 
  |========================                |  60% 
  |================================        |  80% 
  |========================================| 100% 

Retrieving SUPPA annotation...

Parsing SUPPA annotation...

Retrieving VAST-TOOLS annotation...

Parsing VAST-TOOLS annotation...

ALT3

ALT5

COMBI

EXSK

IR

MERGE3m

MIC

MULTI
[ FAIL 0 | WARN 0 | SKIP 4 | PASS 1418 ]

══ Skipped tests (4) ═══════════════════════════════════════════════════════════
• Couldn't resolve host name (1): 'testGeneInfo.R:99:5'
• On Bioconductor (2): 'testDiscardLowCoveragePSIs.R:62:5',
  'testGeneInfo.R:50:5'
• On CRAN (1): 'testSRAloading.R:4:5'

[ FAIL 0 | WARN 0 | SKIP 4 | PASS 1418 ]
> 
> proc.time()
   user  system elapsed 
 48.340   3.299  57.907 

Example timings

psichomics.Rcheck/psichomics-Ex.timings

nameusersystemelapsed
addObjectAttrs0.0010.0020.002
assignValuePerSubject0.0360.0210.060
blendColours0.0010.0010.002
calculateLoadingsContribution0.0160.0060.024
convertGeneIdentifiers25.529 2.80438.305
correlateGEandAS0.0380.0110.051
createGroupByAttribute0.0020.0010.003
createJunctionsTemplate0.0040.0020.007
customRowMeans0.0010.0010.003
diffAnalyses0.1720.0210.206
downloadFiles0.0010.0010.001
ensemblToUniprot0.0340.0020.854
filterGeneExpr0.0130.0040.017
filterGroups0.0030.0010.004
filterPSI0.0290.0100.039
getAttributesTime0.0050.0010.006
getDownloadsFolder0.0000.0000.001
getFirebrowseDateFormat0.0010.0010.001
getGeneList0.0050.0020.008
getGtexDataTypes0.0010.0010.002
getGtexTissues0.0000.0010.001
getNumerics0.0040.0020.006
getSampleFromSubject0.0010.0010.003
getSplicingEventFromGenes0.0080.0030.011
getSplicingEventTypes0.0000.0010.001
getSubjectFromSample0.0010.0000.001
getTCGAdataTypes0.0490.0060.305
getValidEvents0.0070.0020.009
groupPerElem0.0010.0010.002
hchart.survfit0.5060.2420.846
isFirebrowseUp0.0100.0010.055
labelBasedOnCutoff0.0010.0010.002
leveneTest0.0160.0010.016
listAllAnnotations4.5610.5336.015
listSplicingAnnotations21.932 2.05126.097
loadAnnotation5.5740.5136.989
loadGtexData0.0000.0010.001
loadLocalFiles0.0010.0000.001
loadSRAproject0.0000.0010.000
loadTCGAdata0.0140.0040.103
missingDataModal0.0010.0010.001
normaliseGeneExpression0.0430.0040.048
optimalSurvivalCutoff0.2570.0050.267
parseCategoricalGroups0.0020.0000.002
parseFirebrowseMetadata0.0680.0110.300
parseMatsEvent0.0110.0030.015
parseMatsGeneric0.0480.0080.055
parseMisoAnnotation0.3070.0250.344
parseMisoEvent0.0080.0020.011
parseMisoEventID0.0120.0040.016
parseMisoGeneric0.0730.0100.084
parseMisoId0.0010.0010.001
parseSplicingEvent0.0100.0060.018
parseSuppaEvent0.0090.0010.010
parseSuppaGeneric0.0440.0060.050
parseTcgaSampleInfo0.0070.0030.010
parseUrlsFromFirebrowseResponse0.0430.0020.210
parseVastToolsEvent0.0140.0000.015
parseVastToolsSE0.0440.0040.048
performICA0.0130.0100.024
performPCA0.0030.0010.004
plot.GEandAScorrelation1.2030.0331.257
plotDistribution1.7160.1732.027
plotGeneExprPerSample0.1770.0730.257
plotGroupIndependence0.3850.0060.443
plotICA0.2920.0250.362
plotLibrarySize0.4830.0760.591
plotPCA0.5720.3081.143
plotPCAvariance0.1120.0690.193
plotProtein1.5070.1532.323
plotRowStats1.0600.0251.111
plotSingleICA0.4590.2220.869
plotSplicingEvent0.1120.0040.121
plotSurvivalCurves0.1720.0720.276
plotSurvivalPvaluesByCutoff1.1960.0941.345
plotTranscripts0.0360.0042.855
prepareAnnotationFromEvents0.4500.0170.478
prepareFirebrowseArchives0.0000.0010.001
prepareJunctionQuantSTAR0.0000.0010.001
prepareSRAmetadata0.0000.0010.001
processSurvTerms0.0190.0020.022
psichomics0.0000.0010.001
quantifySplicing0.0250.0130.041
queryEnsembl0.0570.0100.915
queryEnsemblByGene0.2090.0545.690
queryFirebrowseData0.0670.0040.420
queryPubMed0.0550.0210.662
queryUniprot0.0960.0030.329
readFile0.0020.0010.003
renameDuplicated0.0010.0000.002
renderBoxplot0.1570.0730.239
survdiffTerms0.0130.0020.014
survfit.survTerms0.0380.0020.041
testGroupIndependence0.0060.0010.007
testSurvival0.0350.0020.037
textSuggestions0.0010.0010.002
trimWhitespace0.0010.0010.001