Back to Multiple platform build/check report for BioC 3.20:   simplified   long
ABCDEFGHIJKLMNOPQ[R]STUVWXYZ

This page was generated on 2025-02-03 12:09 -0500 (Mon, 03 Feb 2025).

HostnameOSArch (*)R versionInstalled pkgs
nebbiolo2Linux (Ubuntu 24.04.1 LTS)x86_644.4.2 (2024-10-31) -- "Pile of Leaves" 4746
palomino8Windows Server 2022 Datacenterx644.4.2 (2024-10-31 ucrt) -- "Pile of Leaves" 4494
merida1macOS 12.7.5 Montereyx86_644.4.2 (2024-10-31) -- "Pile of Leaves" 4517
kjohnson1macOS 13.6.6 Venturaarm644.4.2 (2024-10-31) -- "Pile of Leaves" 4469
taishanLinux (openEuler 24.03 LTS)aarch644.4.2 (2024-10-31) -- "Pile of Leaves" 4400
Click on any hostname to see more info about the system (e.g. compilers)      (*) as reported by 'uname -p', except on Windows and Mac OS X

Package 1672/2289HostnameOS / ArchINSTALLBUILDCHECKBUILD BIN
rBiopaxParser 2.46.0  (landing page)
Frank Kramer
Snapshot Date: 2025-01-30 13:00 -0500 (Thu, 30 Jan 2025)
git_url: https://git.bioconductor.org/packages/rBiopaxParser
git_branch: RELEASE_3_20
git_last_commit: cd51b12
git_last_commit_date: 2024-10-29 09:44:31 -0500 (Tue, 29 Oct 2024)
nebbiolo2Linux (Ubuntu 24.04.1 LTS) / x86_64  OK    OK    OK  UNNEEDED, same version is already published
palomino8Windows Server 2022 Datacenter / x64  OK    OK    OK    OK  UNNEEDED, same version is already published
merida1macOS 12.7.5 Monterey / x86_64  OK    OK    OK    OK  UNNEEDED, same version is already published
kjohnson1macOS 13.6.6 Ventura / arm64  OK    OK    OK    OK  UNNEEDED, same version is already published
taishanLinux (openEuler 24.03 LTS) / aarch64  OK    OK    OK  


CHECK results for rBiopaxParser on merida1

To the developers/maintainers of the rBiopaxParser package:
- Allow up to 24 hours (and sometimes 48 hours) for your latest push to git@git.bioconductor.org:packages/rBiopaxParser.git to reflect on this report. See Troubleshooting Build Report for more information.
- Use the following Renviron settings to reproduce errors and warnings.
- If 'R CMD check' started to fail recently on the Linux builder(s) over a missing dependency, add the missing dependency to 'Suggests:' in your DESCRIPTION file. See Renviron.bioc for more information.

raw results


Summary

Package: rBiopaxParser
Version: 2.46.0
Command: /Library/Frameworks/R.framework/Resources/bin/R CMD check --install=check:rBiopaxParser.install-out.txt --library=/Library/Frameworks/R.framework/Resources/library --no-vignettes --timings rBiopaxParser_2.46.0.tar.gz
StartedAt: 2025-01-31 08:38:13 -0500 (Fri, 31 Jan 2025)
EndedAt: 2025-01-31 08:39:56 -0500 (Fri, 31 Jan 2025)
EllapsedTime: 102.5 seconds
RetCode: 0
Status:   OK  
CheckDir: rBiopaxParser.Rcheck
Warnings: 0

Command output

##############################################################################
##############################################################################
###
### Running command:
###
###   /Library/Frameworks/R.framework/Resources/bin/R CMD check --install=check:rBiopaxParser.install-out.txt --library=/Library/Frameworks/R.framework/Resources/library --no-vignettes --timings rBiopaxParser_2.46.0.tar.gz
###
##############################################################################
##############################################################################


* using log directory ‘/Users/biocbuild/bbs-3.20-bioc/meat/rBiopaxParser.Rcheck’
* using R version 4.4.2 (2024-10-31)
* using platform: x86_64-apple-darwin20
* R was compiled by
    Apple clang version 14.0.0 (clang-1400.0.29.202)
    GNU Fortran (GCC) 12.2.0
* running under: macOS Monterey 12.7.6
* using session charset: UTF-8
* using option ‘--no-vignettes’
* checking for file ‘rBiopaxParser/DESCRIPTION’ ... OK
* checking extension type ... Package
* this is package ‘rBiopaxParser’ version ‘2.46.0’
* checking package namespace information ... OK
* checking package dependencies ... OK
* checking if this is a source package ... OK
* checking if there is a namespace ... OK
* checking for hidden files and directories ... OK
* checking for portable file names ... OK
* checking for sufficient/correct file permissions ... OK
* checking whether package ‘rBiopaxParser’ can be installed ... OK
* checking installed package size ... OK
* checking package directory ... OK
* checking ‘build’ directory ... OK
* checking DESCRIPTION meta-information ... OK
* checking top-level files ... OK
* checking for left-over files ... OK
* checking index information ... OK
* checking package subdirectories ... OK
* checking code files for non-ASCII characters ... OK
* checking R files for syntax errors ... OK
* checking whether the package can be loaded ... OK
* checking whether the package can be loaded with stated dependencies ... OK
* checking whether the package can be unloaded cleanly ... OK
* checking whether the namespace can be loaded with stated dependencies ... OK
* checking whether the namespace can be unloaded cleanly ... OK
* checking dependencies in R code ... NOTE
'library' or 'require' calls in package code:
  ‘RBGL’ ‘RCurl’ ‘Rgraphviz’ ‘graph’ ‘igraph’
  Please use :: or requireNamespace() instead.
  See section 'Suggested packages' in the 'Writing R Extensions' manual.
* checking S3 generic/method consistency ... OK
* checking replacement functions ... OK
* checking foreign function calls ... OK
* checking R code for possible problems ... NOTE
addBiopaxInstance: no visible binding for global variable ‘property’
addBiopaxInstances: no visible binding for global variable ‘id’
addBiopaxInstances: no visible binding for global variable ‘property’
addPropertiesToBiopaxInstance: no visible binding for global variable
  ‘property’
colorGraphNodes: no visible global function definition for ‘hcl’
createBiopax: no visible binding for global variable ‘id’
createBiopax: no visible binding for global variable ‘property’
getReferencedIDs: no visible binding for global variable
  ‘property_attr’
getReferencedIDs: no visible binding for global variable ‘property’
getReferencingIDs: no visible binding for global variable
  ‘property_attr’
getReferencingIDs: no visible binding for global variable ‘property’
internal_XMLInstance2DF: no visible binding for global variable ‘i’
internal_XMLInstance2DF: no visible binding for global variable ‘p’
internal_generateXMLfromBiopax: no visible binding for global variable
  ‘id’
internal_getBiopaxModelAsDataFrame: no visible binding for global
  variable ‘property’
internal_propertyListToDF: no visible binding for global variable
  ‘property’
layoutRegulatoryGraph: no visible global function definition for
  ‘nodes’
listInstances: no visible binding for global variable ‘property_value’
listInstances: no visible binding for global variable ‘property’
pathway2AdjacancyMatrix: no visible global function definition for ‘as’
pathway2Graph: no visible global function definition for ‘new’
pathway2Graph: no visible global function definition for ‘getClassDef’
pathway2Graph: no visible binding for global variable ‘id’
pathway2Graph: no visible binding for global variable ‘property’
pathway2RegulatoryGraph: no visible global function definition for
  ‘new’
pathway2RegulatoryGraph: no visible global function definition for
  ‘getClassDef’
pathway2RegulatoryGraph: no visible binding for global variable ‘id’
pathway2RegulatoryGraph: no visible binding for global variable
  ‘property’
plotRegulatoryGraph: no visible global function definition for ‘nodes’
removeDisconnectedParts: no visible global function definition for
  ‘removeNode’
removeNodes: no visible global function definition for ‘edgeWeights’
removeNodes: no visible global function definition for ‘na.omit’
removeNodes: no visible global function definition for ‘removeNode’
removeNodes: no visible global function definition for ‘addEdge’
removeProperties: no visible binding for global variable ‘property’
selectInstances: no visible binding for global variable
  ‘property_value’
Undefined global functions or variables:
  addEdge as edgeWeights getClassDef hcl i id na.omit new nodes p
  property property_attr property_value removeNode
Consider adding
  importFrom("grDevices", "hcl")
  importFrom("methods", "as", "getClassDef", "new")
  importFrom("stats", "na.omit")
to your NAMESPACE file (and ensure that your DESCRIPTION Imports field
contains 'methods').
* checking Rd files ... OK
* checking Rd metadata ... OK
* checking Rd cross-references ... OK
* checking for missing documentation entries ... OK
* checking for code/documentation mismatches ... OK
* checking Rd \usage sections ... OK
* checking Rd contents ... OK
* checking for unstated dependencies in examples ... OK
* checking contents of ‘data’ directory ... OK
* checking data for non-ASCII characters ... NOTE
  Note: found 1 marked UTF-8 string
* checking data for ASCII and uncompressed saves ... OK
* checking sizes of PDF files under ‘inst/doc’ ... OK
* checking files in ‘vignettes’ ... OK
* checking examples ... OK
* checking for unstated dependencies in ‘tests’ ... OK
* checking tests ...
  Running ‘runTests.R’
 OK
* checking for unstated dependencies in vignettes ... OK
* checking package vignettes ... OK
* checking running R code from vignettes ... SKIPPED
* checking re-building of vignette outputs ... SKIPPED
* checking PDF version of manual ... OK
* DONE

Status: 3 NOTEs
See
  ‘/Users/biocbuild/bbs-3.20-bioc/meat/rBiopaxParser.Rcheck/00check.log’
for details.


Installation output

rBiopaxParser.Rcheck/00install.out

##############################################################################
##############################################################################
###
### Running command:
###
###   /Library/Frameworks/R.framework/Resources/bin/R CMD INSTALL rBiopaxParser
###
##############################################################################
##############################################################################


* installing to library ‘/Library/Frameworks/R.framework/Versions/4.4-x86_64/Resources/library’
* installing *source* package ‘rBiopaxParser’ ...
** using staged installation
** R
** data
** inst
** byte-compile and prepare package for lazy loading
** help
*** installing help indices
** building package indices
** installing vignettes
** testing if installed package can be loaded from temporary location
** testing if installed package can be loaded from final location
** testing if installed package keeps a record of temporary installation path
* DONE (rBiopaxParser)

Tests output

rBiopaxParser.Rcheck/tests/runTests.Rout


R version 4.4.2 (2024-10-31) -- "Pile of Leaves"
Copyright (C) 2024 The R Foundation for Statistical Computing
Platform: x86_64-apple-darwin20

R is free software and comes with ABSOLUTELY NO WARRANTY.
You are welcome to redistribute it under certain conditions.
Type 'license()' or 'licence()' for distribution details.

R is a collaborative project with many contributors.
Type 'contributors()' for more information and
'citation()' on how to cite R or R packages in publications.

Type 'demo()' for some demos, 'help()' for on-line help, or
'help.start()' for an HTML browser interface to help.
Type 'q()' to quit R.

> BiocGenerics:::testPackage("rBiopaxParser")


RUNIT TEST PROTOCOL -- Fri Jan 31 08:39:39 2025 
*********************************************** 
Number of test functions: 12 
Number of errors: 0 
Number of failures: 0 

 
1 Test Suite : 
rBiopaxParser RUnit Tests - 12 test functions, 0 errors, 0 failures
Number of test functions: 12 
Number of errors: 0 
Number of failures: 0 
> 
> proc.time()
   user  system elapsed 
  0.911   0.152   1.088 

Example timings

rBiopaxParser.Rcheck/rBiopaxParser-Ex.timings

nameusersystemelapsed
addBiochemicalReaction0.0840.0110.096
addBiopaxInstance0.0190.0010.021
addBiopaxInstances0.0230.0050.029
addControl0.0440.0030.048
addPathway0.0500.0040.054
addPathwayComponents0.0600.0050.065
addPhysicalEntity0.0210.0020.024
addPhysicalEntityParticipant0.0340.0020.036
addPropertiesToBiopaxInstance0.0220.0020.024
biopax0.0420.0130.056
calcGraphOverlap4.2430.1254.642
colorGraphNodes2.5390.0513.498
combineNodes0.0060.0020.010
createBiopax0.0030.0000.009
diffGraphs3.7220.0634.533
downloadBiopaxData000
getClassProperties0.0010.0000.002
getInstanceClass0.0100.0020.012
getInstanceProperty0.0130.0020.016
getReferencedIDs0.0490.0040.052
getReferencingIDs0.0350.0030.039
getSubClasses0.0010.0010.001
getSuperClasses0.0000.0010.001
getXrefAnnotations0.2710.0040.277
hasProperty0.0060.0030.008
intersectGraphs3.4520.0333.542
isOfClass0.0060.0020.007
layoutRegulatoryGraph2.2080.0232.263
listComplexComponents0.0250.0030.027
listInstances0.0400.0140.056
listInteractionComponents0.0370.0040.040
listPathwayComponents0.0370.0090.047
listPathways0.0160.0030.019
pathway2AdjacancyMatrix1.9250.0281.976
pathway2Geneset0.8430.0160.880
pathway2Graph1.9980.0571.982
pathway2RegulatoryGraph2.3810.0252.515
plotRegulatoryGraph2.0990.0382.275
print.biopax0.0160.0060.023
rBiopaxParser-package0.0000.0000.002
readBiopax0.0050.0020.009
removeInstance0.0070.0030.009
removeNodes2.2440.0312.463
removeProperties0.0080.0030.012
selectInstances0.0380.0070.049
splitComplex0.0660.0050.075
transitiveClosure1.9640.0332.115
transitiveReduction1.9560.0322.117
uniteGraphs3.6750.0824.079
writeBiopax0.0020.0030.005