Back to Multiple platform build/check report for BioC 3.20: simplified long |
|
This page was generated on 2025-02-06 12:12 -0500 (Thu, 06 Feb 2025).
Hostname | OS | Arch (*) | R version | Installed pkgs |
---|---|---|---|---|
nebbiolo2 | Linux (Ubuntu 24.04.1 LTS) | x86_64 | 4.4.2 (2024-10-31) -- "Pile of Leaves" | 4753 |
palomino8 | Windows Server 2022 Datacenter | x64 | 4.4.2 (2024-10-31 ucrt) -- "Pile of Leaves" | 4501 |
merida1 | macOS 12.7.5 Monterey | x86_64 | 4.4.2 (2024-10-31) -- "Pile of Leaves" | 4524 |
kjohnson1 | macOS 13.6.6 Ventura | arm64 | 4.4.2 (2024-10-31) -- "Pile of Leaves" | 4476 |
taishan | Linux (openEuler 24.03 LTS) | aarch64 | 4.4.2 (2024-10-31) -- "Pile of Leaves" | 4407 |
Click on any hostname to see more info about the system (e.g. compilers) (*) as reported by 'uname -p', except on Windows and Mac OS X |
Package 1838/2289 | Hostname | OS / Arch | INSTALL | BUILD | CHECK | BUILD BIN | ||||||||
sangeranalyseR 1.16.0 (landing page) Kuan-Hao Chao
| nebbiolo2 | Linux (Ubuntu 24.04.1 LTS) / x86_64 | OK | OK | WARNINGS | ![]() | ||||||||
palomino8 | Windows Server 2022 Datacenter / x64 | OK | OK | WARNINGS | OK | ![]() | ||||||||
merida1 | macOS 12.7.5 Monterey / x86_64 | OK | OK | WARNINGS | NA | |||||||||
kjohnson1 | macOS 13.6.6 Ventura / arm64 | OK | OK | WARNINGS | OK | ![]() | ||||||||
taishan | Linux (openEuler 24.03 LTS) / aarch64 | OK | OK | WARNINGS | ||||||||||
To the developers/maintainers of the sangeranalyseR package: - Allow up to 24 hours (and sometimes 48 hours) for your latest push to git@git.bioconductor.org:packages/sangeranalyseR.git to reflect on this report. See Troubleshooting Build Report for more information. - Use the following Renviron settings to reproduce errors and warnings. - If 'R CMD check' started to fail recently on the Linux builder(s) over a missing dependency, add the missing dependency to 'Suggests:' in your DESCRIPTION file. See Renviron.bioc for more information. - See Martin Grigorov's blog post for how to debug Linux ARM64 related issues on a x86_64 host. |
Package: sangeranalyseR |
Version: 1.16.0 |
Command: /home/biocbuild/R/R/bin/R CMD build --keep-empty-dirs --no-resave-data sangeranalyseR |
StartedAt: 2025-02-04 02:32:40 -0000 (Tue, 04 Feb 2025) |
EndedAt: 2025-02-04 02:33:33 -0000 (Tue, 04 Feb 2025) |
EllapsedTime: 53.1 seconds |
RetCode: 0 |
Status: OK |
PackageFile: sangeranalyseR_1.16.0.tar.gz |
PackageFileSize: 38.22 MiB |
############################################################################## ############################################################################## ### ### Running command: ### ### /home/biocbuild/R/R/bin/R CMD build --keep-empty-dirs --no-resave-data sangeranalyseR ### ############################################################################## ############################################################################## * checking for file ‘sangeranalyseR/DESCRIPTION’ ... OK * preparing ‘sangeranalyseR’: * checking DESCRIPTION meta-information ... OK * installing the package to build vignettes * creating vignettes ... OK * checking for LF line-endings in source and make files and shell scripts * checking for empty or unneeded directories * looking to see if a ‘data/datalist’ file should be added * building ‘sangeranalyseR_1.16.0.tar.gz’ Warning in utils::tar(filepath, pkgname, compression = compression, compression_level = 9L, : storing paths of more than 100 bytes is not portable: ‘sangeranalyseR/docs/build/html/_downloads/081987116457968e1b81ae1616525c7d/Sanger_contigs_unalignment.fa’ Warning in utils::tar(filepath, pkgname, compression = compression, compression_level = 9L, : storing paths of more than 100 bytes is not portable: ‘sangeranalyseR/docs/build/html/_downloads/13b875bc704f73b8bd67dc07d86fc474/Sanger_contigs_alignment.fa’ Warning in utils::tar(filepath, pkgname, compression = compression, compression_level = 9L, : storing paths of more than 100 bytes is not portable: ‘sangeranalyseR/docs/build/html/_downloads/144d09562ae5b2c7dc079e4bc2b33fb7/Sanger_contigs_alignment.fa’ Warning in utils::tar(filepath, pkgname, compression = compression, compression_level = 9L, : storing paths of more than 100 bytes is not portable: ‘sangeranalyseR/docs/build/html/_downloads/165af37e8893cfdfa4dba91c44cd791b/Sanger_contigs_unalignment.fa’ Warning in utils::tar(filepath, pkgname, compression = compression, compression_level = 9L, : storing paths of more than 100 bytes is not portable: ‘sangeranalyseR/docs/build/html/_downloads/345ac400befc4f176c75732770ec3fcb/Achl_RBNII384-13_contig.fa’ Warning in utils::tar(filepath, pkgname, compression = compression, compression_level = 9L, : storing paths of more than 100 bytes is not portable: ‘sangeranalyseR/docs/build/html/_downloads/438c8bd47d93d92c65b35b613ef14739/Sanger_all_trimmed_reads.fa’ Warning in utils::tar(filepath, pkgname, compression = compression, compression_level = 9L, : storing paths of more than 100 bytes is not portable: ‘sangeranalyseR/docs/build/html/_downloads/6211ea1e7e3ccc1fcc9b74b78224eab6/Achl_ACHLO006-09_reads_unalignment.fa’ Warning in utils::tar(filepath, pkgname, compression = compression, compression_level = 9L, : storing paths of more than 100 bytes is not portable: ‘sangeranalyseR/docs/build/html/_downloads/67bcad64cca804ec2e14cc42d016c08f/Achl_ACHLO006-09_reads_alignment.fa’ Warning in utils::tar(filepath, pkgname, compression = compression, compression_level = 9L, : storing paths of more than 100 bytes is not portable: ‘sangeranalyseR/docs/build/html/_downloads/81a7338101f110748cb72056d9975225/Sanger_all_trimmed_reads.fa’ Warning in utils::tar(filepath, pkgname, compression = compression, compression_level = 9L, : storing paths of more than 100 bytes is not portable: ‘sangeranalyseR/docs/build/html/_downloads/95ef9378c1407481d69c3bf882a580bb/Achl_RBNII384-13_reads_unalignment.fa’ Warning in utils::tar(filepath, pkgname, compression = compression, compression_level = 9L, : storing paths of more than 100 bytes is not portable: ‘sangeranalyseR/docs/build/html/_downloads/a664bed9cc5d32924dc2ce60f8c60554/Sanger_all_trimmed_reads.fa’ Warning in utils::tar(filepath, pkgname, compression = compression, compression_level = 9L, : storing paths of more than 100 bytes is not portable: ‘sangeranalyseR/docs/build/html/_downloads/b608796fffaaa7335a7341cffc9a9db7/Achl_ACHLO006-09_contig.fa’ Warning in utils::tar(filepath, pkgname, compression = compression, compression_level = 9L, : storing paths of more than 100 bytes is not portable: ‘sangeranalyseR/docs/build/html/_downloads/b6b18aa3e34c6ae0be86c3940972dd38/Sanger_contigs_alignment.fa’ Warning in utils::tar(filepath, pkgname, compression = compression, compression_level = 9L, : storing paths of more than 100 bytes is not portable: ‘sangeranalyseR/docs/build/html/_downloads/eeb554b575ee5b29ef733dafbf876c36/Achl_RBNII384-13_reads_alignment.fa’ Warning in utils::tar(filepath, pkgname, compression = compression, compression_level = 9L, : storing paths of more than 100 bytes is not portable: ‘sangeranalyseR/docs/build/html/_downloads/fef71e7b2e1e49c01df301435e972047/Sanger_contigs_unalignment.fa’